BEGIN:VCALENDAR
VERSION:2.0
PRODID:-//Marketing.com.au - ECPv6.15.20//NONSGML v1.0//EN
CALSCALE:GREGORIAN
METHOD:PUBLISH
X-ORIGINAL-URL:https://marketing.com.au
X-WR-CALDESC:Events for Marketing.com.au
REFRESH-INTERVAL;VALUE=DURATION:PT1H
X-Robots-Tag:noindex
X-PUBLISHED-TTL:PT1H
BEGIN:VTIMEZONE
TZID:Australia/Melbourne
BEGIN:STANDARD
TZOFFSETFROM:+1100
TZOFFSETTO:+1000
TZNAME:AEST
DTSTART:20140405T160000
END:STANDARD
BEGIN:DAYLIGHT
TZOFFSETFROM:+1000
TZOFFSETTO:+1100
TZNAME:AEDT
DTSTART:20141004T160000
END:DAYLIGHT
BEGIN:STANDARD
TZOFFSETFROM:+1100
TZOFFSETTO:+1000
TZNAME:AEST
DTSTART:20150404T160000
END:STANDARD
BEGIN:DAYLIGHT
TZOFFSETFROM:+1000
TZOFFSETTO:+1100
TZNAME:AEDT
DTSTART:20151003T160000
END:DAYLIGHT
BEGIN:STANDARD
TZOFFSETFROM:+1100
TZOFFSETTO:+1000
TZNAME:AEST
DTSTART:20160402T160000
END:STANDARD
BEGIN:DAYLIGHT
TZOFFSETFROM:+1000
TZOFFSETTO:+1100
TZNAME:AEDT
DTSTART:20161001T160000
END:DAYLIGHT
END:VTIMEZONE
BEGIN:VEVENT
DTSTART;TZID=Australia/Melbourne:20150129T053000
DTEND;TZID=Australia/Melbourne:20150129T193000
DTSTAMP:20260423T205345
CREATED:20150116T040525Z
LAST-MODIFIED:20150116T040525Z
UID:6342-1422509400-1422559800@marketing.com.au
SUMMARY:Strategy Season Seminar
DESCRIPTION:Does your 2015 digital strategy match your business goals? A new year is the perfect time to evaluate where you’re at\, and make sure that you’re setting your business up for success. \nStrategy can be forgotten when companies are deploying a website or embarking on a social media programme\, but this can lead to false expectations. Join bwired’s Campbell Wilson as he walks you through vital points relating to strategy\, and making digital work for you this year. \nStrategy areas that will be explored during the seminar are: \n\nStakeholder Review\nCompetitive Analysis\nExisting Site Review\nAnalytics\n\nCome join us for an afternoon drink and nibbles at Jasper Hotel in the heart of Melbourne City. \n 
URL:https://marketing.com.au/event/strategy-season-seminar/
LOCATION:Jasper Hotel\, 489 Elizabeth Street\, Melbourne\, Victoria\, 3000\, Australia
CATEGORIES:All Event Locations,All Event Topics,All Event Types,Digital Marketing,Melbourne,Workshop
END:VEVENT
END:VCALENDAR