BEGIN:VCALENDAR
VERSION:2.0
PRODID:-//Marketing.com.au - ECPv6.15.20//NONSGML v1.0//EN
CALSCALE:GREGORIAN
METHOD:PUBLISH
X-WR-CALNAME:Marketing.com.au
X-ORIGINAL-URL:https://marketing.com.au
X-WR-CALDESC:Events for Marketing.com.au
REFRESH-INTERVAL;VALUE=DURATION:PT1H
X-Robots-Tag:noindex
X-PUBLISHED-TTL:PT1H
BEGIN:VTIMEZONE
TZID:Australia/Melbourne
BEGIN:STANDARD
TZOFFSETFROM:+1100
TZOFFSETTO:+1000
TZNAME:AEST
DTSTART:20140405T160000
END:STANDARD
BEGIN:DAYLIGHT
TZOFFSETFROM:+1000
TZOFFSETTO:+1100
TZNAME:AEDT
DTSTART:20141004T160000
END:DAYLIGHT
BEGIN:STANDARD
TZOFFSETFROM:+1100
TZOFFSETTO:+1000
TZNAME:AEST
DTSTART:20150404T160000
END:STANDARD
BEGIN:DAYLIGHT
TZOFFSETFROM:+1000
TZOFFSETTO:+1100
TZNAME:AEDT
DTSTART:20151003T160000
END:DAYLIGHT
BEGIN:STANDARD
TZOFFSETFROM:+1100
TZOFFSETTO:+1000
TZNAME:AEST
DTSTART:20160402T160000
END:STANDARD
BEGIN:DAYLIGHT
TZOFFSETFROM:+1000
TZOFFSETTO:+1100
TZNAME:AEDT
DTSTART:20161001T160000
END:DAYLIGHT
END:VTIMEZONE
BEGIN:VEVENT
DTSTART;TZID=Australia/Melbourne:20150730T080000
DTEND;TZID=Australia/Melbourne:20150730T130000
DTSTAMP:20260425T222524
CREATED:20150611T044412Z
LAST-MODIFIED:20150611T044412Z
UID:6803-1438243200-1438261200@marketing.com.au
SUMMARY:Video and content marketing: Gaining and measuring customer mindshare (NSW)
DESCRIPTION:Video and content marketing: Gaining and measuring customer mindshare (NSW) | Half Day Forum \nIf you’re not using online video – to create attention\, increase engagement\, and measure your digital performance – you’re missing out.
URL:https://marketing.com.au/event/video-and-content-marketing-gaining-and-measuring-customer-mindshare-nsw/
LOCATION:Teachers Federation Conference Centre\, 37 Reservoir Street\, Surry Hills\, NSW\, 2010\, Australia
CATEGORIES:Advertising,All Event Locations,All Event Topics,All Event Types,Content Marketing,Digital Marketing,Presentation,Social Media,Sydney,Workshop
ORGANIZER;CN="AIMIA":MAILTO:info(at)aimia.com.au 
END:VEVENT
END:VCALENDAR