BEGIN:VCALENDAR
VERSION:2.0
PRODID:-//Marketing.com.au - ECPv6.15.20//NONSGML v1.0//EN
CALSCALE:GREGORIAN
METHOD:PUBLISH
X-WR-CALNAME:Marketing.com.au
X-ORIGINAL-URL:https://marketing.com.au
X-WR-CALDESC:Events for Marketing.com.au
REFRESH-INTERVAL;VALUE=DURATION:PT1H
X-Robots-Tag:noindex
X-PUBLISHED-TTL:PT1H
BEGIN:VTIMEZONE
TZID:Australia/Melbourne
BEGIN:STANDARD
TZOFFSETFROM:+1100
TZOFFSETTO:+1000
TZNAME:AEST
DTSTART:20180331T160000
END:STANDARD
BEGIN:DAYLIGHT
TZOFFSETFROM:+1000
TZOFFSETTO:+1100
TZNAME:AEDT
DTSTART:20181006T160000
END:DAYLIGHT
BEGIN:STANDARD
TZOFFSETFROM:+1100
TZOFFSETTO:+1000
TZNAME:AEST
DTSTART:20190406T160000
END:STANDARD
BEGIN:DAYLIGHT
TZOFFSETFROM:+1000
TZOFFSETTO:+1100
TZNAME:AEDT
DTSTART:20191005T160000
END:DAYLIGHT
BEGIN:STANDARD
TZOFFSETFROM:+1100
TZOFFSETTO:+1000
TZNAME:AEST
DTSTART:20200404T160000
END:STANDARD
BEGIN:DAYLIGHT
TZOFFSETFROM:+1000
TZOFFSETTO:+1100
TZNAME:AEDT
DTSTART:20201003T160000
END:DAYLIGHT
END:VTIMEZONE
BEGIN:VEVENT
DTSTART;VALUE=DATE:20191022
DTEND;VALUE=DATE:20191024
DTSTAMP:20260420T114120
CREATED:20190922T032751Z
LAST-MODIFIED:20191020T054415Z
UID:14220-1571702400-1571875199@marketing.com.au
SUMMARY:StartCon 2019
DESCRIPTION:For startups\, entrepreneurs\, investors\, marketers\, and corporate innovation teams. \nAustralia’s largest startup and growth conference is the cornerstone event for the community. \nNow in it’s 10th year\, StartCon has gone from strength to strength\, selling out nine years in row and delivering exceptional value. \nGet actionable insights from the world’s best to help accelerate your company through highly-measurable growth and marketing tactics. \nThe two-day conference will feature world-famous keynote speakers from some of the largest companies in the world\, 750+ startups\, 160+ expo floor\, networking events\, Pitch for $1 Million competition & hackathon.
URL:https://marketing.com.au/event/startcon-2019-2/
LOCATION:Royal Randwick Racecourse\, The Ballroom\, Level 2\, Alison Road\, Randwick\, NSW\, 2031\, Australia
CATEGORIES:All Event Locations,All Event Topics,All Event Types,Sydney
END:VEVENT
END:VCALENDAR