BEGIN:VCALENDAR
VERSION:2.0
PRODID:-//Marketing.com.au - ECPv6.15.20//NONSGML v1.0//EN
CALSCALE:GREGORIAN
METHOD:PUBLISH
X-WR-CALNAME:Marketing.com.au
X-ORIGINAL-URL:https://marketing.com.au
X-WR-CALDESC:Events for Marketing.com.au
REFRESH-INTERVAL;VALUE=DURATION:PT1H
X-Robots-Tag:noindex
X-PUBLISHED-TTL:PT1H
BEGIN:VTIMEZONE
TZID:Australia/Melbourne
BEGIN:STANDARD
TZOFFSETFROM:+1100
TZOFFSETTO:+1000
TZNAME:AEST
DTSTART:20140405T160000
END:STANDARD
BEGIN:DAYLIGHT
TZOFFSETFROM:+1000
TZOFFSETTO:+1100
TZNAME:AEDT
DTSTART:20141004T160000
END:DAYLIGHT
BEGIN:STANDARD
TZOFFSETFROM:+1100
TZOFFSETTO:+1000
TZNAME:AEST
DTSTART:20150404T160000
END:STANDARD
BEGIN:DAYLIGHT
TZOFFSETFROM:+1000
TZOFFSETTO:+1100
TZNAME:AEDT
DTSTART:20151003T160000
END:DAYLIGHT
BEGIN:STANDARD
TZOFFSETFROM:+1100
TZOFFSETTO:+1000
TZNAME:AEST
DTSTART:20160402T160000
END:STANDARD
BEGIN:DAYLIGHT
TZOFFSETFROM:+1000
TZOFFSETTO:+1100
TZNAME:AEDT
DTSTART:20161001T160000
END:DAYLIGHT
END:VTIMEZONE
BEGIN:VEVENT
DTSTART;VALUE=DATE:20150902
DTEND;VALUE=DATE:20150904
DTSTAMP:20260423T114403
CREATED:20150827T064321Z
LAST-MODIFIED:20150827T064321Z
UID:7035-1441152000-1441324799@marketing.com.au
SUMMARY:Swarm 2015
DESCRIPTION:Swarm 2015 is Australia’s only online community management conference that will connect established experts and new talent together over two days. This event will be a collaboration of ideas\, keynote speakers\, open discussion forums\, networking\, best practices and inspiration packed into two days at the University of Sydney. Swarm brings together professionals from various walks of life\, with a focus on improving business community management and customer loyalty.
URL:https://marketing.com.au/event/swarm-2015/
LOCATION:The University of Sydney\, Law Foyer\, Level 2\, New Law Building F10   Eastern Avenue\, Camperdown Campus\, NSW\, 2006\, Australia
CATEGORIES:Advertising,All Event Locations,All Event Topics,All Event Types,Conference,Digital Marketing,Market Research,Marketing,Public Relations,Social Media,Sydney
ORGANIZER;CN="Media@Sydney":MAILTO:benedetta.brevini(at)sydney.edu.au
END:VEVENT
BEGIN:VEVENT
DTSTART;VALUE=DATE:20150909
DTEND;VALUE=DATE:20150910
DTSTAMP:20260423T114403
CREATED:20150827T065838Z
LAST-MODIFIED:20150827T065838Z
UID:7038-1441756800-1441843199@marketing.com.au
SUMMARY:Boost Your Business Marketing In One Day
DESCRIPTION:Boost Your Business Marketing In One Day is a event that will cover all areas of marketing\, including digital\, creative\, public relations\, social media\, organic search and optimization and design. Presented by Simon Dell\, Director of TwoCents Marketing Agency\, Simon also encourages participants to bring any marketing collateral from your business to sit down with you and discuss potential improvements.
URL:https://marketing.com.au/event/boost-your-business-marketing-in-one-day/
LOCATION:Mercure Brisbane\, 85-87 North Quay\, Brisbane\, QLD\, 4000\, Australia
CATEGORIES:Advertising,All Event Locations,All Event Topics,All Event Types,Brisbane,Content Marketing,Digital Marketing,Market Research,Marketing,Social Media,Workshop
ORGANIZER;CN="TwoCents":MAILTO:info(at)twocentsgroup.com.au
END:VEVENT
BEGIN:VEVENT
DTSTART;VALUE=DATE:20150910
DTEND;VALUE=DATE:20150912
DTSTAMP:20260423T114403
CREATED:20150610T114944Z
LAST-MODIFIED:20150610T114944Z
UID:6797-1441843200-1442015999@marketing.com.au
SUMMARY:2015 Analytics Conference – Melbourne
DESCRIPTION:Learn the latest techniques and trends from industry leaders at the Annual Google Analytics User Conference.
URL:https://marketing.com.au/event/2015-analytics-conference-melbourne/
LOCATION:Melbourne Convention Exhibition Centre\, 1 Convention Centre Place\, South Wharf \, Melbourne\, VIC\, 3006\, Australia
CATEGORIES:All Event Locations,All Event Topics,All Event Types,Conference,Digital Marketing,Market Research,Melbourne,SEO,Social Media
ORGANIZER;CN="Loves Data":MAILTO:info(at)lovesdata.com
END:VEVENT
BEGIN:VEVENT
DTSTART;TZID=Australia/Melbourne:20150914T130000
DTEND;TZID=Australia/Melbourne:20150914T190000
DTSTAMP:20260423T114403
CREATED:20150909T075439Z
LAST-MODIFIED:20150909T075439Z
UID:7086-1442235600-1442257200@marketing.com.au
SUMMARY:ONE: Teradata Marketing Connect - Sydney
DESCRIPTION:ONE: Teradata Marketing Connect is an afternoon event that will bring experienced local and international speakers together to inspire marketers and deliver relevant networking opportunities. Along side the international and local speakers\, there will be key insights and learning opportunities for all marketers in attendance.
URL:https://marketing.com.au/event/one-teradata-marketing-connect-sydney/
LOCATION:ACMI\, Federation Square\, Flinders St\, Melbourne\, VIC\, 3000\, Australia
CATEGORIES:Advertising,All Event Locations,All Event Topics,All Event Types,Conference,Content Marketing,Digital Marketing,Market Research,Marketing,SEO,Social Media,Sydney,Workshop
END:VEVENT
BEGIN:VEVENT
DTSTART;VALUE=DATE:20150918
DTEND;VALUE=DATE:20150919
DTSTAMP:20260423T114403
CREATED:20150812T104450Z
LAST-MODIFIED:20150812T104450Z
UID:6978-1442534400-1442620799@marketing.com.au
SUMMARY:Humanity in Marketing & Media Summit
DESCRIPTION:Humanity in Marketing & Media Summit is a event showcasing the new paradigm of leadership that is aiming to create true\, authentic customer centric brands in an effort to build trusting relationships with customers through quality products and services. \nA panel of expert speakers from high profile thought leaders such as Michael Kirsten- Kelly Services\, Tyrone O’Neill- Optus\, David Scribner- Virgin Mobile and more. \n 
URL:https://marketing.com.au/event/humanity-in-marketing-media-summit/
LOCATION:Doltone House\, 26-32 Pirrama Rd\, Pyrmont\, NSW\, 2009\, Australia
CATEGORIES:Advertising,All Event Locations,All Event Topics,All Event Types,Conference,Content Marketing,Digital Marketing,Market Research,Marketing,Presentation,Public Relations,Sydney
END:VEVENT
BEGIN:VEVENT
DTSTART;VALUE=DATE:20150923
DTEND;VALUE=DATE:20150924
DTSTAMP:20260423T114403
CREATED:20150908T055224Z
LAST-MODIFIED:20201002T051503Z
UID:7058-1442966400-1443052799@marketing.com.au
SUMMARY:Online Marketing Conference in Sydney
DESCRIPTION:This is a full day of actionable and comprehensive sessions focusing on paid search\, SEO\, social\, content marketing\, email marketing and Google Analytics being held in Sydney. \nThis is an advanced online marketing conference that will cover topics including: \nDigital Marketing Strategy in Modern Competitive Landscape\nSearch Engine Marketing on Google: PPC Adwords\, Display & Retargeting\nTechnical SEO and Local Search\nContent Marketing and Link Building\nSocial Media Marketing: Facebook\, Twitter\, Instagram\, Pinterest\, Linkedin\nEmail & Marketing Automation – Best Practice and Lead Nurturing Campaigns\nGoogle Analytics: Tracking\, Goal and Event Setup and Tag Manager
URL:https://marketing.com.au/event/online-marketing-conference-in-sydney-2/
LOCATION:Rydges Sydney Central\, 28 Albion Street\, Surry Hills\, NSW\, 2010\, Australia
CATEGORIES:All Event Locations,All Event Topics,All Event Types,Conference,Content Marketing,Digital Marketing,Market Research,Marketing,SEO,Social Media,Sydney
ORGANIZER;CN="Prosperity Media":MAILTO:james(at)prosperitymedia.com.au
END:VEVENT
BEGIN:VEVENT
DTSTART;VALUE=DATE:20150924
DTEND;VALUE=DATE:20150925
DTSTAMP:20260423T114403
CREATED:20150908T042706Z
LAST-MODIFIED:20150908T042706Z
UID:7051-1443052800-1443139199@marketing.com.au
SUMMARY:The Gamification Game
DESCRIPTION:Everyone’s talking Gamification\, but are you doing anything about it? This free seminar will be delivered by 3RD SENSE CEO\, Colin Cardwell\, who has been involved with Games and Gamification for 20 yrs
URL:https://marketing.com.au/event/the-gamification-game/
LOCATION:Fraser Suites Sydney\, 488 Kent St\, Sydney\, NSW\, 2000\, Australia
CATEGORIES:All Event Locations,All Event Topics,All Event Types,Digital Marketing,Market Research,Public Relations,Social Media,Sydney,Workshop
ORGANIZER;CN="3rd Sense":MAILTO:commercial(at)3rdsense.com
END:VEVENT
BEGIN:VEVENT
DTSTART;TZID=Australia/Melbourne:20150924T080000
DTEND;TZID=Australia/Melbourne:20150924T170000
DTSTAMP:20260423T114403
CREATED:20150828T053819Z
LAST-MODIFIED:20150828T053819Z
UID:7041-1443081600-1443114000@marketing.com.au
SUMMARY:Rakuten Marketing Symposium Sydney
DESCRIPTION:The Rakuten Marketing Symposium Sydney event is a gathering place for performance market leaders to build online initiatives and create new business relationships. The event will be a great place for inspiration and networking for all attendees as well as providing strategic advice and opportunities for marketers to help grow their business.
URL:https://marketing.com.au/event/rakuten-marketing-symposium-sydney/
LOCATION:Doltone House\, 26-32 Pirrama Rd\, Pyrmont\, NSW\, 2009\, Australia
CATEGORIES:Advertising,All Event Locations,All Event Topics,All Event Types,Conference,Content Marketing,Digital Marketing,Market Research,Marketing,Public Relations,Social Media,Sydney
ORGANIZER;CN="Rakuten Marketing":MAILTO:events(at)mail.rakuten.com
END:VEVENT
END:VCALENDAR