BEGIN:VCALENDAR
VERSION:2.0
PRODID:-//Marketing.com.au - ECPv6.15.20//NONSGML v1.0//EN
CALSCALE:GREGORIAN
METHOD:PUBLISH
X-WR-CALNAME:Marketing.com.au
X-ORIGINAL-URL:https://marketing.com.au
X-WR-CALDESC:Events for Marketing.com.au
REFRESH-INTERVAL;VALUE=DURATION:PT1H
X-Robots-Tag:noindex
X-PUBLISHED-TTL:PT1H
BEGIN:VTIMEZONE
TZID:Australia/Melbourne
BEGIN:STANDARD
TZOFFSETFROM:+1100
TZOFFSETTO:+1000
TZNAME:AEST
DTSTART:20140405T160000
END:STANDARD
BEGIN:DAYLIGHT
TZOFFSETFROM:+1000
TZOFFSETTO:+1100
TZNAME:AEDT
DTSTART:20141004T160000
END:DAYLIGHT
BEGIN:STANDARD
TZOFFSETFROM:+1100
TZOFFSETTO:+1000
TZNAME:AEST
DTSTART:20150404T160000
END:STANDARD
BEGIN:DAYLIGHT
TZOFFSETFROM:+1000
TZOFFSETTO:+1100
TZNAME:AEDT
DTSTART:20151003T160000
END:DAYLIGHT
BEGIN:STANDARD
TZOFFSETFROM:+1100
TZOFFSETTO:+1000
TZNAME:AEST
DTSTART:20160402T160000
END:STANDARD
BEGIN:DAYLIGHT
TZOFFSETFROM:+1000
TZOFFSETTO:+1100
TZNAME:AEDT
DTSTART:20161001T160000
END:DAYLIGHT
END:VTIMEZONE
BEGIN:VEVENT
DTSTART;VALUE=DATE:20150804
DTEND;VALUE=DATE:20150805
DTSTAMP:20260423T213528
CREATED:20150611T050826Z
LAST-MODIFIED:20150611T050826Z
UID:6807-1438646400-1438732799@marketing.com.au
SUMMARY:Digital Summit Brisbane 2015
DESCRIPTION:Join us for a full day of inspiration\, as we hear from local and international Digital Marketing experts who will share their strategic insights\, methods and practical advice.
URL:https://marketing.com.au/event/digital-summit-brisbane-2015/
LOCATION:Sofitel Brisbane\, 249 Turbot Street\, Brisbane\, QLD\, 4000\, Australia
CATEGORIES:Advertising,All Event Locations,All Event Topics,All Event Types,Brisbane,Conference,Content Marketing,Digital Marketing,Market Research,Marketing,SEO,Social Media
ORGANIZER;CN="Interactive Minds":MAILTO:louisa(at)interactiveminds.com.au
END:VEVENT
BEGIN:VEVENT
DTSTART;VALUE=DATE:20150804
DTEND;VALUE=DATE:20150806
DTSTAMP:20260423T213528
CREATED:20150519T061253Z
LAST-MODIFIED:20201002T051306Z
UID:6752-1438646400-1438819199@marketing.com.au
SUMMARY:ADMA Global Forum
DESCRIPTION:The annual two day marketing & advertising conference that brings together the industries’ global leaders who are changing today’s world of data-driven marketing and advertising. \nTo express your interest in attending ADMA Global Forum – Marketing & Advertising Conference\, please follow the event website link below to register and receive the program details once confirmed.
URL:https://marketing.com.au/event/adma-global-forum/
LOCATION:Hilton Sydney\, 488 Georges Street\, Sydney\, New South Wales\, 2000\, Australia
CATEGORIES:Advertising,All Event Locations,All Event Topics,All Event Types,Conference,Content Marketing,Digital Marketing,Marketing,Social Media,Sydney
END:VEVENT
BEGIN:VEVENT
DTSTART;VALUE=DATE:20150806
DTEND;VALUE=DATE:20150807
DTSTAMP:20260423T213528
CREATED:20150519T063257Z
LAST-MODIFIED:20150519T063257Z
UID:6754-1438819200-1438905599@marketing.com.au
SUMMARY:Creative Fuel
DESCRIPTION:This one day event will feature discussion on advertising\, art\, film-making\, content production\, social media and what practices have been proven to deliver the best creative thinking. It will be a day full of ideas that have helped create inspiration and creativity for many creative people. \nTo express your interest in attending Creative Fuel\, please follow the website link below to register and you will receive the program details once confirmed.
URL:https://marketing.com.au/event/creative-fuel/
CATEGORIES:Advertising,All Event Locations,All Event Topics,All Event Types,Conference,Graphic Design,Presentation,Social Media,Sydney
END:VEVENT
BEGIN:VEVENT
DTSTART;TZID=Australia/Melbourne:20150812T073000
DTEND;TZID=Australia/Melbourne:20150812T090000
DTSTAMP:20260423T213528
CREATED:20150721T122041Z
LAST-MODIFIED:20150721T122041Z
UID:6944-1439364600-1439370000@marketing.com.au
SUMMARY:The Evolution of Marketing Breakfast
DESCRIPTION:The Evolution of Marketing Breakfast event at RMIT will bring together 3 inspiring thought leaders in a panel format to discuss specific areas of content marketing\, digital and marketing automation to highlight how an digital marketing strategy can help grow your business.
URL:https://marketing.com.au/event/the-evolution-of-marketing-breakfast/
LOCATION:RMIT – Green Brain Room\, 445 Swanston Street\, Melbourne\, VIC\, 3000\, Australia
CATEGORIES:Advertising,All Event Locations,All Event Topics,All Event Types,Content Marketing,Digital Marketing,Market Research,Marketing,Melbourne,Social Media,Workshop
END:VEVENT
BEGIN:VEVENT
DTSTART;VALUE=DATE:20150826
DTEND;VALUE=DATE:20150827
DTSTAMP:20260423T213528
CREATED:20150610T114123Z
LAST-MODIFIED:20150610T114123Z
UID:6795-1440547200-1440633599@marketing.com.au
SUMMARY:Digital Summit Melbourne 2015
DESCRIPTION:Join us for a full day of inspiration\, as we hear from local and international Digital Marketing experts who will share their strategic insights\, methods and practical advice.
URL:https://marketing.com.au/event/digital-summit-melbourne-2015/
LOCATION:Unnamed Venue\, 161 Harbour Esplanade\, Docklands Melbourne\, VIC\, 3008\, Australia
CATEGORIES:All Event Locations,All Event Topics,All Event Types,Conference,Content Marketing,Digital Marketing,Marketing,Melbourne,Social Media
ORGANIZER;CN="Interactive Minds":MAILTO:louisa(at)interactiveminds.com.au
END:VEVENT
END:VCALENDAR