BEGIN:VCALENDAR
VERSION:2.0
PRODID:-//Marketing.com.au - ECPv6.15.20//NONSGML v1.0//EN
CALSCALE:GREGORIAN
METHOD:PUBLISH
X-WR-CALNAME:Marketing.com.au
X-ORIGINAL-URL:https://marketing.com.au
X-WR-CALDESC:Events for Marketing.com.au
REFRESH-INTERVAL;VALUE=DURATION:PT1H
X-Robots-Tag:noindex
X-PUBLISHED-TTL:PT1H
BEGIN:VTIMEZONE
TZID:Australia/Melbourne
BEGIN:STANDARD
TZOFFSETFROM:+1100
TZOFFSETTO:+1000
TZNAME:AEST
DTSTART:20140405T160000
END:STANDARD
BEGIN:DAYLIGHT
TZOFFSETFROM:+1000
TZOFFSETTO:+1100
TZNAME:AEDT
DTSTART:20141004T160000
END:DAYLIGHT
BEGIN:STANDARD
TZOFFSETFROM:+1100
TZOFFSETTO:+1000
TZNAME:AEST
DTSTART:20150404T160000
END:STANDARD
BEGIN:DAYLIGHT
TZOFFSETFROM:+1000
TZOFFSETTO:+1100
TZNAME:AEDT
DTSTART:20151003T160000
END:DAYLIGHT
BEGIN:STANDARD
TZOFFSETFROM:+1100
TZOFFSETTO:+1000
TZNAME:AEST
DTSTART:20160402T160000
END:STANDARD
BEGIN:DAYLIGHT
TZOFFSETFROM:+1000
TZOFFSETTO:+1100
TZNAME:AEDT
DTSTART:20161001T160000
END:DAYLIGHT
END:VTIMEZONE
BEGIN:VEVENT
DTSTART;VALUE=DATE:20150710
DTEND;VALUE=DATE:20150713
DTSTAMP:20260424T022130
CREATED:20150518T054401Z
LAST-MODIFIED:20150518T054401Z
UID:6747-1436486400-1436745599@marketing.com.au
SUMMARY:Traffic and Conversion Summit Australia 2015
DESCRIPTION:This 3 day event focuses on marketing\, traffic conversion and everything in between. Showcasing a mentoring panel of advisers\, speakers and experts\, this event is sure to be packed with marketing information and resources that should not be passed up on.
URL:https://marketing.com.au/event/traffic-and-conversion-summit-australia-2015/
LOCATION:Hilton Sydney\, 488 Georges Street\, Sydney\, New South Wales\, 2000\, Australia
CATEGORIES:All Event Locations,All Event Topics,All Event Types,Conference,Content Marketing,Digital Marketing,Marketing,Social Media,Sydney
END:VEVENT
BEGIN:VEVENT
DTSTART;TZID=Australia/Melbourne:20150723T180000
DTEND;TZID=Australia/Melbourne:20150723T190000
DTSTAMP:20260424T022130
CREATED:20150714T062719Z
LAST-MODIFIED:20150714T062719Z
UID:6932-1437674400-1437678000@marketing.com.au
SUMMARY:Intro to Adwords for Enterprise
DESCRIPTION:Google AdWords is greater than just an advertising platform\, its a fine science and avenue on consumer intent. This workshop will take you through what premier agencies and enterprise search marketing experts do to prepare an AdWords campaign. Learn keyword research tips\, campaign structure and design\, tools and techniques the way the experts do it.
URL:https://marketing.com.au/event/intro-to-adwords-for-enterprise/
LOCATION:Collective Campus\, Level 1\, 20 Queen St\, Melbourne\, VIC\, 3000\, Australia
CATEGORIES:Advertising,All Event Locations,All Event Topics,All Event Types,Content Marketing,Digital Marketing,Melbourne,Social Media,Workshop
ORGANIZER;CN="Collective Campus":MAILTO:info(at)collectivecamp.us
END:VEVENT
END:VCALENDAR