BEGIN:VCALENDAR
VERSION:2.0
PRODID:-//Marketing.com.au - ECPv6.15.20//NONSGML v1.0//EN
CALSCALE:GREGORIAN
METHOD:PUBLISH
X-ORIGINAL-URL:https://marketing.com.au
X-WR-CALDESC:Events for Marketing.com.au
REFRESH-INTERVAL;VALUE=DURATION:PT1H
X-Robots-Tag:noindex
X-PUBLISHED-TTL:PT1H
BEGIN:VTIMEZONE
TZID:Australia/Melbourne
BEGIN:STANDARD
TZOFFSETFROM:+1100
TZOFFSETTO:+1000
TZNAME:AEST
DTSTART:20140405T160000
END:STANDARD
BEGIN:DAYLIGHT
TZOFFSETFROM:+1000
TZOFFSETTO:+1100
TZNAME:AEDT
DTSTART:20141004T160000
END:DAYLIGHT
BEGIN:STANDARD
TZOFFSETFROM:+1100
TZOFFSETTO:+1000
TZNAME:AEST
DTSTART:20150404T160000
END:STANDARD
BEGIN:DAYLIGHT
TZOFFSETFROM:+1000
TZOFFSETTO:+1100
TZNAME:AEDT
DTSTART:20151003T160000
END:DAYLIGHT
BEGIN:STANDARD
TZOFFSETFROM:+1100
TZOFFSETTO:+1000
TZNAME:AEST
DTSTART:20160402T160000
END:STANDARD
BEGIN:DAYLIGHT
TZOFFSETFROM:+1000
TZOFFSETTO:+1100
TZNAME:AEDT
DTSTART:20161001T160000
END:DAYLIGHT
END:VTIMEZONE
BEGIN:VEVENT
DTSTART;VALUE=DATE:20150415
DTEND;VALUE=DATE:20150416
DTSTAMP:20260424T095604
CREATED:20150324T031636Z
LAST-MODIFIED:20150324T031636Z
UID:6551-1429056000-1429142399@marketing.com.au
SUMMARY:Content Creation Day: Melbourne
DESCRIPTION:Content Creation Day is a workshop designed to teach marketers to design\, create\, use and upload content for social media using the latest content generating tools with the help of 4 leading content creation experts. \nThe workshop will allow participants to interact with and learn from 4 social media and content creation experts on various topics\, from: \n\nCreating engaging visual content for social media\nCreating video content on a small budget\nBranding and strategy related to AV content\nCreating content using mobile phones and devices.
URL:https://marketing.com.au/event/content-creation-day-melbourne/
LOCATION:Rydges Melbourne\, 186 Exhibition Street\, Melbourne\, VIC\, 3000\, Australia
CATEGORIES:All Event Topics,All Event Types,Content Marketing,Melbourne,Social Media,Workshop
END:VEVENT
BEGIN:VEVENT
DTSTART;VALUE=DATE:20150416
DTEND;VALUE=DATE:20150417
DTSTAMP:20260424T095604
CREATED:20150324T024544Z
LAST-MODIFIED:20150324T024544Z
UID:6549-1429142400-1429228799@marketing.com.au
SUMMARY:The Australian Government: Social Media Best Practice Toolkit 2015
DESCRIPTION:Australian Government: Social Media Best Practice Toolkit 2015 is a case study and strategy driven event that aims to address the continuously evolving world of online interaction and social media networking and marketing. The Australian government along with other public sector organizations\, need to hear and share up to date strategies\, case studies and best practices that have been successful with social media interactions.
URL:https://marketing.com.au/event/the-australian-government-social-media-best-practice-toolkit-2015/
LOCATION:Rydges Melbourne\, 186 Exhibition Street\, Melbourne\, VIC\, 3000\, Australia
CATEGORIES:All Event Topics,All Event Types,Conference,Melbourne,SEO,Social Media
END:VEVENT
BEGIN:VEVENT
DTSTART;VALUE=DATE:20150419
DTEND;VALUE=DATE:20150422
DTSTAMP:20260424T095604
CREATED:20141230T134425Z
LAST-MODIFIED:20141230T134425Z
UID:6306-1429401600-1429660799@marketing.com.au
SUMMARY:2015 World Social Marketing Conference
DESCRIPTION:The mission of the 2015 World Social Marketing Conference is to help build a global movement dedicated to capturing\, spreading and nurturing good practice in Social Marketing\, as well as increase the efficiency and effectiveness of Social Marketing practice at both operational and strategic levels. The event will offer attendees new ideas and evidence presented by global thought leaders and practitioners.
URL:https://marketing.com.au/event/2015-world-social-marketing-conference/
LOCATION:RYDGES WORLD SQUARE\, 389 Pitt Street\, Sydney\, NSW\, 2000\, Australia
CATEGORIES:All Event Locations,All Event Topics,All Event Types,Conference,Social Media,Sydney
END:VEVENT
END:VCALENDAR