BEGIN:VCALENDAR
VERSION:2.0
PRODID:-//Marketing.com.au - ECPv6.15.20//NONSGML v1.0//EN
CALSCALE:GREGORIAN
METHOD:PUBLISH
X-ORIGINAL-URL:https://marketing.com.au
X-WR-CALDESC:Events for Marketing.com.au
REFRESH-INTERVAL;VALUE=DURATION:PT1H
X-Robots-Tag:noindex
X-PUBLISHED-TTL:PT1H
BEGIN:VTIMEZONE
TZID:Australia/Melbourne
BEGIN:STANDARD
TZOFFSETFROM:+1100
TZOFFSETTO:+1000
TZNAME:AEST
DTSTART:20130406T160000
END:STANDARD
BEGIN:DAYLIGHT
TZOFFSETFROM:+1000
TZOFFSETTO:+1100
TZNAME:AEDT
DTSTART:20131005T160000
END:DAYLIGHT
BEGIN:STANDARD
TZOFFSETFROM:+1100
TZOFFSETTO:+1000
TZNAME:AEST
DTSTART:20140405T160000
END:STANDARD
BEGIN:DAYLIGHT
TZOFFSETFROM:+1000
TZOFFSETTO:+1100
TZNAME:AEDT
DTSTART:20141004T160000
END:DAYLIGHT
BEGIN:STANDARD
TZOFFSETFROM:+1100
TZOFFSETTO:+1000
TZNAME:AEST
DTSTART:20150404T160000
END:STANDARD
BEGIN:DAYLIGHT
TZOFFSETFROM:+1000
TZOFFSETTO:+1100
TZNAME:AEDT
DTSTART:20151003T160000
END:DAYLIGHT
END:VTIMEZONE
BEGIN:VEVENT
DTSTART;VALUE=DATE:20141112
DTEND;VALUE=DATE:20141114
DTSTAMP:20260424T182000
CREATED:20140925T045023Z
LAST-MODIFIED:20140925T045023Z
UID:5882-1415750400-1415923199@marketing.com.au
SUMMARY:The Australian Government: Community and Marketing 2014
DESCRIPTION:This two day conference will focus on digital and social media strategies and tools to effectively engage and communicate with stakeholders for now for the future. Hear practical case study presentations from: CSIRO\, Creative Suburbs\, Australian National University\, London Live (Former BBC Reporter)\, Department of Premier and Cabinet\, Queensland Government\, Defence Housing Australia\, and the National Archives of Australia. At this forum\, you will gain insights and key learnings to: \n\nDevelop innovative and low-cost marketing strategies to engage with customers\nUnderstand how to overcome the challenges in government marketing\nUtilise digital and social media effectively to achieve cut-through\nEngage and communicate with stakeholders successfully\nImprove customer service and increase brand recognition\nIncorporate mobile marketing strategies and mobile apps
URL:https://marketing.com.au/event/australian-government-community-marketing/
LOCATION:Novotel Canberra\, 65 Northbourne Ave\, Canberra\, ACT\, 2601\, Australia
CATEGORIES:All Event Locations,All Event Topics,All Event Types,Canberra,Conference,Digital Marketing
END:VEVENT
BEGIN:VEVENT
DTSTART;TZID=Australia/Melbourne:20141125T090000
DTEND;TZID=Australia/Melbourne:20141125T170000
DTSTAMP:20260424T182000
CREATED:20141030T035932Z
LAST-MODIFIED:20201002T050715Z
UID:6073-1416906000-1416934800@marketing.com.au
SUMMARY:IAB Training: Social Advertising
DESCRIPTION:This event focuses on social advertising and takes deeper look into social media best practice for advertising. The event is ideal for media publishers\, agencies and advertisers who are looking for new ays to engage new and existing audiences through conversation and recommendation. From this event you’ll gain a deeper understanding and confidence with social platforms\, how to ensure better engagement and how they can be applied to advertising.
URL:https://marketing.com.au/event/iab-training-social-advertising/
LOCATION:TP3\, Level 21\, 580 George Street\, Sydney\, NSW\, 2000\, Australia
CATEGORIES:All Event Locations,All Event Topics,All Event Types,Content Marketing,Marketing,Social Media,Sydney,Workshop
END:VEVENT
END:VCALENDAR