BEGIN:VCALENDAR
VERSION:2.0
PRODID:-//Marketing.com.au - ECPv6.15.20//NONSGML v1.0//EN
CALSCALE:GREGORIAN
METHOD:PUBLISH
X-ORIGINAL-URL:https://marketing.com.au
X-WR-CALDESC:Events for Marketing.com.au
REFRESH-INTERVAL;VALUE=DURATION:PT1H
X-Robots-Tag:noindex
X-PUBLISHED-TTL:PT1H
BEGIN:VTIMEZONE
TZID:Australia/Melbourne
BEGIN:STANDARD
TZOFFSETFROM:+1100
TZOFFSETTO:+1000
TZNAME:AEST
DTSTART:20150404T160000
END:STANDARD
BEGIN:DAYLIGHT
TZOFFSETFROM:+1000
TZOFFSETTO:+1100
TZNAME:AEDT
DTSTART:20151003T160000
END:DAYLIGHT
BEGIN:STANDARD
TZOFFSETFROM:+1100
TZOFFSETTO:+1000
TZNAME:AEST
DTSTART:20160402T160000
END:STANDARD
BEGIN:DAYLIGHT
TZOFFSETFROM:+1000
TZOFFSETTO:+1100
TZNAME:AEDT
DTSTART:20161001T160000
END:DAYLIGHT
BEGIN:STANDARD
TZOFFSETFROM:+1100
TZOFFSETTO:+1000
TZNAME:AEST
DTSTART:20170401T160000
END:STANDARD
BEGIN:DAYLIGHT
TZOFFSETFROM:+1000
TZOFFSETTO:+1100
TZNAME:AEDT
DTSTART:20170930T160000
END:DAYLIGHT
END:VTIMEZONE
BEGIN:VEVENT
DTSTART;TZID=Australia/Melbourne:20160420T084500
DTEND;TZID=Australia/Melbourne:20160420T163000
DTSTAMP:20260422T080434
CREATED:20160404T092557Z
LAST-MODIFIED:20160404T092557Z
UID:7569-1461141900-1461169800@marketing.com.au
SUMMARY:Master Workshop: SEO for Marketers
DESCRIPTION:Optimising your website for search is the lowest cost and most effective marketing tactics that you can deploy online\, out performing most other online and digital marketing activities in delivering ROI for your marketing spend. \nWhile this is not a hands-on workshop\, you will learn how to manage your SEO team and effectively work with them on leveraging the most up-to-date search strategies in the market. You will learn this through case studies of successful SEO results; discussions on your onsite marketing\, review and use marketing tools that can contribute strongly to your website’s organic search results. \nThe workshop isn’t over-technical or geeky and you certainly don’t have to know HTML. You’ll learn and cover areas including leveraging content marketing to boost your SEO rankings\, how to promote and share your onsite content on social media for SEO benefit; and why building links remains an important SEO tactic.
URL:https://marketing.com.au/event/master-workshop-seo-marketers/
LOCATION:Cliftons Brisbane\, Level 3\, 288 Edward Street\, Brisbane\, Queensland\, 5000\, Australia
CATEGORIES:All Event Locations,All Event Topics,All Event Types,Brisbane,SEO,Workshop
END:VEVENT
END:VCALENDAR