BEGIN:VCALENDAR
VERSION:2.0
PRODID:-//Marketing.com.au - ECPv6.15.20//NONSGML v1.0//EN
CALSCALE:GREGORIAN
METHOD:PUBLISH
X-WR-CALNAME:Marketing.com.au
X-ORIGINAL-URL:https://marketing.com.au
X-WR-CALDESC:Events for Marketing.com.au
REFRESH-INTERVAL;VALUE=DURATION:PT1H
X-Robots-Tag:noindex
X-PUBLISHED-TTL:PT1H
BEGIN:VTIMEZONE
TZID:Australia/Melbourne
BEGIN:STANDARD
TZOFFSETFROM:+1100
TZOFFSETTO:+1000
TZNAME:AEST
DTSTART:20140405T160000
END:STANDARD
BEGIN:DAYLIGHT
TZOFFSETFROM:+1000
TZOFFSETTO:+1100
TZNAME:AEDT
DTSTART:20141004T160000
END:DAYLIGHT
BEGIN:STANDARD
TZOFFSETFROM:+1100
TZOFFSETTO:+1000
TZNAME:AEST
DTSTART:20150404T160000
END:STANDARD
BEGIN:DAYLIGHT
TZOFFSETFROM:+1000
TZOFFSETTO:+1100
TZNAME:AEDT
DTSTART:20151003T160000
END:DAYLIGHT
BEGIN:STANDARD
TZOFFSETFROM:+1100
TZOFFSETTO:+1000
TZNAME:AEST
DTSTART:20160402T160000
END:STANDARD
BEGIN:DAYLIGHT
TZOFFSETFROM:+1000
TZOFFSETTO:+1100
TZNAME:AEDT
DTSTART:20161001T160000
END:DAYLIGHT
END:VTIMEZONE
BEGIN:VEVENT
DTSTART;TZID=Australia/Melbourne:20150323T073000
DTEND;TZID=Australia/Melbourne:20150323T100000
DTSTAMP:20260422T160115
CREATED:20150311T025018Z
LAST-MODIFIED:20150311T025018Z
UID:6491-1427095800-1427104800@marketing.com.au
SUMMARY:Breakfast Seminar - Social Media Trends & Opportunities
DESCRIPTION:Breakfast Seminar on Social Media Trends & Opportunities. \nSpeakers from Twitter\, ManageFlitter and More.  \nTickets are only $15.  \nHealthy Breakfast snacks\, tea and coffee provided.
URL:https://marketing.com.au/event/breakfast-seminar-social-media-trends-and-opportunities/
LOCATION:Mitchell Theatre\, Sydney Mechanics’ School of Arts\, Level 1\, 280 Pitt Street\, \, Sydney\, NSW\, 2000\, Australia
CATEGORIES:All Event Locations,All Event Topics,All Event Types,Digital Marketing,Meetup,Presentation,Social Media,Sydney
END:VEVENT
END:VCALENDAR