BEGIN:VCALENDAR
VERSION:2.0
PRODID:-//Marketing.com.au - ECPv6.15.20//NONSGML v1.0//EN
CALSCALE:GREGORIAN
METHOD:PUBLISH
X-ORIGINAL-URL:https://marketing.com.au
X-WR-CALDESC:Events for Marketing.com.au
REFRESH-INTERVAL;VALUE=DURATION:PT1H
X-Robots-Tag:noindex
X-PUBLISHED-TTL:PT1H
BEGIN:VTIMEZONE
TZID:Australia/Melbourne
BEGIN:STANDARD
TZOFFSETFROM:+1100
TZOFFSETTO:+1000
TZNAME:AEST
DTSTART:20140405T160000
END:STANDARD
BEGIN:DAYLIGHT
TZOFFSETFROM:+1000
TZOFFSETTO:+1100
TZNAME:AEDT
DTSTART:20141004T160000
END:DAYLIGHT
BEGIN:STANDARD
TZOFFSETFROM:+1100
TZOFFSETTO:+1000
TZNAME:AEST
DTSTART:20150404T160000
END:STANDARD
BEGIN:DAYLIGHT
TZOFFSETFROM:+1000
TZOFFSETTO:+1100
TZNAME:AEDT
DTSTART:20151003T160000
END:DAYLIGHT
BEGIN:STANDARD
TZOFFSETFROM:+1100
TZOFFSETTO:+1000
TZNAME:AEST
DTSTART:20160402T160000
END:STANDARD
BEGIN:DAYLIGHT
TZOFFSETFROM:+1000
TZOFFSETTO:+1100
TZNAME:AEDT
DTSTART:20161001T160000
END:DAYLIGHT
END:VTIMEZONE
BEGIN:VEVENT
DTSTART;TZID=Australia/Melbourne:20151015T130000
DTEND;TZID=Australia/Melbourne:20151015T190000
DTSTAMP:20260423T182845
CREATED:20150909T075423Z
LAST-MODIFIED:20150909T075423Z
UID:7085-1444914000-1444935600@marketing.com.au
SUMMARY:ONE: Teradata Marketing Connect - Melbourne
DESCRIPTION:ONE: Teradata Marketing Connect is an afternoon event that will bring experienced local and international speakers together to inspire marketers and deliver relevant networking opportunities. Along side the international and local speakers\, there will be key insights and learning opportunities for all marketers in attendance.
URL:https://marketing.com.au/event/one-teradata-marketing-connect-melbourne/
LOCATION:ACMI\, Federation Square\, Flinders St\, Melbourne\, VIC\, 3000\, Australia
CATEGORIES:Advertising,All Event Locations,All Event Topics,All Event Types,Conference,Content Marketing,Digital Marketing,Market Research,Marketing,Melbourne,Social Media
END:VEVENT
BEGIN:VEVENT
DTSTART;VALUE=DATE:20151026
DTEND;VALUE=DATE:20151029
DTSTAMP:20260423T182845
CREATED:20151022T033238Z
LAST-MODIFIED:20201002T010040Z
UID:7206-1445817600-1446076799@marketing.com.au
SUMMARY:Loves Data | Digital Marketing Training
DESCRIPTION:This 3-day course will teach you how to measure and improve your Social Advertising\, Search- (including Google AdWords and Bing) and Display Marketing with Google Certified experts from Loves Data.
URL:https://marketing.com.au/event/loves-data-digital-marketing-training/
LOCATION:UNSW CBD Campus\, Level 6\, 1 O'Connell Street\, Sydney\, NSW\, 2000\, Australia
CATEGORIES:Advertising,All Event Locations,All Event Topics,All Event Types,Content Marketing,Digital Marketing,Market Research,Marketing,Sydney,Workshop
ORGANIZER;CN="Loves Data":MAILTO:info(at)lovesdata.com
END:VEVENT
BEGIN:VEVENT
DTSTART;VALUE=DATE:20151028
DTEND;VALUE=DATE:20151029
DTSTAMP:20260423T182845
CREATED:20151019T053138Z
LAST-MODIFIED:20151019T053138Z
UID:7198-1445990400-1446076799@marketing.com.au
SUMMARY:RESET 2015
DESCRIPTION:RESET 2015 is an event that should not be missed by any marketer\, its the chance to be inspired by leading international speakers who will help you confront the everyday challengers of marketers. \nRESET 2015\, Organized by AANA\, is a thought-provoking session made to help encourage marketers to revise\, review and reset for the year ahead\, preparing you for challenges that you will face as a marketer.
URL:https://marketing.com.au/event/reset-2015/
LOCATION:Royal Randwick Racecourse\, The Ballroom\, Level 2\, Alison Road\, Randwick\, NSW\, 2031\, Australia
CATEGORIES:Advertising,All Event Locations,All Event Topics,All Event Types,Conference,Content Marketing,Digital Marketing,Market Research,Marketing,Social Media,Sydney,Workshop
ORGANIZER;CN="Australian Association of National Advertisers":MAILTO:http://aana.com.au
END:VEVENT
BEGIN:VEVENT
DTSTART;TZID=Australia/Melbourne:20151028T183000
DTEND;TZID=Australia/Melbourne:20151028T200000
DTSTAMP:20260423T182845
CREATED:20151001T064144Z
LAST-MODIFIED:20151001T064144Z
UID:7143-1446057000-1446062400@marketing.com.au
SUMMARY:Online Marketing Sydney - Meet Up
DESCRIPTION:Online Marketing Sydney Australia is a monthly meet up for any one working in Digital. Based in Sydney’s CBD\, this meet up aims to bring together like minded SEO\, SEM\, Analytics and Display professionals (and any one else interested in having a few drinks and talking about digital marketing). The format of the event usually includes an expert presentation followed by drinks. \nThe October meet up will see The Million Dollar Domain Name Trader – Ned O’Meara present. Ned has been commercially involved in the Internet in one way or the other since 1999 when he started his firsteCommerce business (a comparative rarity at the time!). Since 2008\, he has been a full-time investor in Australian domain names and websites; and is an absolutely passionate advocate of the .au domain space! He has also involved himself in a number of auDA Working Groups and Panels over the years. \nNed is a full-time “Domainer” in the Australian domain space – and he runs the very successful blog Domainer.com.au. He has sold many hundreds of domains to SME’s and large corporate’s for prices ranging up to 6 figures. Ned’s presentation will cover: \n\nTips and strategies for successful investing / trading in domain names.\nHow companies and large corporate businesses can benefit from premium domains.\nWhat domains are worth investing in.\nLearn not what to do when buying and selling domains!
URL:https://marketing.com.au/event/online-marketing-sydney-meet-up/
LOCATION:Saxons Training Centre\, Level 6\, 10 Barrack Street\, Sydney\, NSW\, 2000\, Australia
CATEGORIES:All Event Locations,All Event Topics,All Event Types,Digital Marketing,Meetup,Sydney
END:VEVENT
END:VCALENDAR