BEGIN:VCALENDAR
VERSION:2.0
PRODID:-//Marketing.com.au - ECPv6.15.20//NONSGML v1.0//EN
CALSCALE:GREGORIAN
METHOD:PUBLISH
X-WR-CALNAME:Marketing.com.au
X-ORIGINAL-URL:https://marketing.com.au
X-WR-CALDESC:Events for Marketing.com.au
REFRESH-INTERVAL;VALUE=DURATION:PT1H
X-Robots-Tag:noindex
X-PUBLISHED-TTL:PT1H
BEGIN:VTIMEZONE
TZID:Australia/Melbourne
BEGIN:STANDARD
TZOFFSETFROM:+1100
TZOFFSETTO:+1000
TZNAME:AEST
DTSTART:20140405T160000
END:STANDARD
BEGIN:DAYLIGHT
TZOFFSETFROM:+1000
TZOFFSETTO:+1100
TZNAME:AEDT
DTSTART:20141004T160000
END:DAYLIGHT
BEGIN:STANDARD
TZOFFSETFROM:+1100
TZOFFSETTO:+1000
TZNAME:AEST
DTSTART:20150404T160000
END:STANDARD
BEGIN:DAYLIGHT
TZOFFSETFROM:+1000
TZOFFSETTO:+1100
TZNAME:AEDT
DTSTART:20151003T160000
END:DAYLIGHT
BEGIN:STANDARD
TZOFFSETFROM:+1100
TZOFFSETTO:+1000
TZNAME:AEST
DTSTART:20160402T160000
END:STANDARD
BEGIN:DAYLIGHT
TZOFFSETFROM:+1000
TZOFFSETTO:+1100
TZNAME:AEDT
DTSTART:20161001T160000
END:DAYLIGHT
END:VTIMEZONE
BEGIN:VEVENT
DTSTART;VALUE=DATE:20150303
DTEND;VALUE=DATE:20150305
DTSTAMP:20260424T131923
CREATED:20150116T051538Z
LAST-MODIFIED:20150116T051538Z
UID:6363-1425340800-1425513599@marketing.com.au
SUMMARY:Google Adwords Training
DESCRIPTION:Learn how to setup\, manage and optimise your Google AdWords campaigns with Google certified experts from Loves Data. \nLoves Data’s training is designed to help you navigate this landscape. We focus on Google AdWords strategies\, features and best practices that will make a difference to your business’ bottom line. Whether you’re a beginner or have years of AdWords experience\, our expert trainers will provide actionable training to create and improve your campaigns. \nWhy should I attend? \n\nYou will learn essential skills and techniques in a small classroom setting. Get answers to your questions from Google certified experts and network with peers during breaks.\nLoves Data has been presenting Australia’s leading Google AdWords training since 2009\nLoves Data is the only Google-Certified AdWords trainer in Australia\nLoves Data’s training is rated 5 out of 5\, based on 183 testimonials\nLoves Data prides their training on being accurate\, accessible and actionable\n\nThis even runs over two days. Participants may choose to attend on both days\, or just the one.
URL:https://marketing.com.au/event/google-adwords-training-2/
LOCATION:Gastronomy @ CBD Campus\, Level 6\, 1 O'Connell\, Sydney\, New South Wales\, 2000\, Australia
CATEGORIES:All Event Locations,All Event Topics,All Event Types,Digital Marketing,SEO,Sydney,Workshop
ORGANIZER;CN="Loves Data":MAILTO:info(at)lovesdata.com
END:VEVENT
BEGIN:VEVENT
DTSTART;TZID=Australia/Melbourne:20150304T080000
DTEND;TZID=Australia/Melbourne:20150304T103000
DTSTAMP:20260424T131923
CREATED:20150202T051814Z
LAST-MODIFIED:20150202T051814Z
UID:6423-1425456000-1425465000@marketing.com.au
SUMMARY:Brisbane Breakfast with Airbnb
DESCRIPTION:Join us for breakfast with Paul Jeszenszky\, Director of Online Marketing\, Airbnb. \nPaul Jeszenszky has worked in digital marketing roles at OMD\, eBay and Google and his current role as Director of Online Marketing at Airbnb has him implementing digital marketing for yet another exciting\, innovative brand. \nPaul currently leads the Online Marketing and Media Buying team at Airbnb – a cross-functional\, global team which works to accelerate the adoption rate of the sharing economy and push the limits of digital marketing. \nWith over 17 years of digital marketing experience\, Paul has worked with a range of B2C and B2B brands and campaigns. He is passionate about growth marketing\, conversion optimisation and search and in his current role he also manages the organisations paid media. \nAirbnb is one of the world’s most well known success stories of the sharing economy. The online platform allowing people to rent their spare rooms and houses to strangers has grown to a global brand operating in 190 countries with over 1 million listings worldwide. \nTheir disruptive business strategy has revolutionized the travel industry and aims to bring the world together through its trust platform. Well known for it’s early growth hacking techniques\, innovative content approaches and leverage of social media\, Airbnb is an innovative brand leading the way in digital marketing. \nThis is your unique opportunity to hear digital marketing insights from behind this global brand. Book your ticket now to attend our breakfast event on the Wednesday 4th March in Brisbane.
URL:https://marketing.com.au/event/brisbane-breakfast-airbnb/
LOCATION:Cloudland\, 641 Ann Street \, Fortitude Valley\, Queensland\, 4006\, Australia
CATEGORIES:All Event Locations,All Event Topics,All Event Types,Brisbane,Digital Marketing,Presentation
ORGANIZER;CN="Interactive Minds":MAILTO:louisa(at)interactiveminds.com.au
END:VEVENT
BEGIN:VEVENT
DTSTART;TZID=Australia/Melbourne:20150305T080000
DTEND;TZID=Australia/Melbourne:20150305T103000
DTSTAMP:20260424T131923
CREATED:20150202T052401Z
LAST-MODIFIED:20150202T052401Z
UID:6425-1425542400-1425551400@marketing.com.au
SUMMARY:Melbourne Breakfast with Airbnb
DESCRIPTION:Join us for breakfast with Paul Jeszenszky\, Director of Online Marketing\, Airbnb. \nPaul Jeszenszky has worked in digital marketing roles at OMD\, eBay and Google and his current role as Director of Online Marketing at Airbnb has him implementing digital marketing for yet another exciting\, innovative brand. \nPaul currently leads the Online Marketing and Media Buying team at Airbnb – a cross-functional\, global team which works to accelerate the adoption rate of the sharing economy and push the limits of digital marketing. \nWith over 17 years of digital marketing experience\, Paul has worked with a range of B2C and B2B brands and campaigns. He is passionate about growth marketing\, conversion optimisation and search and in his current role he also manages the organisations paid media. \nAirbnb is one of the world’s most well known success stories of the sharing economy. The online platform allowing people to rent their spare rooms and houses to strangers has grown to a global brand operating in 190 countries with over 1 million listings worldwide. \nTheir disruptive business strategy has revolutionized the travel industry and aims to bring the world together through its trust platform. Well known for it’s early growth hacking techniques\, innovative content approaches and leverage of social media\, Airbnb is an innovative brand leading the way in digital marketing. \nThis is your unique opportunity to hear digital marketing insights from behind this global brand. Book your ticket now to attend our breakfast event on the Thursday 5th of March in Melbourne.
URL:https://marketing.com.au/event/melbourne-breakfast-airbnb/
LOCATION:Maia\, Shed 14\, Central Pier\, 161 Harbour Esplanade\, Docklands\, Victoria\, 3008\, Australia
CATEGORIES:All Event Locations,All Event Topics,All Event Types,Digital Marketing,Melbourne,Presentation
ORGANIZER;CN="Interactive Minds":MAILTO:louisa(at)interactiveminds.com.au
END:VEVENT
BEGIN:VEVENT
DTSTART;TZID=Australia/Melbourne:20150325T183000
DTEND;TZID=Australia/Melbourne:20150325T210000
DTSTAMP:20260424T131923
CREATED:20150304T041359Z
LAST-MODIFIED:20150304T041359Z
UID:6467-1427308200-1427317200@marketing.com.au
SUMMARY:Online Marketing Sydney: Advanced Growth Hacking Strategies
DESCRIPTION:Brian Ritchie who is a Growth Hacker at Ex-GoCatch (a taxi booking app) will be talking about advanced growth hacking strategies for mobile apps and also the fierce fight against the market dominating Uber by a local\, home grown competitor. Brian will share his secrets and tactics that insure continued growth of GoCatch’s user base and also repeat usage of the taxi booking app.
URL:https://marketing.com.au/event/online-marketing-sydney-advanced-growth-hacking-strategies/
LOCATION:Saxons Training Centre\, Level 6\, 10 Barrack Street\, Sydney\, NSW\, 2000\, Australia
CATEGORIES:All Event Locations,All Event Topics,All Event Types,Digital Marketing,Meetup,SEO,Sydney
END:VEVENT
END:VCALENDAR