BEGIN:VCALENDAR
VERSION:2.0
PRODID:-//Marketing.com.au - ECPv6.15.20//NONSGML v1.0//EN
CALSCALE:GREGORIAN
METHOD:PUBLISH
X-WR-CALNAME:Marketing.com.au
X-ORIGINAL-URL:https://marketing.com.au
X-WR-CALDESC:Events for Marketing.com.au
REFRESH-INTERVAL;VALUE=DURATION:PT1H
X-Robots-Tag:noindex
X-PUBLISHED-TTL:PT1H
BEGIN:VTIMEZONE
TZID:Australia/Melbourne
BEGIN:STANDARD
TZOFFSETFROM:+1100
TZOFFSETTO:+1000
TZNAME:AEST
DTSTART:20130406T160000
END:STANDARD
BEGIN:DAYLIGHT
TZOFFSETFROM:+1000
TZOFFSETTO:+1100
TZNAME:AEDT
DTSTART:20131005T160000
END:DAYLIGHT
BEGIN:STANDARD
TZOFFSETFROM:+1100
TZOFFSETTO:+1000
TZNAME:AEST
DTSTART:20140405T160000
END:STANDARD
BEGIN:DAYLIGHT
TZOFFSETFROM:+1000
TZOFFSETTO:+1100
TZNAME:AEDT
DTSTART:20141004T160000
END:DAYLIGHT
BEGIN:STANDARD
TZOFFSETFROM:+1100
TZOFFSETTO:+1000
TZNAME:AEST
DTSTART:20150404T160000
END:STANDARD
BEGIN:DAYLIGHT
TZOFFSETFROM:+1000
TZOFFSETTO:+1100
TZNAME:AEDT
DTSTART:20151003T160000
END:DAYLIGHT
END:VTIMEZONE
BEGIN:VEVENT
DTSTART;TZID=Australia/Melbourne:20141008T174500
DTEND;TZID=Australia/Melbourne:20141008T203000
DTSTAMP:20260424T131214
CREATED:20141001T223735Z
LAST-MODIFIED:20141001T223735Z
UID:5978-1412790300-1412800200@marketing.com.au
SUMMARY:Mobile and the Digital Marketing Mix
DESCRIPTION:Learn about how changing consumer journeys are driving more customers to use mobile devices to search\, transact and entertain and what this means for your business. You will learn from industry experts and Corporates who are successfully implementing mobile as a business tool. As they say go mobile or go home! \nThe expert panel includes: \n\nJarrod Scott\, Senior Product Manager\, Developer\, REA\nAndrew Webster\, Editor\, Couriermail.com.au\nAdam Williams\, Managing Director\, Mammoth\nBrett Wiskar\, Director or Strategy\, Speedwell (facilitator)
URL:https://marketing.com.au/event/mobile-digital-marketing-mix/
LOCATION:News Corp Head Office\, Corner of Campbell Street and Mayne Road\, Bowen Hills\, Queensland\, 4006\, Australia
CATEGORIES:All Event Locations,All Event Topics,All Event Types,Digital Marketing,Presentation,Sydney
ORGANIZER;CN="The Digital Industry Association of Australia (AIMA)":MAILTO:02 9248 7900
END:VEVENT
END:VCALENDAR