BEGIN:VCALENDAR
VERSION:2.0
PRODID:-//Marketing.com.au - ECPv6.15.20//NONSGML v1.0//EN
CALSCALE:GREGORIAN
METHOD:PUBLISH
X-ORIGINAL-URL:https://marketing.com.au
X-WR-CALDESC:Events for Marketing.com.au
REFRESH-INTERVAL;VALUE=DURATION:PT1H
X-Robots-Tag:noindex
X-PUBLISHED-TTL:PT1H
BEGIN:VTIMEZONE
TZID:Australia/Melbourne
BEGIN:STANDARD
TZOFFSETFROM:+1100
TZOFFSETTO:+1000
TZNAME:AEST
DTSTART:20140405T160000
END:STANDARD
BEGIN:DAYLIGHT
TZOFFSETFROM:+1000
TZOFFSETTO:+1100
TZNAME:AEDT
DTSTART:20141004T160000
END:DAYLIGHT
BEGIN:STANDARD
TZOFFSETFROM:+1100
TZOFFSETTO:+1000
TZNAME:AEST
DTSTART:20150404T160000
END:STANDARD
BEGIN:DAYLIGHT
TZOFFSETFROM:+1000
TZOFFSETTO:+1100
TZNAME:AEDT
DTSTART:20151003T160000
END:DAYLIGHT
BEGIN:STANDARD
TZOFFSETFROM:+1100
TZOFFSETTO:+1000
TZNAME:AEST
DTSTART:20160402T160000
END:STANDARD
BEGIN:DAYLIGHT
TZOFFSETFROM:+1000
TZOFFSETTO:+1100
TZNAME:AEDT
DTSTART:20161001T160000
END:DAYLIGHT
END:VTIMEZONE
BEGIN:VEVENT
DTSTART;TZID=Australia/Melbourne:20150203T063000
DTEND;TZID=Australia/Melbourne:20150203T213000
DTSTAMP:20260423T092444
CREATED:20150116T054914Z
LAST-MODIFIED:20201002T052256Z
UID:6371-1422945000-1422999000@marketing.com.au
SUMMARY:Traditional Signwriting
DESCRIPTION:Qualified signwriter Ian Widdop will guide you through the basic fundamentals of Traditional Signwriting. Whilst it’s true that the skills of the traditional signwriter takes many years to master\, these highly engaging and hands on classes will cover the basic tools and processes of traditional sign writing while learning the essential brush control techniques and classic lettering styles. \nThe classes are small to allow one on one time with Ian. \nProgram: \n\nWelcome\nYour Sign kit starter pack\nDemonstration How to make and use a Mahl-Stick\nDemonstration How to make and use a chalk line\nUnderstanding your paint\nBrush techniques\nLunch Break 30 minutes\nMark out techniques\nBrushwork\n\nInclusions: \n\nMahl – stick\nChalk line\nCertificate on successful completion\nSignwriting brushes\nCard\nPaints and paint pots (Water based paints)\nRefreshments\nCar Parking at rear
URL:https://marketing.com.au/event/traditional-signwriting/
LOCATION:Unnamed Venue\, 107 Main Road\, McLaren Vale\, Adelaide\, South Australia\, 5171\, Australia
CATEGORIES:Adelaide,All Event Locations,All Event Topics,All Event Types,Graphic Design,Workshop
END:VEVENT
END:VCALENDAR