BEGIN:VCALENDAR
VERSION:2.0
PRODID:-//Marketing.com.au - ECPv6.15.20//NONSGML v1.0//EN
CALSCALE:GREGORIAN
METHOD:PUBLISH
X-WR-CALNAME:Marketing.com.au
X-ORIGINAL-URL:https://marketing.com.au
X-WR-CALDESC:Events for Marketing.com.au
REFRESH-INTERVAL;VALUE=DURATION:PT1H
X-Robots-Tag:noindex
X-PUBLISHED-TTL:PT1H
BEGIN:VTIMEZONE
TZID:Australia/Melbourne
BEGIN:STANDARD
TZOFFSETFROM:+1100
TZOFFSETTO:+1000
TZNAME:AEST
DTSTART:20180331T160000
END:STANDARD
BEGIN:DAYLIGHT
TZOFFSETFROM:+1000
TZOFFSETTO:+1100
TZNAME:AEDT
DTSTART:20181006T160000
END:DAYLIGHT
BEGIN:STANDARD
TZOFFSETFROM:+1100
TZOFFSETTO:+1000
TZNAME:AEST
DTSTART:20190406T160000
END:STANDARD
BEGIN:DAYLIGHT
TZOFFSETFROM:+1000
TZOFFSETTO:+1100
TZNAME:AEDT
DTSTART:20191005T160000
END:DAYLIGHT
BEGIN:STANDARD
TZOFFSETFROM:+1100
TZOFFSETTO:+1000
TZNAME:AEST
DTSTART:20200404T160000
END:STANDARD
BEGIN:DAYLIGHT
TZOFFSETFROM:+1000
TZOFFSETTO:+1100
TZNAME:AEDT
DTSTART:20201003T160000
END:DAYLIGHT
END:VTIMEZONE
BEGIN:VEVENT
DTSTART;TZID=Australia/Melbourne:20191008T080000
DTEND;TZID=Australia/Melbourne:20191008T110000
DTSTAMP:20260423T184440
CREATED:20190922T063130Z
LAST-MODIFIED:20201002T052118Z
UID:14273-1570521600-1570532400@marketing.com.au
SUMMARY:Commercial Acumen for Digital Sales - IAB Workshop
DESCRIPTION:The IAB is running a commercial acumen workshop for sales people within publisher and ad tech organisations. The basics of business seem simple: sales minus costs equals profit. However\, in the 21st Century businesses are constantly creating innovative\, fascinating ways of making money. In this IAB session\, we will investigate the fascinating business strategies of companies in advertising and beyond. \nUnderstanding these traditional and disruptive business models is a crucial skill for anyone who wants to be successful in the advertising industry. \nYou’ll learn the 3 building blocks that make up any business model and how to quickly chunk down and analyze a client’s business model. Plus\, you’ll be able to show how what you do affects your company’s bottom line. \n\nLearn a framework to quickly analyze businesses and their business models\nLearn the key terms\, metrics and commercial language in advertising companies\nIdentify ways in which your role can affect an organization’s commercial success\n\nThe workshop will be run by industry veteran Rob Pyne who runs Realizer\, a training & facilitation company specializing in decision-making\, management and productivity and it suitable for people with approximately 2-5 years sales experience. The workshop is free for people who work in IAB member companies but limited to 3 people from any one organisation.
URL:https://marketing.com.au/event/commercial-acumen-for-digital-sales-iab-workshop-2/
LOCATION:Facebook\, Level 41\, Tower 2\, 200 Barangaroo Avenue\, Barangaroo\, SYD\, 2000\, Australia
CATEGORIES:All Event Locations,All Event Topics,All Event Types,Sydney
END:VEVENT
END:VCALENDAR