BEGIN:VCALENDAR
VERSION:2.0
PRODID:-//Marketing.com.au - ECPv6.15.20//NONSGML v1.0//EN
CALSCALE:GREGORIAN
METHOD:PUBLISH
X-ORIGINAL-URL:https://marketing.com.au
X-WR-CALDESC:Events for Marketing.com.au
REFRESH-INTERVAL;VALUE=DURATION:PT1H
X-Robots-Tag:noindex
X-PUBLISHED-TTL:PT1H
BEGIN:VTIMEZONE
TZID:Australia/Melbourne
BEGIN:STANDARD
TZOFFSETFROM:+1100
TZOFFSETTO:+1000
TZNAME:AEST
DTSTART:20180331T160000
END:STANDARD
BEGIN:DAYLIGHT
TZOFFSETFROM:+1000
TZOFFSETTO:+1100
TZNAME:AEDT
DTSTART:20181006T160000
END:DAYLIGHT
BEGIN:STANDARD
TZOFFSETFROM:+1100
TZOFFSETTO:+1000
TZNAME:AEST
DTSTART:20190406T160000
END:STANDARD
BEGIN:DAYLIGHT
TZOFFSETFROM:+1000
TZOFFSETTO:+1100
TZNAME:AEDT
DTSTART:20191005T160000
END:DAYLIGHT
BEGIN:STANDARD
TZOFFSETFROM:+1100
TZOFFSETTO:+1000
TZNAME:AEST
DTSTART:20200404T160000
END:STANDARD
BEGIN:DAYLIGHT
TZOFFSETFROM:+1000
TZOFFSETTO:+1100
TZNAME:AEDT
DTSTART:20201003T160000
END:DAYLIGHT
END:VTIMEZONE
BEGIN:VEVENT
DTSTART;VALUE=DATE:20191120
DTEND;VALUE=DATE:20191122
DTSTAMP:20260420T220526
CREATED:20190922T061007Z
LAST-MODIFIED:20191020T054257Z
UID:14261-1574208000-1574380799@marketing.com.au
SUMMARY:FINCX2019
DESCRIPTION:FINCX2019 Future Digital Marketing Strategies\, Member Engagement & Customer Experience (CX) for Financial Services 2019 Forum \nReasons to attend: \n\nHear how the best in your sector across Australia are achieving substantial results through\ndeveloping the most effective digital marketing roadmap to fit their target market\nUnderstand how to innovate and create a shift in digital content to sustain impressive ROI\nLearn how to boost engagement and CX using personalisation and a blend of technology\,\nprocess and people\nImprove the efficiency and cost-effectiveness of your marketing initiatives through operational\ninnovation\nLeverage the experience of those who have created and seamlessly executed a holistic and\neffective digital marketing strategy
URL:https://marketing.com.au/event/fincx2019/
LOCATION:Grace Hotel\, Sydney\, 77 York street\, Sydney\, NSW\, 2000\, Australia
CATEGORIES:All Event Locations,All Event Topics,All Event Types,Content Marketing,Digital Marketing,Marketing
END:VEVENT
END:VCALENDAR