BEGIN:VCALENDAR
VERSION:2.0
PRODID:-//Marketing.com.au - ECPv6.15.20//NONSGML v1.0//EN
CALSCALE:GREGORIAN
METHOD:PUBLISH
X-ORIGINAL-URL:https://marketing.com.au
X-WR-CALDESC:Events for Marketing.com.au
REFRESH-INTERVAL;VALUE=DURATION:PT1H
X-Robots-Tag:noindex
X-PUBLISHED-TTL:PT1H
BEGIN:VTIMEZONE
TZID:Australia/Melbourne
BEGIN:STANDARD
TZOFFSETFROM:+1100
TZOFFSETTO:+1000
TZNAME:AEST
DTSTART:20150404T160000
END:STANDARD
BEGIN:DAYLIGHT
TZOFFSETFROM:+1000
TZOFFSETTO:+1100
TZNAME:AEDT
DTSTART:20151003T160000
END:DAYLIGHT
BEGIN:STANDARD
TZOFFSETFROM:+1100
TZOFFSETTO:+1000
TZNAME:AEST
DTSTART:20160402T160000
END:STANDARD
BEGIN:DAYLIGHT
TZOFFSETFROM:+1000
TZOFFSETTO:+1100
TZNAME:AEDT
DTSTART:20161001T160000
END:DAYLIGHT
BEGIN:STANDARD
TZOFFSETFROM:+1100
TZOFFSETTO:+1000
TZNAME:AEST
DTSTART:20170401T160000
END:STANDARD
BEGIN:DAYLIGHT
TZOFFSETFROM:+1000
TZOFFSETTO:+1100
TZNAME:AEDT
DTSTART:20170930T160000
END:DAYLIGHT
END:VTIMEZONE
BEGIN:VEVENT
DTSTART;VALUE=DATE:20160525
DTEND;VALUE=DATE:20160527
DTSTAMP:20260422T052016
CREATED:20150910T050137Z
LAST-MODIFIED:20201002T042319Z
UID:7094-1464134400-1464307199@marketing.com.au
SUMMARY:World Business Forum Sydney
DESCRIPTION:The World Business Forum Sydney is a two day event that will give participants an annual update in management\, marketing and business trends through the experiences of some of the most renowned business experts from around the globe. \nWorld Business Forum Sydney will be showcasing an amazing lineup of experts\, including: \n\nSir Richard Branson – Management\nMauro Porcini – Marketing\nChris Gardner – Perseverance\nRobert Kaplan – Performance Management\nNicholas Negroponte – Innovation\nTamara Erickson – People\nJohn Mattone – Leadership\nRita McGrath – Strategy
URL:https://marketing.com.au/event/world-business-forum-sydney/
LOCATION:The Star\, 80 Pyrmont Street\, Sydney\, New South Wales\, 2009\, Australia
CATEGORIES:Advertising,All Event Locations,All Event Topics,All Event Types,Conference,Content Marketing,Digital Marketing,Market Research,Marketing,Presentation,Public Relations,Social Media,Sydney
END:VEVENT
END:VCALENDAR