BEGIN:VCALENDAR
VERSION:2.0
PRODID:-//Marketing.com.au - ECPv6.15.20//NONSGML v1.0//EN
CALSCALE:GREGORIAN
METHOD:PUBLISH
X-WR-CALNAME:Marketing.com.au
X-ORIGINAL-URL:https://marketing.com.au
X-WR-CALDESC:Events for Marketing.com.au
REFRESH-INTERVAL;VALUE=DURATION:PT1H
X-Robots-Tag:noindex
X-PUBLISHED-TTL:PT1H
BEGIN:VTIMEZONE
TZID:Australia/Melbourne
BEGIN:STANDARD
TZOFFSETFROM:+1100
TZOFFSETTO:+1000
TZNAME:AEST
DTSTART:20180331T160000
END:STANDARD
BEGIN:DAYLIGHT
TZOFFSETFROM:+1000
TZOFFSETTO:+1100
TZNAME:AEDT
DTSTART:20181006T160000
END:DAYLIGHT
BEGIN:STANDARD
TZOFFSETFROM:+1100
TZOFFSETTO:+1000
TZNAME:AEST
DTSTART:20190406T160000
END:STANDARD
BEGIN:DAYLIGHT
TZOFFSETFROM:+1000
TZOFFSETTO:+1100
TZNAME:AEDT
DTSTART:20191005T160000
END:DAYLIGHT
BEGIN:STANDARD
TZOFFSETFROM:+1100
TZOFFSETTO:+1000
TZNAME:AEST
DTSTART:20200404T160000
END:STANDARD
BEGIN:DAYLIGHT
TZOFFSETFROM:+1000
TZOFFSETTO:+1100
TZNAME:AEDT
DTSTART:20201003T160000
END:DAYLIGHT
END:VTIMEZONE
BEGIN:VEVENT
DTSTART;VALUE=DATE:20190729
DTEND;VALUE=DATE:20190730
DTSTAMP:20260420T160601
CREATED:20190728T012527Z
LAST-MODIFIED:20191020T054415Z
UID:13943-1564358400-1564444799@marketing.com.au
SUMMARY:SEO Workshop for Small Business
DESCRIPTION:As Google continues to dominate the search landscape in Australia with over 40\,000 searches per second\, your business needs to be a position where it can get found online otherwise you are going to be missing out on business from people who need you! \nAre you confused by SEO and can’t work out if it’s the right solution for your business? Have you tried to rank your website on Google but you are still floundering on the 5th page of Google for the keywords you are trying to target? Do you know if you are targeting the right keywords in your SEO that your potential customers would be using to find a business like yours? Stop being the best kept secret in town and learn how to get found online through Google. \nJoin me for this beginner’s workshop which will help you understand what SEO is\, why you need it and the fundamentals to get your business more visibility on Google. \nWhat you will learn in this workshop:\n– What is SEO and is it the right solution for your business?\n– What your customers are actually searching for on Google that is relevant to your business\n– How to use keywords on your website to help it rank better.\n– Using Google My Business to benefit your business.\n– Overview of how to optimise your website to increase your rankings.\n– How to measure your traffic using Google Analytics. \nThis workshop is brought to you by Business Station and AusIndustry under the ASBAS Digital Solutions Program.
URL:https://marketing.com.au/event/seo-workshop-for-small-business/
LOCATION:Stirling Business Centre\, 45 Delawney St\, Balcatta\, WA\, 6021\, Australia
CATEGORIES:SEO,Workshop
END:VEVENT
END:VCALENDAR