BEGIN:VCALENDAR
VERSION:2.0
PRODID:-//Marketing.com.au - ECPv6.15.20//NONSGML v1.0//EN
CALSCALE:GREGORIAN
METHOD:PUBLISH
X-ORIGINAL-URL:https://marketing.com.au
X-WR-CALDESC:Events for Marketing.com.au
REFRESH-INTERVAL;VALUE=DURATION:PT1H
X-Robots-Tag:noindex
X-PUBLISHED-TTL:PT1H
BEGIN:VTIMEZONE
TZID:Australia/Melbourne
BEGIN:STANDARD
TZOFFSETFROM:+1100
TZOFFSETTO:+1000
TZNAME:AEST
DTSTART:20140405T160000
END:STANDARD
BEGIN:DAYLIGHT
TZOFFSETFROM:+1000
TZOFFSETTO:+1100
TZNAME:AEDT
DTSTART:20141004T160000
END:DAYLIGHT
BEGIN:STANDARD
TZOFFSETFROM:+1100
TZOFFSETTO:+1000
TZNAME:AEST
DTSTART:20150404T160000
END:STANDARD
BEGIN:DAYLIGHT
TZOFFSETFROM:+1000
TZOFFSETTO:+1100
TZNAME:AEDT
DTSTART:20151003T160000
END:DAYLIGHT
BEGIN:STANDARD
TZOFFSETFROM:+1100
TZOFFSETTO:+1000
TZNAME:AEST
DTSTART:20160402T160000
END:STANDARD
BEGIN:DAYLIGHT
TZOFFSETFROM:+1000
TZOFFSETTO:+1100
TZNAME:AEDT
DTSTART:20161001T160000
END:DAYLIGHT
END:VTIMEZONE
BEGIN:VEVENT
DTSTART;TZID=Australia/Melbourne:20150312T063000
DTEND;TZID=Australia/Melbourne:20150312T233000
DTSTAMP:20260426T111743
CREATED:20150302T224302Z
LAST-MODIFIED:20150302T224302Z
UID:6455-1426141800-1426203000@marketing.com.au
SUMMARY:AIMIA Awards
DESCRIPTION:The Amys are turning 21 and the AIMIA is throwing a celebration that’s not to be missed! \nThe 21st AIMIA Awards is the networking event of the year and will recognise the greatest work from Australia’s digital content\, services and applications industry. \nFinalists for the 21st AIMIA Awards have now been announced\, with 111 entries selected as finalists across 30 categories. You can view the finalists here: https://aimia.worldsecuresystems.com/awards/finalists \nWinners of the Awards will be announced and celebrated at Town Hall in Sydney on Thursday 12th March 2015.
URL:https://marketing.com.au/event/aimia-awards/
LOCATION:Sydney Town Hall\, 483 George Street\, Sydney\, New South Wales\, 2000\, Australia
CATEGORIES:All Event Locations,All Event Topics,All Event Types,Award,Digital Marketing,Sydney
ORGANIZER;CN="The Digital Industry Association of Australia (AIMA)":MAILTO:02 9248 7900
END:VEVENT
END:VCALENDAR