BEGIN:VCALENDAR
VERSION:2.0
PRODID:-//Marketing.com.au - ECPv6.15.20//NONSGML v1.0//EN
CALSCALE:GREGORIAN
METHOD:PUBLISH
X-ORIGINAL-URL:https://marketing.com.au
X-WR-CALDESC:Events for Marketing.com.au
REFRESH-INTERVAL;VALUE=DURATION:PT1H
X-Robots-Tag:noindex
X-PUBLISHED-TTL:PT1H
BEGIN:VTIMEZONE
TZID:Australia/Melbourne
BEGIN:STANDARD
TZOFFSETFROM:+1100
TZOFFSETTO:+1000
TZNAME:AEST
DTSTART:20180331T160000
END:STANDARD
BEGIN:DAYLIGHT
TZOFFSETFROM:+1000
TZOFFSETTO:+1100
TZNAME:AEDT
DTSTART:20181006T160000
END:DAYLIGHT
BEGIN:STANDARD
TZOFFSETFROM:+1100
TZOFFSETTO:+1000
TZNAME:AEST
DTSTART:20190406T160000
END:STANDARD
BEGIN:DAYLIGHT
TZOFFSETFROM:+1000
TZOFFSETTO:+1100
TZNAME:AEDT
DTSTART:20191005T160000
END:DAYLIGHT
BEGIN:STANDARD
TZOFFSETFROM:+1100
TZOFFSETTO:+1000
TZNAME:AEST
DTSTART:20200404T160000
END:STANDARD
BEGIN:DAYLIGHT
TZOFFSETFROM:+1000
TZOFFSETTO:+1100
TZNAME:AEDT
DTSTART:20201003T160000
END:DAYLIGHT
END:VTIMEZONE
BEGIN:VEVENT
DTSTART;TZID=Australia/Melbourne:20190903T080000
DTEND;TZID=Australia/Melbourne:20190903T160000
DTSTAMP:20260424T194053
CREATED:20190622T065953Z
LAST-MODIFIED:20201002T053142Z
UID:13770-1567497600-1567526400@marketing.com.au
SUMMARY:Queensland Business Writers Conference
DESCRIPTION:This one-day training event is a great opportunity for people who write content as part of their job to increase their skills and knowledge of best practice. \nWe’re holding the event at the Brisbane Marriott Hotel on Tuesday 3 September 2019. \nThis year\, we’ll discuss how to become indispensable in this DIY world. How do we prove our value to stakeholders and customers when everyone thinks they can do our job? \nIn our training sessions\, we’ll cover:\n~ why plain language has evolved in recent years and how we can evolve with it\n~ how understanding the humans in the communication process can create better content\n~ how to create accessible print and web content that benefits everyone\n~ how to turn #@!*-ty first drafts into well-crafted prose\n~ how even the stodgiest organisation can communicate a compelling story. \nThis year we’re joined by longstanding Channel 7 journalist\, Kim Skubris and conference favourite\, Judy Gregory\, as well as other great speakers. And\, as always\, you’ll get a discount if you bring the team along.
URL:https://marketing.com.au/event/queensland-business-writers-conference/
LOCATION:Brisbane Marriott Hotel\, 515 Queen Street\, Brisbane\, VIC\, 4000\, Australia
CATEGORIES:Content Marketing,Queensland
END:VEVENT
BEGIN:VEVENT
DTSTART;TZID=Australia/Melbourne:20190904T080000
DTEND;TZID=Australia/Melbourne:20190904T103000
DTSTAMP:20260424T194053
CREATED:20190818T004523Z
LAST-MODIFIED:20191020T054325Z
UID:14087-1567584000-1567593000@marketing.com.au
SUMMARY:Email Marketing - Opportunities\, Trends and Engagement - Brisbane
DESCRIPTION:Email marketing is undeniably one of the most effective marketing methods available. It’s used frequently\, is known for consistent response rates and allows you to talk directly to your own database. \nWhen is the last time you reviewed your email approach? Have your email techniques evolved to leverage personalisation and automation to remain relevant to your audience? \nAt this event\, we dive into the best practice email marketing methods that every marketer needs to know. We’ll find out how a range of organisations are using email\, their tips for deliverability and how they creatively find ways to engage with their customers. Plus\, it’s a good time to think about how you are growing and cleansing your email database on an ongoing basis. \nWhether you send 1\,000 emails a month or millions\, this seminar will ensure your email approach will exceed your customers’ expectations and allow this channel to continue to deliver for you. Book your ticket now. \nDon’t miss this event! Book your ticket now.
URL:https://marketing.com.au/event/email-marketing-opportunities-trends-and-engagement-brisbane/
LOCATION:The Grove\, 480 Queen Street\, Brisbane\, QLD\, 4000\, Australia
CATEGORIES:All Event Locations,All Event Topics,All Event Types,Brisbane,Digital Marketing
ORGANIZER;CN="Interactive Minds":MAILTO:louisa(at)interactiveminds.com.au
END:VEVENT
BEGIN:VEVENT
DTSTART;TZID=Australia/Melbourne:20190911T080000
DTEND;TZID=Australia/Melbourne:20190911T103000
DTSTAMP:20260424T194053
CREATED:20190818T010305Z
LAST-MODIFIED:20191020T054325Z
UID:14091-1568188800-1568197800@marketing.com.au
SUMMARY:Email Marketing - Opportunities\, Trends and Engagement - Melbourne
DESCRIPTION:Email marketing is undeniably one of the most effective marketing methods available. It’s used frequently\, is known for consistent response rates and allows you to talk directly to your own database. \nWhen is the last time you reviewed your email approach? Have your email techniques evolved to leverage personalisation and automation to remain relevant to your audience? \nAt this event\, we dive into the best practice email marketing methods that every marketer needs to know. We’ll find out how a range of organisations are using email\, their tips for deliverability and how they creatively find ways to engage with their customers. Plus\, it’s a good time to think about how you are growing and cleansing your email database on an ongoing basis. \nWhether you send 1\,000 emails a month or millions\, this seminar will ensure your email approach will exceed your customers’ expectations and allow this channel to continue to deliver for you. Book your ticket now. \nDon’t miss this event! Book your ticket now.
URL:https://marketing.com.au/event/email-marketing-opportunities-trends-and-engagement-melbourne/
LOCATION:One Roof Melbourne\, 77-83 City Rd\, Southbank\, VIC\, 3205\, Australia
CATEGORIES:All Event Locations,All Event Topics,All Event Types,Melbourne
ORGANIZER;CN="Interactive Minds":MAILTO:louisa(at)interactiveminds.com.au
END:VEVENT
BEGIN:VEVENT
DTSTART;VALUE=DATE:20190916
DTEND;VALUE=DATE:20190917
DTSTAMP:20260424T194053
CREATED:20190728T020751Z
LAST-MODIFIED:20191020T054325Z
UID:13963-1568592000-1568678399@marketing.com.au
SUMMARY:Four disciplines of execution - Sydney
DESCRIPTION:Get equipped with the business world’s most popular execution framework\, used by small business through to Australia’s largest companies including Coca-Cola\, ANZ and Pfizer. \nThe 4 Disciplines of Execution (4DX) provides immediately actionable\, simple principles and tools to translate strategy into action at all levels of an organisation. 4DX taps into the desire to win that exists in every individual\, establishing a common goal company wide. \nBack by popular demand\, execution expert and Wall Street Journal #1 national best-selling coauthor of The 4 Disciplines of Execution\, Chris McChesney returns to Australia to present his acclaimed\, full-day workshop. \nCreate a culture of execution\, and a determined team motivated to win big. \nYou Will Learn\nThe 4DX framework is a simple\, repeatable formula for sharp execution and exceptional performance. \n\nFocus on the Wildly Important – simplifying your strategic intent\nMore with less: How to achieve real leverage to produce extraordinary results\nEngagement – you want performance only passion and engagement can produce\nA cadence of shared accountability – create a self-managing team\nKeeping a compelling scoreboard – Implementing meaningful measures that motivate your team to win\nExecuting through a whirlwind of distraction\nDevelop your team’s execution muscle memory – how to sustain your culture of execution
URL:https://marketing.com.au/event/four-disciplines-of-execution-sydney/
LOCATION:Amora Jameson Hotel
CATEGORIES:All Event Locations,All Event Topics,All Event Types
END:VEVENT
BEGIN:VEVENT
DTSTART;TZID=Australia/Melbourne:20190917T080000
DTEND;TZID=Australia/Melbourne:20190917T170000
DTSTAMP:20260424T194053
CREATED:20190602T092403Z
LAST-MODIFIED:20190602T092702Z
UID:13724-1568707200-1568739600@marketing.com.au
SUMMARY:RESET 2019
DESCRIPTION:RESET 2019 showcases an exciting program specially curated to provoke\, challenge and inspire marketers to reset their thinking for the year ahead. Attended by CMOs and their senior marketing teams representing some of Australia’s biggest brands and advertisers\, RESET is considered the must attend event of the year on the marketing calendar. \nOur first speakers announced include Aussie expat Greg Creed\, CEO\, Yum! Brands\, Inc. (USA); Brian Wieser\, Global President\, Business Intelligence\, GroupM (USA)\, and Sarah Ritchie\, founder of AM-Insider.com and the author of “How to Wrestle an Octopus: an agency account manager’s guide to pretty much everything” (NZ). Stay tuned for more exciting announcements.
URL:https://marketing.com.au/event/reset-2019/
LOCATION:Royal Randwick Racecourse\, The Ballroom\, Level 2\, Alison Road\, Randwick\, NSW\, 2031\, Australia
CATEGORIES:Marketing,Sydney
END:VEVENT
BEGIN:VEVENT
DTSTART;TZID=Australia/Melbourne:20190918T080000
DTEND;TZID=Australia/Melbourne:20190918T170000
DTSTAMP:20260424T194053
CREATED:20190728T021009Z
LAST-MODIFIED:20191020T054325Z
UID:13966-1568793600-1568826000@marketing.com.au
SUMMARY:Four disciplines of execution - Melbourne
DESCRIPTION:Get equipped with the business world’s most popular execution framework\, used by small business through to Australia’s largest companies including Coca-Cola\, ANZ and Pfizer. \nThe 4 Disciplines of Execution (4DX) provides immediately actionable\, simple principles and tools to translate strategy into action at all levels of an organisation. 4DX taps into the desire to win that exists in every individual\, establishing a common goal company wide. \nBack by popular demand\, execution expert and Wall Street Journal #1 national best-selling coauthor of The 4 Disciplines of Execution\, Chris McChesney returns to Australia to present his acclaimed\, full-day workshop. \nCreate a culture of execution\, and a determined team motivated to win big. \nYou Will Learn\nThe 4DX framework is a simple\, repeatable formula for sharp execution and exceptional performance. \n\nFocus on the Wildly Important – simplifying your strategic intent\nMore with less: How to achieve real leverage to produce extraordinary results\nEngagement – you want performance only passion and engagement can produce\nA cadence of shared accountability – create a self-managing team\nKeeping a compelling scoreboard – Implementing meaningful measures that motivate your team to win\nExecuting through a whirlwind of distraction\nDevelop your team’s execution muscle memory – how to sustain your culture of execution
URL:https://marketing.com.au/event/four-disciplines-of-execution-melbourne/
LOCATION:Melbourne Convention and Exhibition Centre
CATEGORIES:All Event Locations,All Event Topics,All Event Types
END:VEVENT
BEGIN:VEVENT
DTSTART;TZID=Australia/Melbourne:20190918T080000
DTEND;TZID=Australia/Melbourne:20190919T170000
DTSTAMP:20260424T194053
CREATED:20190728T022124Z
LAST-MODIFIED:20190818T004251Z
UID:13973-1568793600-1568912400@marketing.com.au
SUMMARY:DigiMarCon Singapore 2019
DESCRIPTION:DigiMarCon Singapore 2019 is your chance to …\n– Hear from some of the most audacious and thought provoking speakers in the digital marketing industry.\n– Gain insight into emerging strategies\, the latest innovative technologies\, and best practices to move your business to the next level.\n– Network with thought leaders\, collaborate with your peers and build your network in a beautiful atmosphere. \nDigiMarCon Singapore 2019 Digital Marketing Conference & Exhibition will be held from September 18th to 19th\, 2019 at the luxurious Marina Bay Sands Expo and Convention Centre in Singapore. Whatever your goal is; reinforcing customer loyalty\, improving lead generation\, increasing sales\, or driving stronger consumer engagement\, the DigiMarCon Singapore 2019 line up has been specifically designed to help you develop your audience. \nImmerse yourself in topics like digital strategy\, programmatic advertising\, web experience management\, usability / design\, mobile marketing & retargeting\, customer engagement\, user acquisition\, social media marketing\, targeting & optimization\, video marketing\, data science & big data\, web analytics & A/B testing\, email marketing\, content marketing\, conversion rate optimization\, search engine optimization\, paid search marketing\, geo-targeting\, predictive analysis & attribution\, growth hacking\, conversion rate optimization\, growth marketing tools\, marketing & sales automation\, sustainable growth strategies\, product marketing & UX / UI and much\, much more! \nAt DigiMarCon Singapore 2019\, you will receive all the elements you need to achieve digital marketing success! Conventional thought will be challenged\, new ways of thinking will emerge\, and you will leave with your head and notebooks full of action items and ideas to lead your agency / team / account to even greater success. \nBe a part of DigiMarCon Singapore 2019 and discover how to thrive and succeed as a marketer in a rapidly evolving digital world. \nSecure your seat now and take advantage of our discounted super early bird registration rates.
URL:https://marketing.com.au/event/digimarcon-singapore-2019/
LOCATION:Marina Bay Sands\, Singapore
CATEGORIES:All Event Locations,All Event Topics,All Event Types,Digital Marketing,Marketing
END:VEVENT
BEGIN:VEVENT
DTSTART;TZID=Australia/Melbourne:20190919T080000
DTEND;TZID=Australia/Melbourne:20190922T170000
DTSTAMP:20260424T194053
CREATED:20190711T104611Z
LAST-MODIFIED:20190711T104611Z
UID:13875-1568880000-1569171600@marketing.com.au
SUMMARY:VidCon Australia 2019
DESCRIPTION:VidCon’s Industry Track offers unparalleled access to top leading industry experts\, digital creators\, and media tastemakers. \nThis year’s Industry Track will provide deep\, industry-changing insights on how to grow and monetise your business through online video platforms\, building sustainable and profitable communities\, best practices for using video to sell products and services\, and in-depth strategy discussions that will change the course for the future of online video and media in APAC in general. \nThe Industry Track Days: Thursday 19 September – Friday 20 September\nFull days packed with strategies\, tips\, and tricks of the trade!
URL:https://marketing.com.au/event/vidcon-australia-2019/
LOCATION:Melbourne Convention Centre\, 1 Convention Centre Pl\, South Wharf\, Vic\, 3006\, Australia
CATEGORIES:Conference,Content Marketing,Marketing,Melbourne
END:VEVENT
BEGIN:VEVENT
DTSTART;TZID=Australia/Melbourne:20190920T080000
DTEND;TZID=Australia/Melbourne:20190920T170000
DTSTAMP:20260424T194053
CREATED:20190728T021119Z
LAST-MODIFIED:20190818T004242Z
UID:13968-1568966400-1568998800@marketing.com.au
SUMMARY:Four disciplines of execution - Brisbane
DESCRIPTION:Get equipped with the business world’s most popular execution framework\, used by small business through to Australia’s largest companies including Coca-Cola\, ANZ and Pfizer. \nThe 4 Disciplines of Execution (4DX) provides immediately actionable\, simple principles and tools to translate strategy into action at all levels of an organisation. 4DX taps into the desire to win that exists in every individual\, establishing a common goal company wide. \nBack by popular demand\, execution expert and Wall Street Journal #1 national best-selling coauthor of The 4 Disciplines of Execution\, Chris McChesney returns to Australia to present his acclaimed\, full-day workshop. \nCreate a culture of execution\, and a determined team motivated to win big. \nYou Will Learn\nThe 4DX framework is a simple\, repeatable formula for sharp execution and exceptional performance. \n\nFocus on the Wildly Important – simplifying your strategic intent\nMore with less: How to achieve real leverage to produce extraordinary results\nEngagement – you want performance only passion and engagement can produce\nA cadence of shared accountability – create a self-managing team\nKeeping a compelling scoreboard – Implementing meaningful measures that motivate your team to win\nExecuting through a whirlwind of distraction\nDevelop your team’s execution muscle memory – how to sustain your culture of execution
URL:https://marketing.com.au/event/four-disciplines-of-execution-brisbane/
LOCATION:Brisbane Convention & Exhibition Centre
CATEGORIES:All Event Locations,All Event Topics,All Event Types
END:VEVENT
BEGIN:VEVENT
DTSTART;TZID=Australia/Melbourne:20190922T080000
DTEND;TZID=Australia/Melbourne:20190922T170000
DTSTAMP:20260424T194053
CREATED:20190922T035349Z
LAST-MODIFIED:20191020T054325Z
UID:14238-1569139200-1569171600@marketing.com.au
SUMMARY:Supply Chain Innovation in an Era of Automation and Digitalisation
DESCRIPTION:Join us for an evening dedicated to supply chain innovation in an era of automation and digitalisation. \n\n\n\n\n\n\n\n\nAs competition heightens between today’s supply chains\, in response to the ever-increasing demands of consumers\, supply chain leaders need to think more innovatively in order to gain or maintain competitive advantage. \nThe Australian Graduate School of Entrepreneurship (AGSE) at Swinburne University and the Supply Chain & Logistics Association of Australia (SCLAA) proudly invite you to an evening dedicated to supply chain innovation. \nOur panel of industry experts will discuss modern-day challenges including digitalisation\, automation\, emerging technologies and the supply chains of the future. The discussion will be followed by networking and light refreshments.
URL:https://marketing.com.au/event/supply-chain-innovation-in-an-era-of-automation-and-digitalisation/
LOCATION:Swinburne University\, Wakefield Street\, Hawthorn\, VIC\, 3122\, Australia
CATEGORIES:All Event Locations,All Event Topics,All Event Types,Melbourne
END:VEVENT
END:VCALENDAR