BEGIN:VCALENDAR
VERSION:2.0
PRODID:-//Marketing.com.au - ECPv6.15.20//NONSGML v1.0//EN
CALSCALE:GREGORIAN
METHOD:PUBLISH
X-ORIGINAL-URL:https://marketing.com.au
X-WR-CALDESC:Events for Marketing.com.au
REFRESH-INTERVAL;VALUE=DURATION:PT1H
X-Robots-Tag:noindex
X-PUBLISHED-TTL:PT1H
BEGIN:VTIMEZONE
TZID:Australia/Melbourne
BEGIN:STANDARD
TZOFFSETFROM:+1100
TZOFFSETTO:+1000
TZNAME:AEST
DTSTART:20170401T160000
END:STANDARD
BEGIN:DAYLIGHT
TZOFFSETFROM:+1000
TZOFFSETTO:+1100
TZNAME:AEDT
DTSTART:20170930T160000
END:DAYLIGHT
BEGIN:STANDARD
TZOFFSETFROM:+1100
TZOFFSETTO:+1000
TZNAME:AEST
DTSTART:20180331T160000
END:STANDARD
BEGIN:DAYLIGHT
TZOFFSETFROM:+1000
TZOFFSETTO:+1100
TZNAME:AEDT
DTSTART:20181006T160000
END:DAYLIGHT
BEGIN:STANDARD
TZOFFSETFROM:+1100
TZOFFSETTO:+1000
TZNAME:AEST
DTSTART:20190406T160000
END:STANDARD
BEGIN:DAYLIGHT
TZOFFSETFROM:+1000
TZOFFSETTO:+1100
TZNAME:AEDT
DTSTART:20191005T160000
END:DAYLIGHT
END:VTIMEZONE
BEGIN:VEVENT
DTSTART;TZID=Australia/Melbourne:20181201T133000
DTEND;TZID=Australia/Melbourne:20181201T163000
DTSTAMP:20260425T024625
CREATED:20181118T232044Z
LAST-MODIFIED:20181118T232044Z
UID:12731-1543671000-1543681800@marketing.com.au
SUMMARY:Marketing Strategy for Creative Business
DESCRIPTION:This event is for anyone working for themselves in the arts or creative industries and who want to learn and understand Marketing\, it will help you to device a strategy\, making measurements and meeting goals\, at this event you will also learn: \n\nThe key elements of a successful marketing campaign\nThe strategy behind your website\nHow to stay on top of social media\nThe myth of word of mouth… and much more!
URL:https://marketing.com.au/event/marketing-strategy-for-creative-business/
LOCATION:Creative Plus Business\, Suite 3\, Level 1 66 Oxford Street\, Darlinghurst\, NSW\, 2010\, Australia
CATEGORIES:All Event Locations,All Event Topics,All Event Types,Digital Marketing,Marketing,Sydney,Workshop
END:VEVENT
BEGIN:VEVENT
DTSTART;TZID=Australia/Melbourne:20181205T180000
DTEND;TZID=Australia/Melbourne:20181205T203000
DTSTAMP:20260425T024625
CREATED:20181119T234255Z
LAST-MODIFIED:20181119T234255Z
UID:12745-1544032800-1544041800@marketing.com.au
SUMMARY:TAS Marketing 2019 & Beyond: Trends and Predictions
DESCRIPTION:With the industry always changing it is not an easy task to forecast the future changes and trends\, particularly as it will be defined by the technologies and trends that aren’t even on anyone’s radar right now. At this event the speakers will be sharing their thoughts on the marketing trends that they think will define 2019 and how it will re-shape how we approach the future. \nThe speakers will be discuss 6 key areas: Content Marketing\, Creative Marketing\, Digital Marketing\, Customer Experience\, Data Driven Marketing and Career Management.
URL:https://marketing.com.au/event/tas-marketing-2019-beyond/
LOCATION:Athenaeum Club\, 29 Davey Street\, Hobart\, TAS\, 7000\, Australia
CATEGORIES:All Event Locations,All Event Topics,All Event Types,Content Marketing,Marketing,Workshop
END:VEVENT
BEGIN:VEVENT
DTSTART;TZID=Australia/Melbourne:20181206T090000
DTEND;TZID=Australia/Melbourne:20181206T120000
DTSTAMP:20260425T024625
CREATED:20181118T235805Z
LAST-MODIFIED:20181118T235805Z
UID:12735-1544086800-1544097600@marketing.com.au
SUMMARY:Content Marketing - Creation\, Curation and Strategies
DESCRIPTION:Do you understand the basics of digital marketing and are you ready to take it to the next level? Then this event is for you. You will learn the inside track for creating and curating content and how to maximise your efforts. You will be given insider knowledge and practical advice to grow your business through digital marketing.
URL:https://marketing.com.au/event/content-marketing-creation-curation-and-strategies/
LOCATION:InterContinental Perth\, 815 Hay Street\, Perth\, WA\, 6000\, Australia
CATEGORIES:All Event Locations,All Event Topics,All Event Types,Content Marketing,Marketing,Perth,Workshop
ORGANIZER;CN="Social Media Perth":MAILTO:info@smperth.com
END:VEVENT
BEGIN:VEVENT
DTSTART;TZID=Australia/Melbourne:20181206T173000
DTEND;TZID=Australia/Melbourne:20181206T193000
DTSTAMP:20260425T024625
CREATED:20181116T121433Z
LAST-MODIFIED:20181116T121433Z
UID:12695-1544117400-1544124600@marketing.com.au
SUMMARY:WA Sundowner 2018
DESCRIPTION:ADMA WA is ending 2018 with a bang with the annual WA Sundowner at Goody Two’s to unwind and celebrate another big year. Let your hair down with some drinks and nibbles while we recap on the big topics covered this year in the marketing industry.
URL:https://marketing.com.au/event/wa-sundowner-2018/
LOCATION:Goody Two’s\, 40 Irwin Street\, Perth\, WA\, 6000\, Australia
CATEGORIES:All Event Locations,All Event Topics,All Event Types,Dinner,Perth
END:VEVENT
BEGIN:VEVENT
DTSTART;VALUE=DATE:20181207
DTEND;VALUE=DATE:20181208
DTSTAMP:20260425T024625
CREATED:20181120T000207Z
LAST-MODIFIED:20181120T000207Z
UID:12749-1544140800-1544227199@marketing.com.au
SUMMARY:Social Media Course - Sydney (Dec)
DESCRIPTION:This course has been designed to help give you direction\, tools and confidence to help you become more focused and effective. You will learn to think strategically about your social media so that you can be successful and it will give you practical tips for quick gains.
URL:https://marketing.com.au/event/social-media-course-sydney-dec/
LOCATION:Media School Studio – Sydney\, 335 Clovelly Road\, Clovelly\, NSW\, 2031\, Australia
CATEGORIES:All Event Locations,All Event Topics,All Event Types,Content Marketing,Marketing,Social Media,Sydney,Workshop
END:VEVENT
BEGIN:VEVENT
DTSTART;VALUE=DATE:20181217
DTEND;VALUE=DATE:20181218
DTSTAMP:20260425T024625
CREATED:20181119T231822Z
LAST-MODIFIED:20181119T231822Z
UID:12738-1545004800-1545091199@marketing.com.au
SUMMARY:Internet Marketing Fundamentals Training
DESCRIPTION:With the marketing industry changing so much over the past decade and with the Internet changing the way people communicate\, the Internet marketer’s dream has come true. With the use of all of the Social Media platforms and the low costs involved it is a marketing tool that can reach a large audience. At this event participants will also learn how to utilise your content.
URL:https://marketing.com.au/event/internet-marketing-fundamentals-training/
LOCATION:Regus – Sydney\, Regus – Sydney Circular Quay Level 34 AMP Tower\, 50 Bridge St\, Sydney\, NSW\, 2000\, Australia
CATEGORIES:All Event Locations,All Event Topics,All Event Types,Digital Marketing,Marketing,Social Media,Sydney,Workshop
END:VEVENT
END:VCALENDAR