BEGIN:VCALENDAR
VERSION:2.0
PRODID:-//Marketing.com.au - ECPv6.15.20//NONSGML v1.0//EN
CALSCALE:GREGORIAN
METHOD:PUBLISH
X-ORIGINAL-URL:https://marketing.com.au
X-WR-CALDESC:Events for Marketing.com.au
REFRESH-INTERVAL;VALUE=DURATION:PT1H
X-Robots-Tag:noindex
X-PUBLISHED-TTL:PT1H
BEGIN:VTIMEZONE
TZID:Australia/Melbourne
BEGIN:STANDARD
TZOFFSETFROM:+1100
TZOFFSETTO:+1000
TZNAME:AEST
DTSTART:20170401T160000
END:STANDARD
BEGIN:DAYLIGHT
TZOFFSETFROM:+1000
TZOFFSETTO:+1100
TZNAME:AEDT
DTSTART:20170930T160000
END:DAYLIGHT
BEGIN:STANDARD
TZOFFSETFROM:+1100
TZOFFSETTO:+1000
TZNAME:AEST
DTSTART:20180331T160000
END:STANDARD
BEGIN:DAYLIGHT
TZOFFSETFROM:+1000
TZOFFSETTO:+1100
TZNAME:AEDT
DTSTART:20181006T160000
END:DAYLIGHT
BEGIN:STANDARD
TZOFFSETFROM:+1100
TZOFFSETTO:+1000
TZNAME:AEST
DTSTART:20190406T160000
END:STANDARD
BEGIN:DAYLIGHT
TZOFFSETFROM:+1000
TZOFFSETTO:+1100
TZNAME:AEDT
DTSTART:20191005T160000
END:DAYLIGHT
END:VTIMEZONE
BEGIN:VEVENT
DTSTART;VALUE=DATE:20181101
DTEND;VALUE=DATE:20181102
DTSTAMP:20260424T230929
CREATED:20181019T023020Z
LAST-MODIFIED:20181019T023020Z
UID:12485-1541030400-1541116799@marketing.com.au
SUMMARY:Something Digital
DESCRIPTION:Something Digital is all about celebrating Brisbane’s digital ecosystem and the incredible people that power it. If digital marketing\, branding\, media and customers are your thing … then Something Digital is for YOU!  \nWith over 30 global\, interstate and local experts presenting 16 sessions over one epic day … choose which digital topics spark your interest to see what you can experience this November.
URL:https://marketing.com.au/event/something-digital/
LOCATION:Brisbane Convention and Exhibition Centre\, 80 Merivale Street\, South Brisbane\, Brisbane\, QLD\, 4101\, Australia
CATEGORIES:All Event Locations,All Event Topics,All Event Types,Brisbane,Conference,Content Marketing,Digital Marketing,Marketing
END:VEVENT
BEGIN:VEVENT
DTSTART;VALUE=DATE:20181101
DTEND;VALUE=DATE:20181102
DTSTAMP:20260424T230929
CREATED:20181019T060628Z
LAST-MODIFIED:20181019T060628Z
UID:12510-1541030400-1541116799@marketing.com.au
SUMMARY:Digital Velocity Australia
DESCRIPTION:This one day conference has been designed to help you transform your digital business by using data to fuel more customer-centric experiences. The speakers will be talking about their data driven customer experience stories and how they overcame the issues that were connected to the ever demanding customer base. You will have the opportunity to connect with and spend time with teams and product leaders that have enabled brands to successfully connect with and drive deeper relationships with customers.
URL:https://marketing.com.au/event/digital-velocity-australia/
LOCATION:Australian National Maritime Museum\, 2 Murray Street\, Sydney\, NSW\, 2000\, Australia
CATEGORIES:All Event Locations,All Event Topics,All Event Types,Conference,Market Research,Marketing,Sydney
END:VEVENT
BEGIN:VEVENT
DTSTART;VALUE=DATE:20181101
DTEND;VALUE=DATE:20181102
DTSTAMP:20260424T230929
CREATED:20181019T071513Z
LAST-MODIFIED:20181019T071513Z
UID:12521-1541030400-1541116799@marketing.com.au
SUMMARY:2018 ADMA WA State Conference
DESCRIPTION:This conference has been designed to give you an action-packed insight into how companies are driving innovation in customer experience\, technology\, data-driven marketing and creativity in the face of the changing customer expectations. This event will cover topics including the future of fashion tech and creating a culture of innovation at Woolmark; a deep dive into Village Roadshow’s journey to creating meaningful customer engagement through content that resonates; global insights from eBAY into Australian eCommerce and online consumer behaviour; and a panel discussion – Leading in the Age of the Customer\, which explores the drivers of customer-centricity and the role of marketing in an age of constant disruption.
URL:https://marketing.com.au/event/2018-adma-wa-state-conference/
LOCATION:Perth Convention and Exhibition Centre (PCEC)\, 21 Mounts Bay Rd\, Perth\, Western Australia\, 6000\, Australia
CATEGORIES:All Event Locations,All Event Topics,All Event Types,Conference,Marketing,Perth
END:VEVENT
BEGIN:VEVENT
DTSTART;TZID=Australia/Melbourne:20181101T080000
DTEND;TZID=Australia/Melbourne:20181101T170000
DTSTAMP:20260424T230929
CREATED:20181019T043833Z
LAST-MODIFIED:20181019T043833Z
UID:12498-1541059200-1541091600@marketing.com.au
SUMMARY:MeasureUp 2018
DESCRIPTION:The MeasureUp conference will look at the latest ways to assess digital ad effectiveness. You will hear from both local and international speakers who will be talking different ways of measuring both the opportunities available for advertisers and the impact of their investments. This event will bring the smartest brains on the topic to shed light and provide perspective. The conference will help shape digital and cross-media measurement in the Australian market for the next 12 months.
URL:https://marketing.com.au/event/measureup-2018/
LOCATION:PwC Barangaroo\, One International Towers\, Watermans Quay\, Barangaroo\, NSW\, 2000\, Australia
CATEGORIES:Advertising,All Event Locations,All Event Topics,Marketing,Sydney,Workshop
END:VEVENT
BEGIN:VEVENT
DTSTART;VALUE=DATE:20181102
DTEND;VALUE=DATE:20181103
DTSTAMP:20260424T230929
CREATED:20181019T074244Z
LAST-MODIFIED:20181019T074244Z
UID:12529-1541116800-1541203199@marketing.com.au
SUMMARY:Social Media Course - Sydney\, November
DESCRIPTION:This social media course has been designed to give a better understanding on how to use social media for marketing\, including the direction\, tools and confidence which in turn will help you become focused and effective. It will help change your thinking to become more strategic\, meaning that you can become more successful in the long run and you will get practical tips for quick gains.
URL:https://marketing.com.au/event/social-media-course-sydney-november/
LOCATION:Media School Studio – Sydney\, 335 Clovelly Road\, Clovelly\, NSW\, 2031\, Australia
CATEGORIES:All Event Locations,All Event Topics,All Event Types,Marketing,Social Media,Sydney
END:VEVENT
BEGIN:VEVENT
DTSTART;VALUE=DATE:20181113
DTEND;VALUE=DATE:20181114
DTSTAMP:20260424T230929
CREATED:20181019T063756Z
LAST-MODIFIED:20181019T063756Z
UID:12515-1542067200-1542153599@marketing.com.au
SUMMARY:B2B Marketing Leaders Forum Melbourne 2018
DESCRIPTION:This is Melbourne’s first B2B marketing conference which has bee designed to help you and give you a chance to learn the latest in strategies\, technologies and leadership techniques for turning  your departments into revenue generating machines\, becoming modern marketers and advance your careers as individuals. The tickets are selling fast\, so make sure you register today!
URL:https://marketing.com.au/event/b2b-marketing-leaders-forum-melbourne-2018/
LOCATION:NSW
CATEGORIES:All Event Locations,All Event Topics,All Event Types,Conference,Marketing,Melbourne
END:VEVENT
BEGIN:VEVENT
DTSTART;VALUE=DATE:20181113
DTEND;VALUE=DATE:20181115
DTSTAMP:20260424T230929
CREATED:20180920T060136Z
LAST-MODIFIED:20180920T060136Z
UID:12368-1542067200-1542239999@marketing.com.au
SUMMARY:Workforce Analytics Workshop
DESCRIPTION:With this industry always changing it can be hard to keep up\, this two-day training course will be exploring the different tools that are designed to help you look at your future needs of your company as well as establish best practices to propel your business. \nsome things that you will be learning include: \n\nUsing meaningful data and metrics to plan in a disruptive environment\nApplying workforce analytics to gauge human capital and drive change\nUnderstanding the fundamental calculations needed to support your organisation\nDeveloping best practices for forecasting and planning\, plus more!
URL:https://marketing.com.au/event/workforce-analytics-workshop/
LOCATION:Cliftons Brisbane\, Level 3\, 288 Edward Street\, Brisbane\, Queensland\, 5000\, Australia
CATEGORIES:All Event Locations,All Event Topics,All Event Types,Brisbane,Digital Marketing,Marketing,Workshop
END:VEVENT
BEGIN:VEVENT
DTSTART;TZID=Australia/Melbourne:20181113T071500
DTEND;TZID=Australia/Melbourne:20181113T084500
DTSTAMP:20260424T230929
CREATED:20181019T072424Z
LAST-MODIFIED:20181019T072424Z
UID:12526-1542093300-1542098700@marketing.com.au
SUMMARY:ADMA QLD Guru Breakfast
DESCRIPTION:If this year you want to continue to enhance your customer experience\, then this event has been created for you! You will hear from 2 of Australia’s top brands\, Guzman y Gomez and Dominos as they discuss how they deliver exceptional customer experiences using data and brand authenticity.   \nLara Thom\, Chief Marketing Officer from Guzman y Gomez will be talking about how she uses the brand and its values to make the guest experience the number one priority for the business. While Abbey Beck\, Marketing Insights Manager from Dominos discusses how they transformed itself using innovation\, data and insights to personalise the customer experience and provide better targeting and also how these tactics will be used in the future to further enhance the customer experience.
URL:https://marketing.com.au/event/adma-qld-guru-breakfast/
LOCATION:Cloudland\, 641 Ann Street \, Fortitude Valley\, Queensland\, 4006\, Australia
CATEGORIES:All Event Locations,All Event Topics,All Event Types,Brisbane,Marketing,Workshop
END:VEVENT
BEGIN:VEVENT
DTSTART;TZID=Australia/Melbourne:20181114T180000
DTEND;TZID=Australia/Melbourne:20181114T203000
DTSTAMP:20260424T230929
CREATED:20181019T044439Z
LAST-MODIFIED:20181019T044439Z
UID:12501-1542218400-1542227400@marketing.com.au
SUMMARY:NSW Marketing 2019 & Beyond: Trends and Predictions
DESCRIPTION:The Marketing 2019 & Beyond event is an opportunity to gain valuable insider knowledge from some of the industry’s most experienced and engaging thought leaders. The expert panel will discuss future marketing trends across 5 key areas: \n\nContent Marketing\nCreative Marketing\nDigital Marketing\nCustomer Experience\nData Driven Marketing and Career Management
URL:https://marketing.com.au/event/nsw-marketing-2019-beyond/
LOCATION:Michael Page\, Level 32\, 225 George Street\, Sydney\, NSW\, 2000\, Australia
CATEGORIES:All Event Locations,All Event Topics,All Event Types,Sydney
END:VEVENT
BEGIN:VEVENT
DTSTART;VALUE=DATE:20181115
DTEND;VALUE=DATE:20181116
DTSTAMP:20260424T230929
CREATED:20181019T070412Z
LAST-MODIFIED:20181019T070412Z
UID:12517-1542240000-1542326399@marketing.com.au
SUMMARY:Eight Steps to Successful Content Marketing
DESCRIPTION:With so much money going into advertising each year\, it is imperative that you have content that goes along the buying journey\, this almost always ends in higher sales value and a longer relationship. With Google rewarding quality content and update frequency\, mastering the art of content creation\, promotion and distribution is an essential skill for business owners\, marketing professionals and revenue drivers. \nAt this event\, the speak will conduct a workshop which is focused on an 8 Step Process to successful content marketing: \n\nStrategy Development\nIdeation\nContent Creation\nOptimisation\nPromotion\nDistribution\nLead Nurture\nMeasurement
URL:https://marketing.com.au/event/eight-steps-successful-content-marketing/
LOCATION:Incredible Communications’ Creative Hub\, Suites 2-5\, 838 Old Princes Highway\, Sutherland\, NSW\, 2232\, Australia
CATEGORIES:All Event Locations,All Event Topics,All Event Types,Sydney,Workshop
END:VEVENT
BEGIN:VEVENT
DTSTART;TZID=Australia/Melbourne:20181115T170000
DTEND;TZID=Australia/Melbourne:20181115T200000
DTSTAMP:20260424T230929
CREATED:20181019T025817Z
LAST-MODIFIED:20181019T025817Z
UID:12488-1542301200-1542312000@marketing.com.au
SUMMARY:Marketing in 2028 - Brisbane
DESCRIPTION:At this event\, you will be looking at where marketing has been over the past 10 years as well as what to expect over the next 10. There will a Futurist who will be discussing what to expect\, as well as a panel discussion to share ideas and insights for what is to come. \nHere are just some of the things we’ll be discussing: \n\nWhat might a marketer’s role look like in the next 10 years\nHow will we be working and what will change\nWhat channels will we be using\nWhat innovation we can expect\, plus more!\n\nAs marketers we need to keep looking ahead\, don’t miss out on this unique chance to prepare for the next decade!
URL:https://marketing.com.au/event/marketing-in-2028-brisbane/
LOCATION:Flight Centre HQ\, Southpoint\, 275 Grey Street\, South Brisbane\, QLD\, 4101\, Australia
CATEGORIES:All Event Locations,All Event Topics,All Event Types,Brisbane,Content Marketing,Marketing,Presentation,Workshop
ORGANIZER;CN="Interactive Minds":MAILTO:louisa(at)interactiveminds.com.au
END:VEVENT
BEGIN:VEVENT
DTSTART;TZID=Australia/Melbourne:20181116T080000
DTEND;TZID=Australia/Melbourne:20181116T170000
DTSTAMP:20260424T230929
CREATED:20181116T122201Z
LAST-MODIFIED:20181116T122201Z
UID:12699-1542355200-1542387600@marketing.com.au
SUMMARY:Mobile Marketing APAC 2018
DESCRIPTION:With the year coming to a close this event will be a full day of content designed for both App Marketers and Digital Marketers. This event is perfect for Australian and Nw Zealand brands\, apps and tech companies. You will learn how to leverage mobile growth channels such as ad networks\, social media channels and also mobile web.
URL:https://marketing.com.au/event/mobile-marketing-apac-2018/
LOCATION:Impelus Limited\, Level 23\, 100 William Street\, East Sydney\, NWS\, 2011\, Australia
CATEGORIES:All Event Locations,All Event Topics,All Event Types,Content Marketing,Market Research,Marketing,Presentation,Sydney,Workshop
END:VEVENT
BEGIN:VEVENT
DTSTART;VALUE=DATE:20181129
DTEND;VALUE=DATE:20181130
DTSTAMP:20260424T230929
CREATED:20181116T131025Z
LAST-MODIFIED:20181116T131025Z
UID:12703-1543449600-1543535999@marketing.com.au
SUMMARY:Search Engine Bootcamp
DESCRIPTION:Search Engine Bootcamp has been created for anyone who works for a small business\, marketing department or an agency who need a better understanding of search engine optimisation\, to help with their line of work that is remotely connected to driving sales\, visitors or customers. You will learn from the basics\, keyword research\, writing copy\, local search\, analytics or paid search marketing plus more.
URL:https://marketing.com.au/event/search-engine-bootcamp/
LOCATION:Cliftons Sydney\, Level 13\, 60 Margaret Street\, Sydney\, Victoria\, 2000\, Australia
CATEGORIES:All Event Locations,All Event Topics,All Event Types,Content Marketing,Market Research,Marketing,Presentation,Sydney,Workshop
END:VEVENT
BEGIN:VEVENT
DTSTART;TZID=Australia/Melbourne:20181129T083000
DTEND;TZID=Australia/Melbourne:20181129T120000
DTSTAMP:20260424T230929
CREATED:20181019T062557Z
LAST-MODIFIED:20181019T062557Z
UID:12513-1543480200-1543492800@marketing.com.au
SUMMARY:Social Media for Business
DESCRIPTION:To help you succeed in digital marketing and social media\, you need to understand how the platforms work. This event will look at Facebook\, Twitter and Instagram and they will give you practical tips and tricks to increase you ROI. Attend this event for an in-depth look at the reasons why things happen the way they do on social and how you can maximise your efforts in a resource strapped environment. \nThis masterclass will take a look at: \n\nHow social communicates your brand\nThe basics of Facebook\, Instagram\, Twitter\nWhat’s new & the latest trends in social media\nHashtags & other jargon\, plus more!
URL:https://marketing.com.au/event/social-media-for-business/
LOCATION:InterContinental Perth\, 815 Hay Street\, Perth\, WA\, 6000\, Australia
CATEGORIES:All Event Locations,All Event Topics,All Event Types,Marketing,Perth,Presentation,Social Media,Workshop
ORGANIZER;CN="Social Media Perth":MAILTO:info@smperth.com
END:VEVENT
END:VCALENDAR