BEGIN:VCALENDAR
VERSION:2.0
PRODID:-//Marketing.com.au - ECPv6.15.20//NONSGML v1.0//EN
CALSCALE:GREGORIAN
METHOD:PUBLISH
X-ORIGINAL-URL:https://marketing.com.au
X-WR-CALDESC:Events for Marketing.com.au
REFRESH-INTERVAL;VALUE=DURATION:PT1H
X-Robots-Tag:noindex
X-PUBLISHED-TTL:PT1H
BEGIN:VTIMEZONE
TZID:Australia/Melbourne
BEGIN:STANDARD
TZOFFSETFROM:+1100
TZOFFSETTO:+1000
TZNAME:AEST
DTSTART:20170401T160000
END:STANDARD
BEGIN:DAYLIGHT
TZOFFSETFROM:+1000
TZOFFSETTO:+1100
TZNAME:AEDT
DTSTART:20170930T160000
END:DAYLIGHT
BEGIN:STANDARD
TZOFFSETFROM:+1100
TZOFFSETTO:+1000
TZNAME:AEST
DTSTART:20180331T160000
END:STANDARD
BEGIN:DAYLIGHT
TZOFFSETFROM:+1000
TZOFFSETTO:+1100
TZNAME:AEDT
DTSTART:20181006T160000
END:DAYLIGHT
BEGIN:STANDARD
TZOFFSETFROM:+1100
TZOFFSETTO:+1000
TZNAME:AEST
DTSTART:20190406T160000
END:STANDARD
BEGIN:DAYLIGHT
TZOFFSETFROM:+1000
TZOFFSETTO:+1100
TZNAME:AEDT
DTSTART:20191005T160000
END:DAYLIGHT
END:VTIMEZONE
BEGIN:VEVENT
DTSTART;VALUE=DATE:20180808
DTEND;VALUE=DATE:20180810
DTSTAMP:20260424T165225
CREATED:20180524T034205Z
LAST-MODIFIED:20201008T045614Z
UID:11694-1533686400-1533859199@marketing.com.au
SUMMARY:CXO Leaders Australia
DESCRIPTION:The 5th annual CXO Leaders Summit Australia is an invitation only event and intended for Australia’s most senior marketing\, customer experience and digital leaders to gather for a strategic two day event in order to exchange knowledge and interact as one over a range of important issues facing the industry. The one-to-one meetings with leading supplier companies will also provide a wealth of knowledge and offer opportunities for all attending delegates\, while the informal networking sessions promise to create a unique interactive forum.
URL:https://marketing.com.au/event/cxo-leaders-australia/
LOCATION:Hilton Sydney\, 488 Georges Street\, Sydney\, New South Wales\, 2000\, Australia
CATEGORIES:All Event Locations,All Event Topics,All Event Types,Conference,Content Marketing,Digital Marketing,Marketing,Presentation,Sydney
ATTACH;FMTTYPE=image/jpeg:https://marketing.com.au/wp-content/uploads/2018/05/Featured-event-banner-750x5003.jpg
ORGANIZER;CN="Media Corp International":MAILTO:jennifer(at)mediacorpinternational.com.au
END:VEVENT
BEGIN:VEVENT
DTSTART;VALUE=DATE:20180809
DTEND;VALUE=DATE:20180810
DTSTAMP:20260424T165225
CREATED:20180514T144034Z
LAST-MODIFIED:20180514T144034Z
UID:11615-1533772800-1533859199@marketing.com.au
SUMMARY:LinkedIn Training Course (Sydney)
DESCRIPTION:With so many people on LinkedIn\, it is important to be able to use it properly and to its full potential. There are 2 ways that LinkedIn can be used\, for marketing or for your career. This 1 day workshop will teach you about the main features: \n\nProfile – what to write and how to write it\nConnections – who to connect with\, the right way to do it\nGroups – which to join and how to interact in them\nRecommendations – how to ask for and write recommendations\nCompanies – how to get the most out of business pages\nSearch – how to use Linkedin search to find sales/work leads\nPublishing – what to write and how to do it
URL:https://marketing.com.au/event/linkedin-training-course-sydney-3/
LOCATION:Media School Studio – Sydney\, 335 Clovelly Road\, Clovelly\, NSW\, 2031\, Australia
CATEGORIES:All Event Locations,All Event Topics,Content Marketing,Digital Marketing,Marketing,Social Media,Sydney,Workshop
END:VEVENT
BEGIN:VEVENT
DTSTART;VALUE=DATE:20180810
DTEND;VALUE=DATE:20180811
DTSTAMP:20260424T165225
CREATED:20180712T051136Z
LAST-MODIFIED:20201002T004217Z
UID:11987-1533859200-1533945599@marketing.com.au
SUMMARY:Social Media Course (Sydney)
DESCRIPTION:This 1 day workshop has been designed to give you an understanding of how to use social media for your marketing. It will give you the direction and tools to help you become more focused and effective. It will help you think strategically about your social media so you can be successful in the long run and it will give you practical tips for quick gains. \nFor each of the major platforms you will learn: \n\nhow they work (a simple intro)\nhow to use them for marketing\nkey strategies for success\, plus more!
URL:https://marketing.com.au/event/social-media-course-sydney-6/
LOCATION:Media School Studio – Sydney\, 335 Clovelly Road\, Clovelly\, NSW\, 2031\, Australia
CATEGORIES:All Event Locations,All Event Topics,All Event Types,Content Marketing,Marketing,Social Media,Sydney,Workshop
END:VEVENT
BEGIN:VEVENT
DTSTART;VALUE=DATE:20180815
DTEND;VALUE=DATE:20180817
DTSTAMP:20260424T165225
CREATED:20180612T054748Z
LAST-MODIFIED:20180612T054748Z
UID:11757-1534291200-1534463999@marketing.com.au
SUMMARY:Adobe Symposium
DESCRIPTION:Customers always want amazing experiences\, either shopping online for a product or a service. As the Marketing guru for your company\, you’re the one who will make them as you are the one who knows the power of the experience economy. If you want to engage with your customers at a deeper level and create unbelievable experiences\, then this is the event for you. \n\nSpeakers:\nYou will learn from experience makers before you. We’ll inspire you with stories from your peers who have created great experiences. Learn how they did it\, so you can do better for your customers. The speaker indclude: \n\nDavid Godsman\, Chief Digital Officer\, The Coca-Cola Company\nMark Teperson\, Chief Digital Officer\, Accent Group Ltd\nCindy Gallop\, Brand Reinvention Consultant\nTim Urban\, Creator\, Wait But Why
URL:https://marketing.com.au/event/adobe-symposium/
LOCATION:International Convention Centre Sydney\, Darling Drive\, Darling Harbour\, NSW\, 2000\, Australia
CATEGORIES:All Event Locations,All Event Topics,All Event Types,Conference,Marketing,Social Media,Sydney
END:VEVENT
BEGIN:VEVENT
DTSTART;TZID=Australia/Melbourne:20180815T080000
DTEND;TZID=Australia/Melbourne:20180815T103000
DTSTAMP:20260424T165225
CREATED:20180723T123404Z
LAST-MODIFIED:20180723T123404Z
UID:12026-1534320000-1534329000@marketing.com.au
SUMMARY:Content Marketing: Shifts\, Trends & Results - Melbourne
DESCRIPTION:Digital content for business is extremely vital for your organisation\, however with change continually occurring within audiences\, content consumption and platforms used. It’s vital that the way content is created\, distributed\, measured and reuses is reviewed regularly to ensure it leverages the current opportunities available. \nThis event will explore the latest digital content methods and tactics working for marketers both internationally and locally. The speakers will share the content they are creating\, how they are distributing it and what’s working for them. They’ll talk about the reasons motivating their content generation\, how they choose a channel\, the measurement they use and what a good result looks like. \nWe are excited to be joined by Ashley Ward international digital marketing expert from SEM Rush who will be in Australia from the USA for this event.
URL:https://marketing.com.au/event/content-marketing-shifts-trends-results-melbourne/
LOCATION:The Angliss Conference Centre\, Level 5\, 555 La Trobe Street\, Melbourne\, VIC\, 3000\, Australia
CATEGORIES:All Event Locations,All Event Topics,All Event Types,Content Marketing,Digital Marketing,Marketing,Melbourne,Workshop
ORGANIZER;CN="Interactive Minds":MAILTO:louisa(at)interactiveminds.com.au
END:VEVENT
BEGIN:VEVENT
DTSTART;VALUE=DATE:20180820
DTEND;VALUE=DATE:20180823
DTSTAMP:20260424T165225
CREATED:20180316T113731Z
LAST-MODIFIED:20180316T113731Z
UID:11274-1534723200-1534982399@marketing.com.au
SUMMARY:CMO Summit 2018
DESCRIPTION:The marketing industry is coming into an exciting and challenging time. There will be more and more competition and evolving minds of consumers\, marketers must strategically craft a marketing strategy that talks to their audience and strengthens brand presence. Thinking like a customer as the heart of the business will help scale the heights and maintain their place in the market. This conference has been designed to help marketers do this.
URL:https://marketing.com.au/event/cmo-summit-2018/
LOCATION:RACV Royal Pines Resort\, Benowa\, Gold Coast\, QLD\, 4217\, Australia
CATEGORIES:All Event Locations,All Event Topics,All Event Types,Brisbane,Content Marketing,Digital Marketing,Marketing
END:VEVENT
BEGIN:VEVENT
DTSTART;TZID=Australia/Melbourne:20180821T080000
DTEND;TZID=Australia/Melbourne:20180821T100000
DTSTAMP:20260424T165225
CREATED:20180810T033453Z
LAST-MODIFIED:20180810T034243Z
UID:12098-1534838400-1534845600@marketing.com.au
SUMMARY:Content Marketing: Shifts\, Trends & Results
DESCRIPTION:With change happening all the time with audiences and their content consumption it can be hard to keep on top of\, however\, the value of digital content for businesses is extremely important. It is important that the way content that is created\, distributed\, measured and reused is reviewed regularly. \nWhether your content is copy\, video or audio\, you’ll gain insights into the latest techniques and updates available so that your content can be authentic\, use a consistent brand voice and ultimately drive an outcome. \nOur Speakers \n\nAshley Ward\, Digital Marketing Strategist\, SEMrush\nElissa Hudson\, Senior Marketing Manager\, HubSpot\nNicki Williams\, Senior Brand Strategy Manager\, APAC\, BuzzFeed
URL:https://marketing.com.au/event/content-marketing-shifts-trends-results/
LOCATION:General Assembly Sydney\, Level 2\, 1 Market Street\, Sydney\, NSW\, 2000\, Australia
CATEGORIES:All Event Locations,All Event Topics,All Event Types,Digital Marketing,Marketing,Sydney,Workshop
ORGANIZER;CN="Interactive Minds":MAILTO:louisa(at)interactiveminds.com.au
END:VEVENT
BEGIN:VEVENT
DTSTART;VALUE=DATE:20180822
DTEND;VALUE=DATE:20180824
DTSTAMP:20260424T165225
CREATED:20180117T134537Z
LAST-MODIFIED:20180117T142036Z
UID:11035-1534896000-1535068799@marketing.com.au
SUMMARY:DigiMarCon Australia 2018
DESCRIPTION:DigiMarCon Australia 2018 will bring together speakers in the digital marketing industry\, you will learn upcoming strategies\, innovative technologies\, best practices and insights from digital marketing campaigns that have been successful. You will learn about different topics such as Web Experience Management\, Content Strategy\, Mobile Marketing plus much more.
URL:https://marketing.com.au/event/digimarcon-australia-2018/
LOCATION:ANZ Stadium\, Edwin Flack Avenue\, Sydney\, NSW\, 2000\, Australia
CATEGORIES:All Event Locations,All Event Topics,All Event Types,Conference,Content Marketing,Digital Marketing,Graphic Design,Market Research,Marketing,Social Media,Sydney,Workshop
END:VEVENT
BEGIN:VEVENT
DTSTART;TZID=Australia/Melbourne:20180822T080000
DTEND;TZID=Australia/Melbourne:20180822T103000
DTSTAMP:20260424T165225
CREATED:20180723T123942Z
LAST-MODIFIED:20180723T123942Z
UID:12028-1534924800-1534933800@marketing.com.au
SUMMARY:Content Marketing: Shifts\, Trends & Results - Brisbane
DESCRIPTION:At this event you will explore the latest in digital content methods and tactics working for marketers both internationally and locally. The speakers at this event will share the content they are creating\, how they are distributing it and what’s working for them. They’ll talk about the reasons motivating their content generation\, how they choose a channel\, the measurement they use and what a good result looks like. \nDigital content for business is extremely vital for your organisation\, however with change continually occurring within audiences\, content consumption and platforms used needs to change also.  \nWe are excited to be joined by Ashley Ward international digital marketing expert from SEM Rush who will be in Australia from the USA for this event.
URL:https://marketing.com.au/event/content-marketing-shifts-trends-results-brisbane/
LOCATION:The Grove\, 480 Queen Street\, Brisbane\, QLD\, 4000\, Australia
CATEGORIES:All Event Locations,All Event Topics,All Event Types,Brisbane,Content Marketing,Digital Marketing,Marketing,Workshop
ORGANIZER;CN="Interactive Minds":MAILTO:louisa(at)interactiveminds.com.au
END:VEVENT
BEGIN:VEVENT
DTSTART;TZID=Australia/Melbourne:20180829T100000
DTEND;TZID=Australia/Melbourne:20180829T120000
DTSTAMP:20260424T165225
CREATED:20180612T062605Z
LAST-MODIFIED:20201002T004922Z
UID:11765-1535536800-1535544000@marketing.com.au
SUMMARY:LinkedIn Marketing: Build Your Brand & Create Business Opportunities
DESCRIPTION:With the growth of LinkedIn as a social platform\, it is an ideal tool for key decision makers. This is a perfect marketing channel for building brand awareness and creating business opportunities. This interactive workshop will give you the tools to build both your personal brand and also your company’s brand. Attendance at this event will show you how to develop and implement LinkedIn marketing strategies to help get your corporate brand in front of the correct audience.
URL:https://marketing.com.au/event/linkedin-marketing-build-your-brand-create-business-opportunities-2/
LOCATION:Cliftons Brisbane\, Level 3\, 288 Edward Street\, Brisbane\, Queensland\, 5000\, Australia
CATEGORIES:All Event Locations,All Event Topics,All Event Types,Brisbane,Content Marketing,Market Research,Marketing,Social Media,Workshop
END:VEVENT
BEGIN:VEVENT
DTSTART;VALUE=DATE:20180830
DTEND;VALUE=DATE:20180901
DTSTAMP:20260424T165225
CREATED:20180612T055618Z
LAST-MODIFIED:20180612T055618Z
UID:11759-1535587200-1535759999@marketing.com.au
SUMMARY:ADMA Global Forum 2018
DESCRIPTION:This conference that goes over two action-packed days\, you will discover new inspirational perspectives and the latest practical applications from brands delivering an exceptional customer experience on a global scale. \nThis Forum has been designed specifically to ensure you and your team walk away with actionable strategies to help drive customer experience excellence within your own organisation. \nSpeakers\n\nFred Neil\, Head of Consumer Marketing\, Amazon India\nJoe Urbany\, Professor of Marketing\, University of Notre Dame\nTroy Barnes\, Chief Customer Officer\, Pizza Hut Asia Pacific\nAlexander Meyer\, CMO\, The Iconic\nAlyse Sue\, Co-founder\, Transhumanism Australia\, plus many more
URL:https://marketing.com.au/event/adma-global-forum-2018/
LOCATION:Hilton Sydney\, 488 Georges Street\, Sydney\, New South Wales\, 2000\, Australia
CATEGORIES:All Event Locations,All Event Topics,All Event Types,Conference,Content Marketing,Digital Marketing,Market Research,Marketing,Sydney
END:VEVENT
BEGIN:VEVENT
DTSTART;TZID=Australia/Melbourne:20180830T083000
DTEND;TZID=Australia/Melbourne:20180830T120000
DTSTAMP:20260424T165225
CREATED:20180712T053906Z
LAST-MODIFIED:20180712T053906Z
UID:11993-1535617800-1535630400@marketing.com.au
SUMMARY:Social Media for Business (Masterclass)
DESCRIPTION:Do you have an understanding on how social media works? At this half-day event you will take a look at the in-depth reasons why things happen the way they do with social media and how to to maximise your resource strapped environment. You will learn from Meg Coffey the nuts and bolts of Facebook\, Twitter & Instagram which will help you with your ROI \nAt this event\, you will learn: \n\nHow social communicates your brand\nThe basics of Facebook\, Instagram\, Twitter\nWhat’s new & the latest trends in social media\nHashtags & other jargon\, plus more!
URL:https://marketing.com.au/event/social-media-for-business-masterclass/
LOCATION:InterContinental Perth\, 815 Hay Street\, Perth\, WA\, 6000\, Australia
CATEGORIES:All Event Locations,All Event Topics,All Event Types,Marketing,Social Media,Workshop
ORGANIZER;CN="Social Media Perth":MAILTO:info@smperth.com
END:VEVENT
END:VCALENDAR