BEGIN:VCALENDAR
VERSION:2.0
PRODID:-//Marketing.com.au - ECPv6.15.20//NONSGML v1.0//EN
CALSCALE:GREGORIAN
METHOD:PUBLISH
X-ORIGINAL-URL:https://marketing.com.au
X-WR-CALDESC:Events for Marketing.com.au
REFRESH-INTERVAL;VALUE=DURATION:PT1H
X-Robots-Tag:noindex
X-PUBLISHED-TTL:PT1H
BEGIN:VTIMEZONE
TZID:Australia/Melbourne
BEGIN:STANDARD
TZOFFSETFROM:+1100
TZOFFSETTO:+1000
TZNAME:AEST
DTSTART:20190406T160000
END:STANDARD
BEGIN:DAYLIGHT
TZOFFSETFROM:+1000
TZOFFSETTO:+1100
TZNAME:AEDT
DTSTART:20191005T160000
END:DAYLIGHT
BEGIN:STANDARD
TZOFFSETFROM:+1100
TZOFFSETTO:+1000
TZNAME:AEST
DTSTART:20200404T160000
END:STANDARD
BEGIN:DAYLIGHT
TZOFFSETFROM:+1000
TZOFFSETTO:+1100
TZNAME:AEDT
DTSTART:20201003T160000
END:DAYLIGHT
BEGIN:STANDARD
TZOFFSETFROM:+1100
TZOFFSETTO:+1000
TZNAME:AEST
DTSTART:20210403T160000
END:STANDARD
BEGIN:DAYLIGHT
TZOFFSETFROM:+1000
TZOFFSETTO:+1100
TZNAME:AEDT
DTSTART:20211002T160000
END:DAYLIGHT
END:VTIMEZONE
BEGIN:VEVENT
DTSTART;VALUE=DATE:20200519
DTEND;VALUE=DATE:20200521
DTSTAMP:20260420T011320
CREATED:20200503T012905Z
LAST-MODIFIED:20200808T045322Z
UID:15177-1589846400-1590019199@marketing.com.au
SUMMARY:SMX London
DESCRIPTION:Join the biggest Search Marketing Conference Series worldwide – Programme by Search Engine Land\, the leading Source of Search Marketing News. \nSearch marketing is by far the biggest area of digital marketing. You can’t afford to waste time or money getting it wrong. Attend SMX\, and you’ll get it right! \nImmerse yourself in three days of SEO\, SEM and Online Marketing sessions and you’re guaranteed to leave with practical tips and techniques to immediately improve your search marketing efforts. SMX also has strategic sessions to help you with what’s coming over the horizon. \nWith sessions designed to serve a diverse search marketing audience\, you’ll discover topics tailored for your needs — whether you’re into SEO or SEM\, whether you’re an advanced search marketing veteran or are a beginner just learning the ropes. \nPlus — if you work at an agency or as part of an in-house team\, SMX team rates let you divide and conquer to attend multiple tracks simultaneously. \nFeatured 2020 SMX London Sessions:\n\nSEO \n\nCreating Blockbuster Content\nKeywords Are Dead — Long Live Concepts\, Entities & Audiences!\nThe Most Common SEO Mistakes\, And How to Fix Them\nMeet The Search Engines\nSEO Success Without Link Building\nPenguin Prevention: Link Acquisition & Audit Techniques You Need To Know\n\n\nSEM/Paid Search \n\nAmazing Paid Search Tactics & Tools\nDeep Dive: Ad Bidding Strategies & Bid Modifiers\nConversion Rate Rockstars\nTaking Retargeting To The Next Level\n\n\n\nSearch & Social \n\nBetter Together: Search and Social\nWinning Strategies With Facebook Ads\nFaceoff: Adwords\, Linkedin & Twitter Compared\nMeasuring Up With Social Analytics\n\n\n\n 
URL:https://marketing.com.au/event/smx-london/
LOCATION:Online
CATEGORIES:Advertising,All Event Locations,All Event Topics,All Event Types,Conference,Content Marketing,Copywriting,Digital Marketing,Email marketing,Graphic Design,Marketing,Online,Public Relations,SEO,Social Media,Video,Website
END:VEVENT
BEGIN:VEVENT
DTSTART;VALUE=DATE:20200513
DTEND;VALUE=DATE:20200514
DTSTAMP:20260420T011320
CREATED:20200421T215617Z
LAST-MODIFIED:20200808T045324Z
UID:15089-1589328000-1589414399@marketing.com.au
SUMMARY:AWS Summit Online | Australia & New Zealand
DESCRIPTION:To help you get the most out of your AWS Summit Online experience we have curated our content to cover a broad range of topics and technical depth. Key topics you can learn about are artificial intelligence\, machine learning\, data and analytics\, security\, building on AWS\, migration and modernisation\, and operations and optimisation. \n\nTune in to AWS Summit Online on Wednesday 13 May 2020 and learn how cloud technology can help your business to lower costs\, improve efficiency\, and innovate at scale. \nThis virtual event is designed to educate you about the skills needed to design\, deploy\, and operate your infrastructure and applications. Sessions are delivered by AWS subject matter experts and customers who have successfully built solutions on AWS. \n\nWhether you are new to the cloud or an experienced user\, you can learn something new at AWS Summit Online Australia & New Zealand. \n\nChoose from a variety of educational sessions on topics such as artificial intelligence\, machine learning\, data and analytics\, security\, and much more\nGet started on the cloud with a step-by-step introduction to the core AWS services in our dedicated AWSome Day track\nExplore our Builders’ zone\, Skills zone\, and Startups loft for demos\, training paths\, and more\nLive chat with AWS experts\nGet hands on with Labs and the AWS DeepRacer League\nDive deep with our resource centre featuring case studies and whitepapers\nCollect badges and test your AWS knowledge with our Trivia Challenge\n\nFeatured Speaker: Dr. Werner Vogels\, Chief Technology Officer\, Amazon.com \n\nDr. Werner Vogels is Chief Technology Officer at Amazon.com\, where he is responsible for driving the company’s customer-centric technology vision. \nAs one of the forces behind Amazon’s approach to cloud computing\, he is passionate about helping young businesses reach global scale\, and transforming enterprises into fast-moving digital organizations. \nVogels joined Amazon in 2004 from Cornell University\, where he was a distributed systems researcher. He has held technology leadership positions in companies that handle the transition of academic technology into industry. Vogels holds a PhD from the Vrije Universiteit in Amsterdam and has authored many articles on distributed systems technologies for enterprise computing.
URL:https://marketing.com.au/event/aws-summit-online-australia-new-zealand/
LOCATION:Online
CATEGORIES:All Event Locations,All Event Topics,All Event Types,Online,Website
END:VEVENT
BEGIN:VEVENT
DTSTART;VALUE=DATE:20200506
DTEND;VALUE=DATE:20200508
DTSTAMP:20260420T011320
CREATED:20200422T083350Z
LAST-MODIFIED:20200808T045432Z
UID:15106-1588723200-1588895999@marketing.com.au
SUMMARY:Digital Summit At Home
DESCRIPTION:Why Attend Digital Summit At Home? \n\n25+ business critical digital marketing sessions you can view from anywhere.\nGet your biggest questions answered by our industry-leading speakers.\nFully interactive virtual networking space and vendor gallery.\nAll session recordings delivered to you post-event.\n$100 credit toward a future DS in-person event.\n\n\nAgenda-At-A-Glance \nMore than 25 practical sessions over 2 days! Topics include: \n\n\n\n\n\n\n\n\nThis is Marketing: A Live Q&A with Seth Godin on How We Move Forward\nHow to Be an Agile Digital Marketer in A Time of Crisis\nTips for Mastering Your Value Prop in a Changing Economy\n4 Ways to Measure Your Social Content Better Right Now (w/ Tool Recommendations!)\nHow Voice Tech Can Revolutionize Your Marketing During a Pandemic\nBuilding Trust in the Future: Human-Centric Marketing Strategies\nAnd much more!
URL:https://marketing.com.au/event/digital-summit-at-home/
LOCATION:Online
CATEGORIES:All Event Locations,All Event Topics,All Event Types,Content Marketing,Marketing,Online,SEO,Social Media,Website
END:VEVENT
BEGIN:VEVENT
DTSTART;TZID=Australia/Melbourne:20200427T080000
DTEND;TZID=Australia/Melbourne:20200501T170000
DTSTAMP:20260420T011320
CREATED:20200421T220734Z
LAST-MODIFIED:20200808T045433Z
UID:15095-1587974400-1588352400@marketing.com.au
SUMMARY:WP FeedBack Online Summit
DESCRIPTION:The Biggest Online Summit in the WordPress Space is Back\n\nGo Behind The Scenes With 30+ World-Class WordPress Agency Owners\, Developers & Marketers…\nFREE ONLINE EVENT April 27 – May 1\, 2020\n\n… And discover how to scale your WP agency or freelance business by attracting high-paying clients and building recurring revenue. \nJoin us now for a FREE online event\, 20 interviews and presentations from some of the top WordPress professionals\, sharing their experience and best strategies. \n\n  \n\nFree access to all video sessions here on this website.\nLearn how to scale without drowning in projects.\nUnderstand how to build a brand that attracts high-paying clients.\nGet a look behind the scenes of the most successful WP businesses.\nGet a grasp on WordPress security.\nGenerate recurring revenue with proven systems and strategies.\nDeliver your projects on time and keep clients happy.\nGet your clients to quickly deliver content when you ask them.\nStop working with less-than-stellar customers.\nLearn more about your mental health and well-being in these trying times.\n\n 
URL:https://marketing.com.au/event/wp-feedback-online-summit/
LOCATION:Online
CATEGORIES:All Event Locations,All Event Topics,All Event Types,Digital Marketing,Online,Website
END:VEVENT
BEGIN:VEVENT
DTSTART;VALUE=DATE:20200421
DTEND;VALUE=DATE:20200424
DTSTAMP:20260420T011320
CREATED:20200422T080815Z
LAST-MODIFIED:20200808T045436Z
UID:15097-1587427200-1587686399@marketing.com.au
SUMMARY:Discover MarTech
DESCRIPTION:A Virtual Event For Strategies & Solutions\n\n\nTues. April 21 – 1:00pm – 5:00pm ET\n\n\nWeds. April 22 – 1:00pm – 5:00pm ET\n\n\nThurs. April 23 – 1:00pm – 3:00pm ET\n\nDiscover MarTech: A Virtual Event For Strategies & Solutions is a free educational experience for senior-level marketers who need to stay up-to-speed on the latest developments in modern marketing and identify\, evaluate\, and implement time-saving\, profit-generating marketing technologies. \nThe all-new program will kick off with exclusive keynote presentations from MarTech program chair Scott Brinker and Real Story Group’s Tony Byrne. \nTopics include… \n\n\nWhat marketing might look like in a post-coronavirus world: What can you be doing to prepare? How will you adapt and thrive when the dust settles?\nFour archetypes of marketing technologists and a look at their roles and responsibilities\nThe current state of marketing technology and operations careers\, featuring insights from the latest chiefmartec.com/MarTech Today Career Survey\nA state-of-the-art martech stack: What does it look like? How does it work?\nHow you can manage change and uncertainty in marketing — in a changing and uncertain world\nPractical advice for vetting and buying marketing technology so you get the right fit for your specific enterprise needs\n\n\nDon’t miss this exciting opportunity to continue your learning initiatives\, engage with solution providers\, and connect with the MarTech community — all from the comfort and safety of your home or office. \n\n\n\n\n…with job titles like… \n\n\n\n\n\n\n\n\n\nChief Analytics Officer\nCreative Director\nDigital Marketing Director\nDirector of Data Engineering\, Marketing Technology\nDirector of Marketing\nDirector of MarTech\nDirector Software Development\nGlobal CRM Solutions Lead\nGlobal Marketing Technology Manager\nLead Developer\n\n\n\n\n\nMarketing Director\nMarketing Engineering Lead\nMarketing Technology Architect\nPrincipal IT Engineer\nPrincipal Solution Architect\nSenior Data Analyst\nSenior Manager\, Marketing Technology\nSVP Marketing Analytics\nVP Customer Engagement\nVP Marketing Technology
URL:https://marketing.com.au/event/discover-martech/
LOCATION:Online
CATEGORIES:Advertising,All Event Locations,All Event Topics,All Event Types,Content Marketing,Copywriting,Digital Marketing,Marketing,Online,SEO,Social Media,Website
END:VEVENT
BEGIN:VEVENT
DTSTART;TZID=Australia/Melbourne:20200328T080000
DTEND;TZID=Australia/Melbourne:20200329T170000
DTSTAMP:20260420T011320
CREATED:20200421T213059Z
LAST-MODIFIED:20200808T045550Z
UID:15061-1585382400-1585501200@marketing.com.au
SUMMARY:WordCamp San Antonio 2020
DESCRIPTION:Welcome to the World’s First Virtual WordCamp\, brought to you by the organizers of WordCamp San Antonio! \nThe camp will be a full two days of presentations and networking with information for everyone from those brand-new to WordPress to developers and from those managing their own website for themselves or their business\, to those who work full-time as website professionals. \nThe biggest change is that we have the pleasure [and challenge] to be the FIRST 100% virtual WordCamp! Not only that – we’re doing it LIVE and for FREE. \n 
URL:https://marketing.com.au/event/wordcamp-san-antonio-2020/
LOCATION:Online
CATEGORIES:All Event Locations,All Event Topics,All Event Types,Digital Marketing,Online,Website
END:VEVENT
END:VCALENDAR