BEGIN:VCALENDAR
VERSION:2.0
PRODID:-//Marketing.com.au - ECPv6.15.20//NONSGML v1.0//EN
CALSCALE:GREGORIAN
METHOD:PUBLISH
X-ORIGINAL-URL:https://marketing.com.au
X-WR-CALDESC:Events for Marketing.com.au
REFRESH-INTERVAL;VALUE=DURATION:PT1H
X-Robots-Tag:noindex
X-PUBLISHED-TTL:PT1H
BEGIN:VTIMEZONE
TZID:Australia/Melbourne
BEGIN:STANDARD
TZOFFSETFROM:+1100
TZOFFSETTO:+1000
TZNAME:AEST
DTSTART:20250405T160000
END:STANDARD
BEGIN:DAYLIGHT
TZOFFSETFROM:+1000
TZOFFSETTO:+1100
TZNAME:AEDT
DTSTART:20251004T160000
END:DAYLIGHT
BEGIN:STANDARD
TZOFFSETFROM:+1100
TZOFFSETTO:+1000
TZNAME:AEST
DTSTART:20260404T160000
END:STANDARD
BEGIN:DAYLIGHT
TZOFFSETFROM:+1000
TZOFFSETTO:+1100
TZNAME:AEDT
DTSTART:20261003T160000
END:DAYLIGHT
BEGIN:STANDARD
TZOFFSETFROM:+1100
TZOFFSETTO:+1000
TZNAME:AEST
DTSTART:20270403T160000
END:STANDARD
BEGIN:DAYLIGHT
TZOFFSETFROM:+1000
TZOFFSETTO:+1100
TZNAME:AEDT
DTSTART:20271002T160000
END:DAYLIGHT
END:VTIMEZONE
BEGIN:VEVENT
DTSTART;VALUE=DATE:20260310
DTEND;VALUE=DATE:20260311
DTSTAMP:20260419T234511
CREATED:20251231T030648Z
LAST-MODIFIED:20251231T073703Z
UID:27243-1773100800-1773187199@marketing.com.au
SUMMARY:Your thought leadership design\, and implementation\, in 2026
DESCRIPTION:Thought leadership isn’t just about posting on social media — it’s about owning your space\, shaping conversations\, and building trust at scale. In 2026\, with algorithms shifting toward authenticity and authority\, it’s never been more important to design a deliberate thought leadership strategy that cuts through noise and positions you as the go-to voice in your industry. \nIn this high-impact one-hour Lunch n’ Learn\, we’ll go beyond the “what” and the “why” of thought leadership to dive deep into the HOW. You’ll walk away with a clear roadmap for designing your presence\, creating the kind of content that earns attention [and respect]\, and implementing systems that make it sustainable long after inspiration fades. \nWhat we’ll cover: \n\nThe state of thought leadership in 2026: trends\, shifts\, and what’s changed\nHow to define your unique positioning so you stand out in crowded feeds\nThe anatomy of high-performing thought leadership content [formats\, storytelling styles\, and social SEO tactics]\nBuilding your thought leadership flywheel: turning one idea into a system of ongoing content\nPractical implementation strategies — from planning to batching to distribution\nHow to measure impact beyond vanity metrics [authority\, influence\, inbound opportunities]\nReal-world examples of thought leaders driving growth through social media in 2026
URL:https://marketing.com.au/event/your-thought-leadership-design-and-implementation-in-2026/
LOCATION:Online
CATEGORIES:Advertising,AI,All Event Locations,All Event Topics,All Event Types,Communications,Content Marketing,Copywriting,Digital Marketing,Marketing,Online,SEO,Social Media,Website
END:VEVENT
BEGIN:VEVENT
DTSTART;VALUE=DATE:20260320
DTEND;VALUE=DATE:20260321
DTSTAMP:20260419T234511
CREATED:20251231T050345Z
LAST-MODIFIED:20251231T073702Z
UID:27282-1773964800-1774051199@marketing.com.au
SUMMARY:Sydney SEO Conference 2026
DESCRIPTION:The 7th edition will take place in Sydney on Friday March 20th\, 2026. Get your ticket for the largest SEO and growth event in Australia. Mastermind will take place on Thursday March 19th 2026.
URL:https://marketing.com.au/event/sydney-seo-conference-2026/
LOCATION:Amora Hotel Jamison\, NSW
CATEGORIES:All Event Locations,All Event Topics,All Event Types,SEO,Sydney,Website
ORGANIZER;CN="Prosperity Media":MAILTO:james(at)prosperitymedia.com.au
END:VEVENT
END:VCALENDAR