BEGIN:VCALENDAR
VERSION:2.0
PRODID:-//Marketing.com.au - ECPv6.15.20//NONSGML v1.0//EN
CALSCALE:GREGORIAN
METHOD:PUBLISH
X-ORIGINAL-URL:https://marketing.com.au
X-WR-CALDESC:Events for Marketing.com.au
REFRESH-INTERVAL;VALUE=DURATION:PT1H
X-Robots-Tag:noindex
X-PUBLISHED-TTL:PT1H
BEGIN:VTIMEZONE
TZID:Australia/Melbourne
BEGIN:STANDARD
TZOFFSETFROM:+1100
TZOFFSETTO:+1000
TZNAME:AEST
DTSTART:20250405T160000
END:STANDARD
BEGIN:DAYLIGHT
TZOFFSETFROM:+1000
TZOFFSETTO:+1100
TZNAME:AEDT
DTSTART:20251004T160000
END:DAYLIGHT
BEGIN:STANDARD
TZOFFSETFROM:+1100
TZOFFSETTO:+1000
TZNAME:AEST
DTSTART:20260404T160000
END:STANDARD
BEGIN:DAYLIGHT
TZOFFSETFROM:+1000
TZOFFSETTO:+1100
TZNAME:AEDT
DTSTART:20261003T160000
END:DAYLIGHT
BEGIN:STANDARD
TZOFFSETFROM:+1100
TZOFFSETTO:+1000
TZNAME:AEST
DTSTART:20270403T160000
END:STANDARD
BEGIN:DAYLIGHT
TZOFFSETFROM:+1000
TZOFFSETTO:+1100
TZNAME:AEDT
DTSTART:20271002T160000
END:DAYLIGHT
END:VTIMEZONE
BEGIN:VEVENT
DTSTART;VALUE=DATE:20260116
DTEND;VALUE=DATE:20260117
DTSTAMP:20260420T070928
CREATED:20251231T033247Z
LAST-MODIFIED:20251231T073705Z
UID:27261-1768521600-1768607999@marketing.com.au
SUMMARY:Use Google Search Console to Drive Traffic and Sales
DESCRIPTION:If Google notices an issue with your website\, the only way it will communicate with you is through Google Search Console. Google Analytics will only track when a visitor\, visits your website. Beyond what visitors do on your website\, it is important to know for what searches your website appeared on Google\, how many of them resulted in a click\, what issues (if any) Google has noticed on your website. In this hands on webinar\, get armed with information\, to help Google index your website better to improve your performance on search.
URL:https://marketing.com.au/event/use-google-search-console-to-drive-traffic-and-sales/
LOCATION:Online
CATEGORIES:All Event Locations,All Event Topics,All Event Types,Digital Marketing,SEO,Website
END:VEVENT
BEGIN:VEVENT
DTSTART;VALUE=DATE:20260120
DTEND;VALUE=DATE:20260121
DTSTAMP:20260420T070928
CREATED:20251231T000136Z
LAST-MODIFIED:20251231T073705Z
UID:27224-1768867200-1768953599@marketing.com.au
SUMMARY:Increase your Reach on Facebook and Instagram
DESCRIPTION:Unlock the full potential of Facebook and Instagram marketing to reach a broader audience and grow your online presence. In this workshop\, you will gain practical skills and insights to help you enhance your brand visibility and recognition and drive business growth. \nThis topic covers:\n\nUnderstanding the Facebook and Instagram algorithm to determine what content is seen\nHow to improve your organic reach\nMarketing your business confidently on Facebook and Instagram\nAttracting potential customers\, increasing website traffic\, and boosting sales and conversions\n\nThis session is ideal for businesses looking to build their profile and market their business on Facebook and Instagram.
URL:https://marketing.com.au/event/increase-your-reach-on-facebook-and-instagram/
LOCATION:Online
CATEGORIES:All Event Locations,All Event Topics,All Event Types,Social Media,Website
END:VEVENT
BEGIN:VEVENT
DTSTART;VALUE=DATE:20260122
DTEND;VALUE=DATE:20260123
DTSTAMP:20260420T070928
CREATED:20251231T033718Z
LAST-MODIFIED:20251231T073704Z
UID:27264-1769040000-1769126399@marketing.com.au
SUMMARY:Create a Week’s Worth of Content in Just 1 Hour
DESCRIPTION:Creating consistent\, engaging content for your business can feel like a full-time job—but it doesn’t have to be. This webinar is designed to help small business owners plan and produce a full week’s worth of social media or marketing content in just one hour. You’ll learn practical strategies\, time-saving tools\, and a repeatable system that will keep your content fresh\, relevant\, and ready to post without the overwhelm.
URL:https://marketing.com.au/event/create-a-weeks-worth-of-content-in-just-1-hour/
LOCATION:Online
CATEGORIES:Advertising,All Event Locations,All Event Topics,All Event Types,Content Marketing,Digital Marketing,Marketing,Social Media,Website
END:VEVENT
END:VCALENDAR