BEGIN:VCALENDAR
VERSION:2.0
PRODID:-//Marketing.com.au - ECPv6.15.20//NONSGML v1.0//EN
CALSCALE:GREGORIAN
METHOD:PUBLISH
X-ORIGINAL-URL:https://marketing.com.au
X-WR-CALDESC:Events for Marketing.com.au
REFRESH-INTERVAL;VALUE=DURATION:PT1H
X-Robots-Tag:noindex
X-PUBLISHED-TTL:PT1H
BEGIN:VTIMEZONE
TZID:Australia/Melbourne
BEGIN:STANDARD
TZOFFSETFROM:+1100
TZOFFSETTO:+1000
TZNAME:AEST
DTSTART:20190406T160000
END:STANDARD
BEGIN:DAYLIGHT
TZOFFSETFROM:+1000
TZOFFSETTO:+1100
TZNAME:AEDT
DTSTART:20191005T160000
END:DAYLIGHT
BEGIN:STANDARD
TZOFFSETFROM:+1100
TZOFFSETTO:+1000
TZNAME:AEST
DTSTART:20200404T160000
END:STANDARD
BEGIN:DAYLIGHT
TZOFFSETFROM:+1000
TZOFFSETTO:+1100
TZNAME:AEDT
DTSTART:20201003T160000
END:DAYLIGHT
BEGIN:STANDARD
TZOFFSETFROM:+1100
TZOFFSETTO:+1000
TZNAME:AEST
DTSTART:20210403T160000
END:STANDARD
BEGIN:DAYLIGHT
TZOFFSETFROM:+1000
TZOFFSETTO:+1100
TZNAME:AEDT
DTSTART:20211002T160000
END:DAYLIGHT
BEGIN:STANDARD
TZOFFSETFROM:+1100
TZOFFSETTO:+1000
TZNAME:AEST
DTSTART:20220402T160000
END:STANDARD
BEGIN:DAYLIGHT
TZOFFSETFROM:+1000
TZOFFSETTO:+1100
TZNAME:AEDT
DTSTART:20221001T160000
END:DAYLIGHT
BEGIN:STANDARD
TZOFFSETFROM:+1100
TZOFFSETTO:+1000
TZNAME:AEST
DTSTART:20230401T160000
END:STANDARD
BEGIN:DAYLIGHT
TZOFFSETFROM:+1000
TZOFFSETTO:+1100
TZNAME:AEDT
DTSTART:20230930T160000
END:DAYLIGHT
END:VTIMEZONE
BEGIN:VEVENT
DTSTART;TZID=Australia/Melbourne:20220725T190000
DTEND;TZID=Australia/Melbourne:20220725T213000
DTSTAMP:20260420T084502
CREATED:20220529T064257Z
LAST-MODIFIED:20220814T044624Z
UID:21904-1658775600-1658784600@marketing.com.au
SUMMARY:Video Production
DESCRIPTION:86% of businesses use video as a marketing tool as it generates higher engagement rate compared to texts and images. It is thus more essential than before to be equipped with basic video production skills to create succinct and impactful messages that would help distinguish your brand amidst a highly competitive social media landscape. \nIn this workshop\, you will explore how to come up with creative video concepts. You’ll then learn the essentials behind video production i.e. pre-production\, production\, and post-production. You’ll gain an in-depth understanding of the logistics required for a video shoot. You’ll also be taught how to write a video script\, and pick up basic skills in cinematography and video editing. Lastly\, you’ll gain an insight into how video production houses and creative agencies work\, and be able to collaboratively work with them more effectively. \nThis syllabus is specially catered for beginners\, and no prior videography experience is required. Students who are keen to produce videos either as a hobby\, or for marketing purposes\, will find this highly useful. It will also greatly help professionals who are outsourcing their video production to external vendors.
URL:https://marketing.com.au/event/video-production/
LOCATION:Online
CATEGORIES:All Event Locations,All Event Topics,All Event Types,Design,Online,Video
END:VEVENT
BEGIN:VEVENT
DTSTART;VALUE=DATE:20220322
DTEND;VALUE=DATE:20220324
DTSTAMP:20260420T084502
CREATED:20220220T104318Z
LAST-MODIFIED:20220220T105604Z
UID:21185-1647907200-1648079999@marketing.com.au
SUMMARY:DigiMarCon Australia 2022
DESCRIPTION:DigiMarCon Australia 2022 is your chance to …\n\n\nExperience a safe and intimate gathering with marketing leaders and professionals in a clean and hygienic environment.\nHear from some of the most audacious and thought-provoking speakers in the digital marketing\, media and advertising industry.\nGain insight into emerging strategies\, the latest innovative technologies\, and best practices to move your business to the next level.\nNetwork with thought leaders\, collaborate with your peers and build your professional network.\n\n\n\nThe 4th annual DigiMarCon Australia\, the Premier Digital Marketing\, Media and Advertising Conference & Exhibition in Australia returns March 22nd to 23rd\, 2022 to the iconic Accor Stadium in Sydney\, Australia. Join your peers in-person or online for 2 days jam packed with digital marketing best practices\, latest trends\, practical solutions\, strategy and networking\, also check out the next generation of technology & innovation; Internet\, Mobile\, AdTech\, MarTech & SaaS Technology.\n\nBe a part of DigiMarCon Australia 2022 and discover how to thrive and succeed as a marketer in a rapidly evolving digital world. Top keynotes\, case studies\, strategy sessions\, networking and more in a safe and hygienic environment! See why people keep coming back year after year to this must-attend event! Register and secure your seat today. \nThis year’s edition will feature topics such as:\n\n\n\nAccount-Based Marketing\nBehavioral & Neuromarketing\nContent Marketing\nConversational Marketing\nConversion Rate Optimization\nData Science & Big Data\nEmail Marketing\nGeo-Targeting & Proximity Marketing\n\n\n\n\nGrowth Hacking\nInbound & Outbound Marketing\nInfluencer Marketing\nMobile Marketing\nNative & Contextual Advertising\nOmnichannel Marketing\nPaid Search Marketing\nPersonalization & Privacy\n\n\n\n\nPodcast & Webinar Marketing\nPR & Cause Marketing\nPredictive Analytics & Attribution\nProgrammatic Advertising\nSales & Marketing Automation\nSearch Engine Optimization\nShopper Marketing\nSmarketing & Customer Experience\n\n\n\n\nSocial Commerce\nSocial Media Marketing\nUI / UX Design\nUser-Generated Content\nVideo Marketing\nViral & Buzz Marketing\nVisual & Voice Search\nWeb Analytics
URL:https://marketing.com.au/event/digimarcon-australia-2022/
LOCATION:Sydney
CATEGORIES:All Event Locations,All Event Topics,All Event Types,Brand,Communications,Conference,Content Marketing,Copywriting,Data,Design,Digital Marketing,eCommerce,Email marketing,Graphic Design,Market Research,Marketing,PPC,Public Relations,SEO,Social Media,Sydney,UX,Video,Website
END:VEVENT
BEGIN:VEVENT
DTSTART;VALUE=DATE:20220315
DTEND;VALUE=DATE:20220318
DTSTAMP:20260420T084502
CREATED:20220205T070419Z
LAST-MODIFIED:20220220T105604Z
UID:21120-1647302400-1647561599@marketing.com.au
SUMMARY:Adobe Summit — The Digital Experience Conference
DESCRIPTION:Join a community of Experience Makers from around the world to learn\, be inspired\, and make connections that will empower you to create better\, more personalized customer experiences. \n\nLearn how top brands from around the world create loyal customers through exceptional experiences.\nGain and amplify skills from more than 200 sessions and training workshops.\nDiscover Adobe’s current strategy\, vision for the future\, and new product capabilities.\nMake solid connections and build your network with other Experience Makers.\nExplore how to make the most of your Adobe Experience Cloud investment.\n\n  \nMeet innovators across industries and roles.\n\n\nAdvertisers\nAnalysts\nContent managers\nData scientists\nDesigners\nDevelopers\nDigital marketers\nEcommerce professionals\nEmail managers\nIT executives\nIT managers\nIT professionals\nMarketing executives\nRetailers\nProject managers\nPublishers\nSales professionals\nSocial marketers\n\nFind your path to knowledge. \n\nAnalytics for Customer Journeys\nB2B Marketing\nCollaborative Work Management\nContent Management for Personalized Experiences\nOmnichannel Marketing and Optimization\nCustomer Data Management\nDigital Commerce\nDeveloper Ecosystem\nPersonalization at Scale\nTrends and Inspiration
URL:https://marketing.com.au/event/adobe-summit-the-digital-experience-conference-2/
LOCATION:Online
CATEGORIES:All Event Locations,All Event Topics,All Event Types,Conference,Content Marketing,Data,Design,Digital Marketing,eCommerce,Email marketing,Graphic Design,Online,UX,Video,Website
END:VEVENT
BEGIN:VEVENT
DTSTART;TZID=Australia/Melbourne:20211117T080000
DTEND;TZID=Australia/Melbourne:20211118T170000
DTSTAMP:20260420T084502
CREATED:20210919T044031Z
LAST-MODIFIED:20211204T072952Z
UID:20323-1637136000-1637254800@marketing.com.au
SUMMARY:Intergrate 2021
DESCRIPTION:Integrate is Australia’s leading platform dedicated to helping businesses harness the power of AV to transform customer experiences. It is nexus for local and global brands to promote the latest AV solutions and products\, as well as share insights and innovations to the region’s largest gathering of AV professionals and end users. \nIn 2021 the AVIXA and Integrate Education programs will combine to present a not-to-be-missed education stream. With an increased focus on AV technology and its importance in our ‘new normal’ this stream will combine essential training\, latest AV insights and trends and offer solutions to help you harness the power of AV. \nJoin us for a unique industry networking opportunity this 24 March 2022\, as we bring an invite-only networking event to Melbourne to help you reconnect with key AV buyers in this market. This one-day event will be an invite-only showcase with a simple move in – move out so that you are able to focus on meeting and connecting with personalised\, pre-qualified visitors\, in a relaxed\, engaging setting.
URL:https://marketing.com.au/event/intergrate-2021/
LOCATION:Online
CATEGORIES:Advertising,All Event Locations,All Event Topics,All Event Types,B2B,Event Planning,Online,Video
END:VEVENT
BEGIN:VEVENT
DTSTART;TZID=Australia/Melbourne:20211012T080000
DTEND;TZID=Australia/Melbourne:20211014T170000
DTSTAMP:20260420T084502
CREATED:20210919T041233Z
LAST-MODIFIED:20211204T072952Z
UID:20302-1634025600-1634230800@marketing.com.au
SUMMARY:Inbound 2021
DESCRIPTION:INBOUND 2021\, is a fully immersive\, online experience\, that gives you access to transformative business trends\, proactive conversations\, and key actionable takeaways that future you will appreciate. Connect with leaders across industries and spark the catalyst that awaits you. Sessions were built with remote work in mind\, so you can learn from anywhere with audio sessions\, meetups and on demand content. Hear from Oprah Winfrey\, Spike Lee\, Tim Stokely and more.
URL:https://marketing.com.au/event/inbound-2021-2/
LOCATION:Online
CATEGORIES:All Event Locations,All Event Topics,All Event Types,Content Marketing,Digital Marketing,Online,Social Media,Video,Website
END:VEVENT
BEGIN:VEVENT
DTSTART;VALUE=DATE:20210824
DTEND;VALUE=DATE:20210826
DTSTAMP:20260420T084502
CREATED:20210321T084421Z
LAST-MODIFIED:20210410T092207Z
UID:18788-1629763200-1629935999@marketing.com.au
SUMMARY:State of Social 21
DESCRIPTION:Australia’s brainiest digital marketing event is back to help you choose the right path when the apocalypse comes out of leftfield. \nHow do you find the silver lining in the dark cloud of a global pandemic? How do you open the door to new opportunities when your best-laid plans go out the window? How do you clean up when Facebook throws its toys out of the pram? Find out at SOS ’21. \n\n\nTwo days of killer keynotes\, discussions and breakout brainstorms analysing the latest trends\, techniques and real-world case studies to help you plan\, create and convert\, no matter what the world throws at you. \nRub shoulders\, butt heads\, swap notes and share a barista-brewed coffee with the brightest minds in the business. \nWhat’s included in the ticket price?\nIn addition to an all-you-can-eat buffet of insightful inspiration and intelligent inference delivered by our roll call of social and digital royalty\, your ticket includes: \n\nan equally mouth-watering menu of morning coffee\, lunch and afternoon treats\nthe now legendary State of the Social gift bag\nentry to post-conference #SMPerth Drinksw
URL:https://marketing.com.au/event/state-of-social-21/
CATEGORIES:All Event Locations,All Event Topics,All Event Types,Content Marketing,Digital Marketing,Social Media,Video
END:VEVENT
BEGIN:VEVENT
DTSTART;TZID=Australia/Melbourne:20210821T130000
DTEND;TZID=Australia/Melbourne:20210821T140000
DTSTAMP:20260420T084502
CREATED:20210625T083720Z
LAST-MODIFIED:20211204T072951Z
UID:19715-1629550800-1629554400@marketing.com.au
SUMMARY:How To Use Video Marketing To Help Your Business Grow Online
DESCRIPTION:Video Marketing is the way in which business owners\, artists and entrepreneurs of all kind can find potential customers online. \nAre you new to video making for your business? \nAre you nervous about getting started\, or unsure how to proceed? \nI’d love to help you via my Online Meetings. \nHi! My name is Teena Hughes and I help people make videos and use them to boost their business. \nJoin me and other like-minded folks to chat with and learn while having a coffee or tea\, in a stress-free environment from the comfort of your own home.
URL:https://marketing.com.au/event/how-to-use-video-marketing-to-help-your-business-grow-online/
LOCATION:Online
CATEGORIES:All Event Locations,All Event Topics,All Event Types,Video
END:VEVENT
BEGIN:VEVENT
DTSTART;VALUE=DATE:20201106
DTEND;VALUE=DATE:20201108
DTSTAMP:20260420T084502
CREATED:20201010T103616Z
LAST-MODIFIED:20201010T112002Z
UID:17187-1604620800-1604793599@marketing.com.au
SUMMARY:VIRTUAL LIVE VIDSUMMIT
DESCRIPTION:This Virtual event will not be like the boring online conference. We’re doing it VIDSUMMIT STYLE. \nOf course\, we will have all the experts and creators you want to learn from\, but we will be selecting a few people that pre-ordered tickets to do a channel and business evaluation from MrBeast\, Shonduras\, Derral Eves.\n\n\n\n\n\n\n\nWhere The World’s Top Video Influencers\, Video Marketers And Brands Reveal Everything They Know About Turning Videos Into Sales – 60+ High-Level Speakers. Get Access to the world’s leading experts on audience growth\, brand building and influence gain\, all the one room\, just for you. \nVidSummit is NOT a place where influencers connect with their fans. Instead\, VidSummit is where you become an industry insider. Without the fans at the event\, influencers share the truth of what they do – the truth they would never share online. In other words\, VidSummit is the only event where dozens of the top 1% of influencers show you how to get fans fast\, build a brand and make millions from your content.
URL:https://marketing.com.au/event/virtual-live-vidsummit/
LOCATION:Online
CATEGORIES:All Event Locations,All Event Topics,All Event Types,Online,Video
END:VEVENT
BEGIN:VEVENT
DTSTART;TZID=Australia/Melbourne:20201103T100000
DTEND;TZID=Australia/Melbourne:20201103T110000
DTSTAMP:20260420T084502
CREATED:20201010T083940Z
LAST-MODIFIED:20201010T112044Z
UID:17161-1604397600-1604401200@marketing.com.au
SUMMARY:Educational webinar: Establishing your brand story
DESCRIPTION:On 3rd November\, Zoho’s hosting a free\, educational webinar on establishing your company’s brand story and voice. Learn how to find\, incorporate\, and use your brand’s voice throughout your website to increase website traffic\, improve customer engagement\, and drive brand loyalty. Join to get a better understanding of various business topics and learn how to run your business more efficiently. This webinar series on website basics is strictly educational and the topics change every week. Check out our other postings for additional sessions. \nWhy attend: \n\nLearn easy to-replicate\, step-by-step processes for optimizing customer engagement and website traffic.\nExperts will also share first-hand tips and tricks to help you establish your brand’s unique voice.\nAsk questions and receive answers in real-time.
URL:https://marketing.com.au/event/educational-webinar-establishing-your-brand-story/
LOCATION:Online
CATEGORIES:All Event Locations,All Event Topics,All Event Types,Online,Video
END:VEVENT
BEGIN:VEVENT
DTSTART;VALUE=DATE:20200519
DTEND;VALUE=DATE:20200521
DTSTAMP:20260420T084502
CREATED:20200503T012905Z
LAST-MODIFIED:20200808T045322Z
UID:15177-1589846400-1590019199@marketing.com.au
SUMMARY:SMX London
DESCRIPTION:Join the biggest Search Marketing Conference Series worldwide – Programme by Search Engine Land\, the leading Source of Search Marketing News. \nSearch marketing is by far the biggest area of digital marketing. You can’t afford to waste time or money getting it wrong. Attend SMX\, and you’ll get it right! \nImmerse yourself in three days of SEO\, SEM and Online Marketing sessions and you’re guaranteed to leave with practical tips and techniques to immediately improve your search marketing efforts. SMX also has strategic sessions to help you with what’s coming over the horizon. \nWith sessions designed to serve a diverse search marketing audience\, you’ll discover topics tailored for your needs — whether you’re into SEO or SEM\, whether you’re an advanced search marketing veteran or are a beginner just learning the ropes. \nPlus — if you work at an agency or as part of an in-house team\, SMX team rates let you divide and conquer to attend multiple tracks simultaneously. \nFeatured 2020 SMX London Sessions:\n\nSEO \n\nCreating Blockbuster Content\nKeywords Are Dead — Long Live Concepts\, Entities & Audiences!\nThe Most Common SEO Mistakes\, And How to Fix Them\nMeet The Search Engines\nSEO Success Without Link Building\nPenguin Prevention: Link Acquisition & Audit Techniques You Need To Know\n\n\nSEM/Paid Search \n\nAmazing Paid Search Tactics & Tools\nDeep Dive: Ad Bidding Strategies & Bid Modifiers\nConversion Rate Rockstars\nTaking Retargeting To The Next Level\n\n\n\nSearch & Social \n\nBetter Together: Search and Social\nWinning Strategies With Facebook Ads\nFaceoff: Adwords\, Linkedin & Twitter Compared\nMeasuring Up With Social Analytics\n\n\n\n 
URL:https://marketing.com.au/event/smx-london/
LOCATION:Online
CATEGORIES:Advertising,All Event Locations,All Event Topics,All Event Types,Conference,Content Marketing,Copywriting,Digital Marketing,Email marketing,Graphic Design,Marketing,Online,Public Relations,SEO,Social Media,Video,Website
END:VEVENT
BEGIN:VEVENT
DTSTART;TZID=Australia/Melbourne:20200429T080000
DTEND;TZID=Australia/Melbourne:20200501T170000
DTSTAMP:20260420T084502
CREATED:20200421T215252Z
LAST-MODIFIED:20200808T045433Z
UID:15087-1588147200-1588352400@marketing.com.au
SUMMARY:Leap Into Live Streaming Bootcamp
DESCRIPTION:Leap Into Live Streaming Bootcamp\nA FREE Bootcamp For Everyone Ready to Take the Leap Into Live Video \nWith over 40 expert speakers in video marketing & live streaming \nApril 29 – May 1\, 2020 \n\n\n\n\n\n\n\n\n\n\nLive video is a powerful and effective way to increase your reach\, grow your audience\, boost engagement\, and drive leads. And now\, you’ll have everything you need to succeed with live video. \nLeap Into Live Streaming Bootcamp is a completely FREE 3-day crash course in all aspects of live video. Our 40+ expert presenters will help you understand how to get up and running with live streaming\, how to build confidence\, how to design graphics to use in live video\, what platforms to broadcast to and why\, and more! \nPlus! Get exclusive access to a private Facebook group where you can ask questions\, grab additional content\, watch live videos from some of our experts\, and practice what you’ve learned in a friendly environment. \nCome take the LEAP into LIVE video with us!
URL:https://marketing.com.au/event/leap-into-live-streaming-bootcamp/
LOCATION:Online
CATEGORIES:All Event Locations,All Event Topics,All Event Types,Content Marketing,Digital Marketing,Marketing,Online,Video
END:VEVENT
END:VCALENDAR