BEGIN:VCALENDAR
VERSION:2.0
PRODID:-//Marketing.com.au - ECPv6.15.20//NONSGML v1.0//EN
CALSCALE:GREGORIAN
METHOD:PUBLISH
X-WR-CALNAME:Marketing.com.au
X-ORIGINAL-URL:https://marketing.com.au
X-WR-CALDESC:Events for Marketing.com.au
REFRESH-INTERVAL;VALUE=DURATION:PT1H
X-Robots-Tag:noindex
X-PUBLISHED-TTL:PT1H
BEGIN:VTIMEZONE
TZID:Australia/Melbourne
BEGIN:STANDARD
TZOFFSETFROM:+1100
TZOFFSETTO:+1000
TZNAME:AEST
DTSTART:20250405T160000
END:STANDARD
BEGIN:DAYLIGHT
TZOFFSETFROM:+1000
TZOFFSETTO:+1100
TZNAME:AEDT
DTSTART:20251004T160000
END:DAYLIGHT
BEGIN:STANDARD
TZOFFSETFROM:+1100
TZOFFSETTO:+1000
TZNAME:AEST
DTSTART:20260404T160000
END:STANDARD
BEGIN:DAYLIGHT
TZOFFSETFROM:+1000
TZOFFSETTO:+1100
TZNAME:AEDT
DTSTART:20261003T160000
END:DAYLIGHT
BEGIN:STANDARD
TZOFFSETFROM:+1100
TZOFFSETTO:+1000
TZNAME:AEST
DTSTART:20270403T160000
END:STANDARD
BEGIN:DAYLIGHT
TZOFFSETFROM:+1000
TZOFFSETTO:+1100
TZNAME:AEDT
DTSTART:20271002T160000
END:DAYLIGHT
END:VTIMEZONE
BEGIN:VEVENT
DTSTART;VALUE=DATE:20260506
DTEND;VALUE=DATE:20260507
DTSTAMP:20260420T102725
CREATED:20260403T050950Z
LAST-MODIFIED:20260403T065232Z
UID:27375-1778025600-1778111999@marketing.com.au
SUMMARY:IAB Australia Video Summit 2026
DESCRIPTION:The IAB Australia Video Summit is back in 2026\, join us May 6 at the Teacher’s Federation in Surry Hills. The event will feature presentations and discussions on all things video advertising\, from changes in audience consumption and the challenges associated with reaching these audiences\, to the use of AI\, and the effects of measuring business outcomes for short-term and long-term business goals.
URL:https://marketing.com.au/event/iab-australia-video-summit-2026/
LOCATION:NSW Teachers Federation Auditorium\, NSW
CATEGORIES:Advertising,All Event Locations,All Event Topics,All Event Types,Design,Presentation,Sydney
END:VEVENT
BEGIN:VEVENT
DTSTART;VALUE=DATE:20260512
DTEND;VALUE=DATE:20260514
DTSTAMP:20260420T102725
CREATED:20251231T060714Z
LAST-MODIFIED:20251231T073701Z
UID:27305-1778544000-1778716799@marketing.com.au
SUMMARY:Contact Centre Symposium 2026
DESCRIPTION:In today’s ever-changing environment\, customer needs and expectations are dynamic. In order to remain competitive\, we need to be supporting our customers in new ways\, and creating a frictionless\, intuitive and omnichannel customer support strategy is vital in being able to meet and exceed those customer expectations now and into the future. There is enormous opportunity to put the customer experience at the heart of what we do\, and turn the contact centre from a transactional cost-centre to a value-add for both the organisation and the customer. \nThe Contact Centre Symposium will create an unrivalled opportunity for 110 of the region’s most influential contact centre and customer care leaders to explore and discuss the changing face and future of the contact centre. \nAttendees at the Symposium are hand-picked to ensure the audience represents the most influential minds in the industry. Set in the beautiful Hunter Valley\, far from the distractions of the office\, attendees are given the rare opportunity to participate in a collaborative learning and networking environment that fosters peer-to-peer learning. \nThe conference programme\, crafted by a highly influential advisory board of contact centre leaders\, has been designed to inspire\, and operating under Chatham House rules\, the prestigious forum encourages participants to candidly discuss industry opportunities and challenges in shaping the future of customer care.
URL:https://marketing.com.au/event/contact-centre-symposium-2026/
LOCATION:Rydges Resort Hunter Valley\, NSW
CATEGORIES:All Event Locations,All Event Topics,All Event Types,Conference,Sydney
END:VEVENT
BEGIN:VEVENT
DTSTART;VALUE=DATE:20260526
DTEND;VALUE=DATE:20260529
DTSTAMP:20260420T102725
CREATED:20260403T055331Z
LAST-MODIFIED:20260403T065232Z
UID:27397-1779753600-1780012799@marketing.com.au
SUMMARY:Mumbrella 360 2026
DESCRIPTION:Media and marketing professionals face unprecedented pressures and disruption\, so it’s high time the narrative gets re-written. To mark Mumbrella360’s 15th year\, we’re completely reimagining what the industry’s most important media and marketing conference can be. It will be the launchpad for the next chapter: new ideas\, new energy\, and new ways of working\, a catalyst for the next wave of creativity and innovation. \nYou’re guaranteed an unrivalled program (spanning ten content streams!) that is provocative\, practical and unmissable. We’re creating a space where real disruption meets real inclusion\, from vibe-coding the future of media to amplifying the practical insights of those who’ve been quietly leading change. If you’re not there\, you’re missing out on the next big shifts in the industry. Your three-days spent at M360 is going to be bold\, it’s going to be courageous\, and it’s going to be memorable. \nWe won’t give away all our surprises just yet\, but save the date right now\, because Mumbrella360 2026 is your front-row seat to the future.
URL:https://marketing.com.au/event/mumbrella-360-2026/
LOCATION:Carriageworks\, NSW
CATEGORIES:All Event Locations,All Event Topics,All Event Types,Conference,Sydney,Workshop
END:VEVENT
END:VCALENDAR