BEGIN:VCALENDAR
VERSION:2.0
PRODID:-//Marketing.com.au - ECPv6.15.20//NONSGML v1.0//EN
CALSCALE:GREGORIAN
METHOD:PUBLISH
X-WR-CALNAME:Marketing.com.au
X-ORIGINAL-URL:https://marketing.com.au
X-WR-CALDESC:Events for Marketing.com.au
REFRESH-INTERVAL;VALUE=DURATION:PT1H
X-Robots-Tag:noindex
X-PUBLISHED-TTL:PT1H
BEGIN:VTIMEZONE
TZID:Australia/Melbourne
BEGIN:STANDARD
TZOFFSETFROM:+1100
TZOFFSETTO:+1000
TZNAME:AEST
DTSTART:20250405T160000
END:STANDARD
BEGIN:DAYLIGHT
TZOFFSETFROM:+1000
TZOFFSETTO:+1100
TZNAME:AEDT
DTSTART:20251004T160000
END:DAYLIGHT
BEGIN:STANDARD
TZOFFSETFROM:+1100
TZOFFSETTO:+1000
TZNAME:AEST
DTSTART:20260404T160000
END:STANDARD
BEGIN:DAYLIGHT
TZOFFSETFROM:+1000
TZOFFSETTO:+1100
TZNAME:AEDT
DTSTART:20261003T160000
END:DAYLIGHT
BEGIN:STANDARD
TZOFFSETFROM:+1100
TZOFFSETTO:+1000
TZNAME:AEST
DTSTART:20270403T160000
END:STANDARD
BEGIN:DAYLIGHT
TZOFFSETFROM:+1000
TZOFFSETTO:+1100
TZNAME:AEDT
DTSTART:20271002T160000
END:DAYLIGHT
END:VTIMEZONE
BEGIN:VEVENT
DTSTART;VALUE=DATE:20260224
DTEND;VALUE=DATE:20260225
DTSTAMP:20260424T100313
CREATED:20251231T031707Z
LAST-MODIFIED:20251231T073703Z
UID:27254-1771891200-1771977599@marketing.com.au
SUMMARY:Social media strategy workshop – One Day Strategy Deep Dive
DESCRIPTION:This full-day workshop is more than just a learning experience—it’s an investment in your brand’s future.\n\n\n\n With personalised [and intimate] attention and actionable insights\, you’ll leave not just with knowledge … but with a  plan to ensure that your social media strategy links to the reason your brand is one of those hard-to-forget [for all of the right reasons] online brands.
URL:https://marketing.com.au/event/social-media-strategy-workshop-one-day-strategy-deep-dive/
LOCATION:Melbourne\, VIC\, Australia
CATEGORIES:All Event Locations,All Event Topics,All Event Types,Melbourne,Social Media
END:VEVENT
END:VCALENDAR