BEGIN:VCALENDAR
VERSION:2.0
PRODID:-//Marketing.com.au - ECPv6.15.20//NONSGML v1.0//EN
CALSCALE:GREGORIAN
METHOD:PUBLISH
X-WR-CALNAME:Marketing.com.au
X-ORIGINAL-URL:https://marketing.com.au
X-WR-CALDESC:Events for Marketing.com.au
REFRESH-INTERVAL;VALUE=DURATION:PT1H
X-Robots-Tag:noindex
X-PUBLISHED-TTL:PT1H
BEGIN:VTIMEZONE
TZID:Australia/Melbourne
BEGIN:STANDARD
TZOFFSETFROM:+1100
TZOFFSETTO:+1000
TZNAME:AEST
DTSTART:20200404T160000
END:STANDARD
BEGIN:DAYLIGHT
TZOFFSETFROM:+1000
TZOFFSETTO:+1100
TZNAME:AEDT
DTSTART:20201003T160000
END:DAYLIGHT
BEGIN:STANDARD
TZOFFSETFROM:+1100
TZOFFSETTO:+1000
TZNAME:AEST
DTSTART:20210403T160000
END:STANDARD
BEGIN:DAYLIGHT
TZOFFSETFROM:+1000
TZOFFSETTO:+1100
TZNAME:AEDT
DTSTART:20211002T160000
END:DAYLIGHT
BEGIN:STANDARD
TZOFFSETFROM:+1100
TZOFFSETTO:+1000
TZNAME:AEST
DTSTART:20220402T160000
END:STANDARD
BEGIN:DAYLIGHT
TZOFFSETFROM:+1000
TZOFFSETTO:+1100
TZNAME:AEDT
DTSTART:20221001T160000
END:DAYLIGHT
END:VTIMEZONE
BEGIN:VEVENT
DTSTART;TZID=Australia/Melbourne:20210902T080000
DTEND;TZID=Australia/Melbourne:20210902T103000
DTSTAMP:20260422T101548
CREATED:20210705T110319Z
LAST-MODIFIED:20211204T072954Z
UID:19774-1630569600-1630578600@marketing.com.au
SUMMARY:Social Media Made Simple
DESCRIPTION:Facebook! Instagram! Tik Tok! One thing is for sure\, social media is here to stay. But with so many platforms out there\, how do you know which ones to use and how to harness their power? \nAt the Social Media Made Simple workshop we’ll step you through the options\, explain what they do\, and show you ways to utilise them as a mighty marketing tool for your business. \nWhat you will learn at this workshop\n• The role of social media in business today \n• What are the most popular platforms and how do they work together \n• Developing your online presence for your target market \n• Making an impact in a cluttered and competitive space \n• Keys to a successful social media and digital marketing strategy \n• How to engage with your audience through social media \n• Advertising on social media\, and when to use it
URL:https://marketing.com.au/event/social-media-made-simple/
LOCATION:Sydney\, NSW\, 2000
CATEGORIES:All Event Locations,All Event Topics,All Event Types,Social Media,Sydney
END:VEVENT
END:VCALENDAR