BEGIN:VCALENDAR
VERSION:2.0
PRODID:-//Marketing.com.au - ECPv6.15.20//NONSGML v1.0//EN
CALSCALE:GREGORIAN
METHOD:PUBLISH
X-WR-CALNAME:Marketing.com.au
X-ORIGINAL-URL:https://marketing.com.au
X-WR-CALDESC:Events for Marketing.com.au
REFRESH-INTERVAL;VALUE=DURATION:PT1H
X-Robots-Tag:noindex
X-PUBLISHED-TTL:PT1H
BEGIN:VTIMEZONE
TZID:Australia/Melbourne
BEGIN:STANDARD
TZOFFSETFROM:+1100
TZOFFSETTO:+1000
TZNAME:AEST
DTSTART:20200404T160000
END:STANDARD
BEGIN:DAYLIGHT
TZOFFSETFROM:+1000
TZOFFSETTO:+1100
TZNAME:AEDT
DTSTART:20201003T160000
END:DAYLIGHT
BEGIN:STANDARD
TZOFFSETFROM:+1100
TZOFFSETTO:+1000
TZNAME:AEST
DTSTART:20210403T160000
END:STANDARD
BEGIN:DAYLIGHT
TZOFFSETFROM:+1000
TZOFFSETTO:+1100
TZNAME:AEDT
DTSTART:20211002T160000
END:DAYLIGHT
BEGIN:STANDARD
TZOFFSETFROM:+1100
TZOFFSETTO:+1000
TZNAME:AEST
DTSTART:20220402T160000
END:STANDARD
BEGIN:DAYLIGHT
TZOFFSETFROM:+1000
TZOFFSETTO:+1100
TZNAME:AEDT
DTSTART:20221001T160000
END:DAYLIGHT
END:VTIMEZONE
BEGIN:VEVENT
DTSTART;VALUE=DATE:20210629
DTEND;VALUE=DATE:20210702
DTSTAMP:20260422T113605
CREATED:20210501T053054Z
LAST-MODIFIED:20210529T024127Z
UID:19263-1624924800-1625183999@marketing.com.au
SUMMARY:Social Media Week Los Angeles
DESCRIPTION:Social Media Week Los Angeles (#SMWLA) is the West Coast’s Premier Event for leaders in digital marketing. This multi-day virtual event will bring together brand and platform leaders\, digital marketers\, and social media practitioners to unpack the 2021 annual theme “Reinvention” through the lens of the business of influencer marketing with actionable insights for leveling up your strategies. \nParticipate in main stage talks\, panel debates\, fireside conversations\, a track of academy classes\, networking events and much more. \nThe team at Social Media Week are not only great collaborators to work with\, they have a deep commitment to the evolution of Marketing & Social Media that continues to be a source of inspiration for me and my team. Having spoken at various Social Media Week conferences and joined for some digital programming on SMW+\, I give my highest recommendation to Social Media Week as an education resource\, networking hub\, and industry mobilizer. \nWill Cady Head of Creative Strategy\, Reddit
URL:https://marketing.com.au/event/social-media-week-los-angeles/
LOCATION:Online
CATEGORIES:All Event Locations,All Event Topics,All Event Types,Social Media
END:VEVENT
END:VCALENDAR