BEGIN:VCALENDAR
VERSION:2.0
PRODID:-//Marketing.com.au - ECPv6.15.20//NONSGML v1.0//EN
CALSCALE:GREGORIAN
METHOD:PUBLISH
X-WR-CALNAME:Marketing.com.au
X-ORIGINAL-URL:https://marketing.com.au
X-WR-CALDESC:Events for Marketing.com.au
REFRESH-INTERVAL;VALUE=DURATION:PT1H
X-Robots-Tag:noindex
X-PUBLISHED-TTL:PT1H
BEGIN:VTIMEZONE
TZID:Australia/Melbourne
BEGIN:STANDARD
TZOFFSETFROM:+1100
TZOFFSETTO:+1000
TZNAME:AEST
DTSTART:20200404T160000
END:STANDARD
BEGIN:DAYLIGHT
TZOFFSETFROM:+1000
TZOFFSETTO:+1100
TZNAME:AEDT
DTSTART:20201003T160000
END:DAYLIGHT
BEGIN:STANDARD
TZOFFSETFROM:+1100
TZOFFSETTO:+1000
TZNAME:AEST
DTSTART:20210403T160000
END:STANDARD
BEGIN:DAYLIGHT
TZOFFSETFROM:+1000
TZOFFSETTO:+1100
TZNAME:AEDT
DTSTART:20211002T160000
END:DAYLIGHT
BEGIN:STANDARD
TZOFFSETFROM:+1100
TZOFFSETTO:+1000
TZNAME:AEST
DTSTART:20220402T160000
END:STANDARD
BEGIN:DAYLIGHT
TZOFFSETFROM:+1000
TZOFFSETTO:+1100
TZNAME:AEDT
DTSTART:20221001T160000
END:DAYLIGHT
END:VTIMEZONE
BEGIN:VEVENT
DTSTART;TZID=Australia/Melbourne:20210218T100000
DTEND;TZID=Australia/Melbourne:20210218T120000
DTSTAMP:20260423T152414
CREATED:20210124T040824Z
LAST-MODIFIED:20210410T092343Z
UID:18261-1613642400-1613649600@marketing.com.au
SUMMARY:Social Media for Small Business
DESCRIPTION:Join digital marketing specialists Ruby Assembly for an engaging online social media workshop focusing on best practice for small business.\n\n\n\n\n\n\n\nSocial media is an essential element of success in the marketing mix of the modern small business or sole trader venture. \nJoin Australian digital marketing specialists Ruby Assembly for an interactive\, engaging social media workshop focusing on best practice for small biz. \nWhether you’re a sole trader looking to amplify your reputation\, a start-up business focused on growing your influence or an established-yet-boutique concern wanting to upskill – this snappy\, clever morning session will give you the foundation necessary to create impactful content for your audience. Learn how to: \n\nMake your Facebook and Instagram content relevant and shareable\nIdentify brand risks in the social media space\nDevelop a social media content plan\nAvoid social media fails and deal with negative feedback\nUnpack statistics and consider ROI for social media\nRun competitions that engage\nBuild newsletters and write blogs your audience will actually want to read\n\nConveniently hosted online\, Ruby Assembly’s Social Media for Small Business workshop is an event you don’t want to miss. \nLearn how to win more business and build better client and referral relationships from Melbourne’s creative digital team. \nOn-demand webinar available for attendees\, complimentary ‘Make Them Remember You’ downloadable workbook PDF included!
URL:https://marketing.com.au/event/social-media-for-small-business/
LOCATION:Online
CATEGORIES:All Event Locations,All Event Topics,All Event Types,Online,Social Media
END:VEVENT
END:VCALENDAR