BEGIN:VCALENDAR
VERSION:2.0
PRODID:-//Marketing.com.au - ECPv6.15.20//NONSGML v1.0//EN
CALSCALE:GREGORIAN
METHOD:PUBLISH
X-ORIGINAL-URL:https://marketing.com.au
X-WR-CALDESC:Events for Marketing.com.au
REFRESH-INTERVAL;VALUE=DURATION:PT1H
X-Robots-Tag:noindex
X-PUBLISHED-TTL:PT1H
BEGIN:VTIMEZONE
TZID:Australia/Melbourne
BEGIN:STANDARD
TZOFFSETFROM:+1100
TZOFFSETTO:+1000
TZNAME:AEST
DTSTART:20200404T160000
END:STANDARD
BEGIN:DAYLIGHT
TZOFFSETFROM:+1000
TZOFFSETTO:+1100
TZNAME:AEDT
DTSTART:20201003T160000
END:DAYLIGHT
BEGIN:STANDARD
TZOFFSETFROM:+1100
TZOFFSETTO:+1000
TZNAME:AEST
DTSTART:20210403T160000
END:STANDARD
BEGIN:DAYLIGHT
TZOFFSETFROM:+1000
TZOFFSETTO:+1100
TZNAME:AEDT
DTSTART:20211002T160000
END:DAYLIGHT
BEGIN:STANDARD
TZOFFSETFROM:+1100
TZOFFSETTO:+1000
TZNAME:AEST
DTSTART:20220402T160000
END:STANDARD
BEGIN:DAYLIGHT
TZOFFSETFROM:+1000
TZOFFSETTO:+1100
TZNAME:AEDT
DTSTART:20221001T160000
END:DAYLIGHT
END:VTIMEZONE
BEGIN:VEVENT
DTSTART;VALUE=DATE:20210217
DTEND;VALUE=DATE:20210218
DTSTAMP:20260423T033317
CREATED:20210118T083956Z
LAST-MODIFIED:20210410T092343Z
UID:18202-1613520000-1613606399@marketing.com.au
SUMMARY:Influencer Marketing Conference
DESCRIPTION:Influencer Marketing World is an online conference for the savvy and creative marketer\, looking to tale their influencer marketing campaigns to the next level! \nSharing growth opportunities\, trends and engagement techniques within the lucrative world of influencer strategies. \n\n\n\n\n\nInfluencer marketing has never been so important! \n\n\n\n\n\nThe growth in influencer marketing has been tenfold in recent years and has proved to sceptics that it is here to stay is a pivotal strategy that all marketers must review for future growth. \nCovering various themes to support marketers with ideas and strategies to swiftly implement including; emerging platforms\, authentic engagement\, agency vs inhouse\, crisis control\, metrics and measurement\, regulations\, communities\, nano and micro-influencers\, audience targeting\, budget management\, B2B influencer marketing\, influencer platforms and so much more.
URL:https://marketing.com.au/event/influencer-marketing-conference/
LOCATION:Online
CATEGORIES:All Event Locations,All Event Topics,All Event Types,Content Marketing,Digital Marketing,Online,Social Media
END:VEVENT
END:VCALENDAR