BEGIN:VCALENDAR
VERSION:2.0
PRODID:-//Marketing.com.au - ECPv6.15.20//NONSGML v1.0//EN
CALSCALE:GREGORIAN
METHOD:PUBLISH
X-WR-CALNAME:Marketing.com.au
X-ORIGINAL-URL:https://marketing.com.au
X-WR-CALDESC:Events for Marketing.com.au
REFRESH-INTERVAL;VALUE=DURATION:PT1H
X-Robots-Tag:noindex
X-PUBLISHED-TTL:PT1H
BEGIN:VTIMEZONE
TZID:Australia/Melbourne
BEGIN:STANDARD
TZOFFSETFROM:+1100
TZOFFSETTO:+1000
TZNAME:AEST
DTSTART:20190406T160000
END:STANDARD
BEGIN:DAYLIGHT
TZOFFSETFROM:+1000
TZOFFSETTO:+1100
TZNAME:AEDT
DTSTART:20191005T160000
END:DAYLIGHT
BEGIN:STANDARD
TZOFFSETFROM:+1100
TZOFFSETTO:+1000
TZNAME:AEST
DTSTART:20200404T160000
END:STANDARD
BEGIN:DAYLIGHT
TZOFFSETFROM:+1000
TZOFFSETTO:+1100
TZNAME:AEDT
DTSTART:20201003T160000
END:DAYLIGHT
BEGIN:STANDARD
TZOFFSETFROM:+1100
TZOFFSETTO:+1000
TZNAME:AEST
DTSTART:20210403T160000
END:STANDARD
BEGIN:DAYLIGHT
TZOFFSETFROM:+1000
TZOFFSETTO:+1100
TZNAME:AEDT
DTSTART:20211002T160000
END:DAYLIGHT
END:VTIMEZONE
BEGIN:VEVENT
DTSTART;VALUE=DATE:20200901
DTEND;VALUE=DATE:20200904
DTSTAMP:20260424T023555
CREATED:20200712T072458Z
LAST-MODIFIED:20201010T112428Z
UID:15825-1598918400-1599177599@marketing.com.au
SUMMARY:Social Day 2020
DESCRIPTION:“The BEST Social Media Marketing Festival!”\n\n\n“You know you’ve had a great couple of days at @social_day when you’re already using the #SocialDay20 and looking forward to attending next year!!!” \nSocialDay brings together the BEST of the BEST in Social Media Marketing.\n\n\n\n\n\n\nWhat is SocialDay?\n\n\n\n\n\n\n\n\nThings have changed! But we won’t let them hold us back! \nSocialDay is the Social Media Marketing Festival started to bring the brightest minds in social media marketing together to share\, learn\, network and discuss the latest Trends and Updates in Social Media. \nJoin us for our first ever virtual event. \nPresenters\n\nSocialDay speakers are the best! (We think so!) You won’t find speakers churning out the same old talk at every event. \nWe source speakers who are different and want to do something unique for SocialDay\, share wisdom and get involved in the day. \nYou will often find SocialDay speakers in the audience supporting others on stage and enjoying interacting with the audience. The stage has seen senior managers at the largest Social Networks\, huge brands and unknown speakers with a fantastic story to tell\, they are all equally gripping and provide immense value and actionable takeaways.
URL:https://marketing.com.au/event/social-day-2020/
LOCATION:Online
CATEGORIES:All Event Locations,All Event Topics,All Event Types,Digital Marketing,Online,Social Media
END:VEVENT
END:VCALENDAR