BEGIN:VCALENDAR
VERSION:2.0
PRODID:-//Marketing.com.au - ECPv6.15.20//NONSGML v1.0//EN
CALSCALE:GREGORIAN
METHOD:PUBLISH
X-ORIGINAL-URL:https://marketing.com.au
X-WR-CALDESC:Events for Marketing.com.au
REFRESH-INTERVAL;VALUE=DURATION:PT1H
X-Robots-Tag:noindex
X-PUBLISHED-TTL:PT1H
BEGIN:VTIMEZONE
TZID:Australia/Melbourne
BEGIN:STANDARD
TZOFFSETFROM:+1100
TZOFFSETTO:+1000
TZNAME:AEST
DTSTART:20190406T160000
END:STANDARD
BEGIN:DAYLIGHT
TZOFFSETFROM:+1000
TZOFFSETTO:+1100
TZNAME:AEDT
DTSTART:20191005T160000
END:DAYLIGHT
BEGIN:STANDARD
TZOFFSETFROM:+1100
TZOFFSETTO:+1000
TZNAME:AEST
DTSTART:20200404T160000
END:STANDARD
BEGIN:DAYLIGHT
TZOFFSETFROM:+1000
TZOFFSETTO:+1100
TZNAME:AEDT
DTSTART:20201003T160000
END:DAYLIGHT
BEGIN:STANDARD
TZOFFSETFROM:+1100
TZOFFSETTO:+1000
TZNAME:AEST
DTSTART:20210403T160000
END:STANDARD
BEGIN:DAYLIGHT
TZOFFSETFROM:+1000
TZOFFSETTO:+1100
TZNAME:AEDT
DTSTART:20211002T160000
END:DAYLIGHT
END:VTIMEZONE
BEGIN:VEVENT
DTSTART;VALUE=DATE:20200512
DTEND;VALUE=DATE:20200514
DTSTAMP:20260424T224632
CREATED:20200503T012417Z
LAST-MODIFIED:20200808T045324Z
UID:15174-1589241600-1589414399@marketing.com.au
SUMMARY:#OMR20
DESCRIPTION:At OMR20\, we are bringing together international superstars of the digial scene\, hidden industry champions and local heroes for 2 days of action in Hamburg. It’s a solid mix of absolute experts with profound insights and engaging personalities. Here’s a small taste of what’s to come—more details to come! \n#OMR20 TRACKS – THE PROGRAM AT OMR20\nCONFERENCE\ni\nIndustry a-listers\, CEOs\, movers and shakers at the world’s biggest companies deliver exclusive insights to the 7000-person strong audience.\n\n\nExpo Stages – Actionable strategies and relevant business insights you can use\nOMR20 will see three Expo stages for the first time in the history of the OMR Festival. That means\, more content than ever before. Speakers from around the world on both Festival days discussing their tips\, tricks and strategies they’ve employed to solve the challenges facing them in their digital business.\n\n\n\nTHE TOP EXHIBITORS AT #OMR20\n\n\n\n\nAt the Expo\, industry titans like Adobe\, Google\, Facebook & co. rub shoulders with medium-sized companies\, eCommerce enterprises and digital startups. Find out about the latest trends in digital marketing and meet up with business contacts face-to-face.
URL:https://marketing.com.au/event/omr20/
LOCATION:Online
CATEGORIES:Advertising,All Event Locations,All Event Topics,All Event Types,Conference,Content Marketing,Digital Marketing,Online,Social Media
END:VEVENT
END:VCALENDAR