BEGIN:VCALENDAR
VERSION:2.0
PRODID:-//Marketing.com.au - ECPv6.15.20//NONSGML v1.0//EN
CALSCALE:GREGORIAN
METHOD:PUBLISH
X-WR-CALNAME:Marketing.com.au
X-ORIGINAL-URL:https://marketing.com.au
X-WR-CALDESC:Events for Marketing.com.au
REFRESH-INTERVAL;VALUE=DURATION:PT1H
X-Robots-Tag:noindex
X-PUBLISHED-TTL:PT1H
BEGIN:VTIMEZONE
TZID:Australia/Melbourne
BEGIN:STANDARD
TZOFFSETFROM:+1100
TZOFFSETTO:+1000
TZNAME:AEST
DTSTART:20180331T160000
END:STANDARD
BEGIN:DAYLIGHT
TZOFFSETFROM:+1000
TZOFFSETTO:+1100
TZNAME:AEDT
DTSTART:20181006T160000
END:DAYLIGHT
BEGIN:STANDARD
TZOFFSETFROM:+1100
TZOFFSETTO:+1000
TZNAME:AEST
DTSTART:20190406T160000
END:STANDARD
BEGIN:DAYLIGHT
TZOFFSETFROM:+1000
TZOFFSETTO:+1100
TZNAME:AEDT
DTSTART:20191005T160000
END:DAYLIGHT
BEGIN:STANDARD
TZOFFSETFROM:+1100
TZOFFSETTO:+1000
TZNAME:AEST
DTSTART:20200404T160000
END:STANDARD
BEGIN:DAYLIGHT
TZOFFSETFROM:+1000
TZOFFSETTO:+1100
TZNAME:AEDT
DTSTART:20201003T160000
END:DAYLIGHT
END:VTIMEZONE
BEGIN:VEVENT
DTSTART;VALUE=DATE:20190625
DTEND;VALUE=DATE:20190626
DTSTAMP:20260425T105846
CREATED:20190414T013023Z
LAST-MODIFIED:20190414T031450Z
UID:13524-1561420800-1561507199@marketing.com.au
SUMMARY:State of Social: Social & Digital Marketing Conference 2019
DESCRIPTION:Step off the social media and digital marketing merry-go-round and get your bearings with a day of social and digital enlightenment and entertaining at Australia’s most unconferencey conference. \nThis time around\, we’re bringing together more delegates and more of the brightest minds in social media and digital marketing to stimulate informed debate across a trifecta of titillating topics. \nAt a time when the marketing landscape is changing faster than Facebook’s algorithms\, State of Social 2019 is a solid rock of knowledge towering from the rolling sea of social and digital innovation. \nIt’s a place where we plainly pose and adroitly answer the question ‘Where to from here?’
URL:https://marketing.com.au/event/state-of-social-social-digital-marketing-conference-2019/
LOCATION:Optus Stadium\, Perth\, Perth\, Australia
CATEGORIES:Conference,Perth,Social Media
END:VEVENT
END:VCALENDAR