BEGIN:VCALENDAR
VERSION:2.0
PRODID:-//Marketing.com.au - ECPv6.15.20//NONSGML v1.0//EN
CALSCALE:GREGORIAN
METHOD:PUBLISH
X-ORIGINAL-URL:https://marketing.com.au
X-WR-CALDESC:Events for Marketing.com.au
REFRESH-INTERVAL;VALUE=DURATION:PT1H
X-Robots-Tag:noindex
X-PUBLISHED-TTL:PT1H
BEGIN:VTIMEZONE
TZID:Australia/Melbourne
BEGIN:STANDARD
TZOFFSETFROM:+1100
TZOFFSETTO:+1000
TZNAME:AEST
DTSTART:20170401T160000
END:STANDARD
BEGIN:DAYLIGHT
TZOFFSETFROM:+1000
TZOFFSETTO:+1100
TZNAME:AEDT
DTSTART:20170930T160000
END:DAYLIGHT
BEGIN:STANDARD
TZOFFSETFROM:+1100
TZOFFSETTO:+1000
TZNAME:AEST
DTSTART:20180331T160000
END:STANDARD
BEGIN:DAYLIGHT
TZOFFSETFROM:+1000
TZOFFSETTO:+1100
TZNAME:AEDT
DTSTART:20181006T160000
END:DAYLIGHT
BEGIN:STANDARD
TZOFFSETFROM:+1100
TZOFFSETTO:+1000
TZNAME:AEST
DTSTART:20190406T160000
END:STANDARD
BEGIN:DAYLIGHT
TZOFFSETFROM:+1000
TZOFFSETTO:+1100
TZNAME:AEDT
DTSTART:20191005T160000
END:DAYLIGHT
END:VTIMEZONE
BEGIN:VEVENT
DTSTART;TZID=Australia/Melbourne:20180328T080000
DTEND;TZID=Australia/Melbourne:20180328T103000
DTSTAMP:20260426T132122
CREATED:20180313T135042Z
LAST-MODIFIED:20201002T054623Z
UID:11256-1522224000-1522233000@marketing.com.au
SUMMARY:Social Media Spotlight
DESCRIPTION:With social media always on the move and always changing\, there is a lot to learn. This event has been put together to dissect the latest changes to this channel and what they mean to marketers. \nFrom chatbots to live video\, geo-filters to the sharing economy\, social media is continually evolving the way brands and businesses can appeal to and engage with their audience. \nSpeakers\n\nClaire Austin\, Content Marketing Evangelist\, LinkedIn\nAdam Hutcheson\, Social Media Producer\, Stan\nColin Smith\, Product Lead – On Message\, The Works\nSammy Lewis\, AU Sales Director\, TRIBE
URL:https://marketing.com.au/event/social-media-spotlight-2/
LOCATION:General Assembly Sydney\, Level 2\, 1 Market Street\, Sydney\, NSW\, 2000\, Australia
CATEGORIES:All Event Locations,All Event Topics,All Event Types,Content Marketing,Digital Marketing,Marketing,Presentation,Social Media,Sydney,Workshop
ORGANIZER;CN="Interactive Minds":MAILTO:louisa(at)interactiveminds.com.au
END:VEVENT
BEGIN:VEVENT
DTSTART;TZID=Australia/Melbourne:20180328T180000
DTEND;TZID=Australia/Melbourne:20180328T210000
DTSTAMP:20260426T132122
CREATED:20180316T131222Z
LAST-MODIFIED:20180316T131222Z
UID:11287-1522260000-1522270800@marketing.com.au
SUMMARY:Facebook Ads masterclass
DESCRIPTION:At this Facebook Ads Masterclass\, you will learn from digital marketing expert\, Juan Gonzalez\, who is a Digital Marketing Consultant about the structure of Facebook ad accounts and how to run successful campaigns that convert leads into sales. You will look at different tips and strategies on how to optimise Facebook ads to help them work for you and your business.
URL:https://marketing.com.au/event/facebook-ads-masterclass/
LOCATION:Academy Xi Sydney\, 48 Druitt Street\, Sydney 2000
CATEGORIES:All Event Locations,All Event Topics,All Event Types,Marketing,Social Media,Sydney,Workshop
END:VEVENT
END:VCALENDAR