BEGIN:VCALENDAR
VERSION:2.0
PRODID:-//Marketing.com.au - ECPv6.15.20//NONSGML v1.0//EN
CALSCALE:GREGORIAN
METHOD:PUBLISH
X-WR-CALNAME:Marketing.com.au
X-ORIGINAL-URL:https://marketing.com.au
X-WR-CALDESC:Events for Marketing.com.au
REFRESH-INTERVAL;VALUE=DURATION:PT1H
X-Robots-Tag:noindex
X-PUBLISHED-TTL:PT1H
BEGIN:VTIMEZONE
TZID:Australia/Melbourne
BEGIN:STANDARD
TZOFFSETFROM:+1100
TZOFFSETTO:+1000
TZNAME:AEST
DTSTART:20210403T160000
END:STANDARD
BEGIN:DAYLIGHT
TZOFFSETFROM:+1000
TZOFFSETTO:+1100
TZNAME:AEDT
DTSTART:20211002T160000
END:DAYLIGHT
BEGIN:STANDARD
TZOFFSETFROM:+1100
TZOFFSETTO:+1000
TZNAME:AEST
DTSTART:20220402T160000
END:STANDARD
BEGIN:DAYLIGHT
TZOFFSETFROM:+1000
TZOFFSETTO:+1100
TZNAME:AEDT
DTSTART:20221001T160000
END:DAYLIGHT
BEGIN:STANDARD
TZOFFSETFROM:+1100
TZOFFSETTO:+1000
TZNAME:AEST
DTSTART:20230401T160000
END:STANDARD
BEGIN:DAYLIGHT
TZOFFSETFROM:+1000
TZOFFSETTO:+1100
TZNAME:AEDT
DTSTART:20230930T160000
END:DAYLIGHT
END:VTIMEZONE
BEGIN:VEVENT
DTSTART;VALUE=DATE:20221027
DTEND;VALUE=DATE:20221028
DTSTAMP:20260420T150635
CREATED:20220731T072714Z
LAST-MODIFIED:20220814T044614Z
UID:22321-1666828800-1666915199@marketing.com.au
SUMMARY:Mumbrella Travel Marketing Summit 2022
DESCRIPTION:The nation is emerging from one of its most challenging periods – travel and tourism face uncharted territory and will likely be one of the last industries to recover from the damage of the pandemic. But there is still plenty going on in the background as well as the foreground. \nThe Mumbrella Travel Marketing Summit gives the stage to senior marketing leaders in travel and tourism to share their insights as they look for new opportunities and the return of old ones. Don’t miss the chance to network with travel marketing counterparts and hear from those who are at the front of the recovery effort.
URL:https://marketing.com.au/event/mumbrella-travel-marketing-summit-2022/
LOCATION:Four Seasons Sydney\, 199 George Street\, Sydney\, New South Wales\, 2000\, Australia
CATEGORIES:Advertising,All Event Locations,All Event Topics,All Event Types,Social Media,Sydney
END:VEVENT
END:VCALENDAR