BEGIN:VCALENDAR
VERSION:2.0
PRODID:-//Marketing.com.au - ECPv6.15.20//NONSGML v1.0//EN
CALSCALE:GREGORIAN
METHOD:PUBLISH
X-WR-CALNAME:Marketing.com.au
X-ORIGINAL-URL:https://marketing.com.au
X-WR-CALDESC:Events for Marketing.com.au
REFRESH-INTERVAL;VALUE=DURATION:PT1H
X-Robots-Tag:noindex
X-PUBLISHED-TTL:PT1H
BEGIN:VTIMEZONE
TZID:Australia/Melbourne
BEGIN:STANDARD
TZOFFSETFROM:+1100
TZOFFSETTO:+1000
TZNAME:AEST
DTSTART:20200404T160000
END:STANDARD
BEGIN:DAYLIGHT
TZOFFSETFROM:+1000
TZOFFSETTO:+1100
TZNAME:AEDT
DTSTART:20201003T160000
END:DAYLIGHT
BEGIN:STANDARD
TZOFFSETFROM:+1100
TZOFFSETTO:+1000
TZNAME:AEST
DTSTART:20210403T160000
END:STANDARD
BEGIN:DAYLIGHT
TZOFFSETFROM:+1000
TZOFFSETTO:+1100
TZNAME:AEDT
DTSTART:20211002T160000
END:DAYLIGHT
BEGIN:STANDARD
TZOFFSETFROM:+1100
TZOFFSETTO:+1000
TZNAME:AEST
DTSTART:20220402T160000
END:STANDARD
BEGIN:DAYLIGHT
TZOFFSETFROM:+1000
TZOFFSETTO:+1100
TZNAME:AEDT
DTSTART:20221001T160000
END:DAYLIGHT
END:VTIMEZONE
BEGIN:VEVENT
DTSTART;VALUE=DATE:20210818
DTEND;VALUE=DATE:20210820
DTSTAMP:20260422T072511
CREATED:20210410T020947Z
LAST-MODIFIED:20210410T092208Z
UID:18965-1629244800-1629417599@marketing.com.au
SUMMARY:Social Media Strategies Summit First Responders 2021
DESCRIPTION:Social Media Strategies Summit First Responders 2021 features three days of sessions\, case studies\, and in-depth workshops specifically dedicated to how public safety and first response agencies can leverage social media to better serve their communities. \nLearn strategies and tips for tackling important issues including crisis communications\, humanizing staff\, improving agency reputation\, and building relationships with your community. \nIn addition\, attendees will have access to 30+ sessions from leading brand corporations giving a truly holistic view of the social media industry landscape. \nYou will leave with actionable takeaways across content\, storytelling\, paid media\, video\, analytics\, strategy\, customer service and more. Network one-on-one with top organizations and accelerate your brand across social. \nWhy You Should Attend?\n\nShare experiences and learn new social media strategies with your first response and public safety colleagues from around the globe — virtually!\nNetwork with agency peers from across the country. With professionals representing agencies large and small from all around the globe\, SMSsummit is your best resource for fresh social media ideas and community building strategies.\nShare experiences with and new ideas from other business owners to spark fresh\, creative ideas in your own marketing.\nGet all your questions answered about the top social media platforms including Facebook\, Instagram\, Twitter\nDiscover the best ways to find and target your niche audience online (both organically and via paid media)\nTurn your followers into customers\, keep them loyal to your brand\, and drive revenue.\nAssess and audit your current social media initiatives. Leave with and results-focused initiatives you can immediately apply to your agency or department.\n\nCarly Yates\, Warner Bros.\, said that; \nThis isn’t just for social media professionals. This summit is amazing for the entire marketing\, digital\, and social team! \nSocial Media Strategies Summit First Responders 2021 is organized by GSMI. It is a leader in the industry of executive education\, creating conferences\, summits\, workshops and training sessions that combine rich learning environments with the opportunity to network. GSMI develops executive conferences\, exhibitions and leadership training for the world’s leading business decision-makers. \nJoin your peers at the premier social media event for public safety professionals and first responders.
URL:https://marketing.com.au/event/social-media-strategies-summit-first-responders-2021/
LOCATION:Online
CATEGORIES:All Event Locations,All Event Topics,All Event Types,Conference,Social Media
END:VEVENT
BEGIN:VEVENT
DTSTART;VALUE=DATE:20210824
DTEND;VALUE=DATE:20210826
DTSTAMP:20260422T072511
CREATED:20210321T084421Z
LAST-MODIFIED:20210410T092207Z
UID:18788-1629763200-1629935999@marketing.com.au
SUMMARY:State of Social 21
DESCRIPTION:Australia’s brainiest digital marketing event is back to help you choose the right path when the apocalypse comes out of leftfield. \nHow do you find the silver lining in the dark cloud of a global pandemic? How do you open the door to new opportunities when your best-laid plans go out the window? How do you clean up when Facebook throws its toys out of the pram? Find out at SOS ’21. \n\n\nTwo days of killer keynotes\, discussions and breakout brainstorms analysing the latest trends\, techniques and real-world case studies to help you plan\, create and convert\, no matter what the world throws at you. \nRub shoulders\, butt heads\, swap notes and share a barista-brewed coffee with the brightest minds in the business. \nWhat’s included in the ticket price?\nIn addition to an all-you-can-eat buffet of insightful inspiration and intelligent inference delivered by our roll call of social and digital royalty\, your ticket includes: \n\nan equally mouth-watering menu of morning coffee\, lunch and afternoon treats\nthe now legendary State of the Social gift bag\nentry to post-conference #SMPerth Drinksw
URL:https://marketing.com.au/event/state-of-social-21/
CATEGORIES:All Event Locations,All Event Topics,All Event Types,Content Marketing,Digital Marketing,Social Media,Video
END:VEVENT
BEGIN:VEVENT
DTSTART;VALUE=DATE:20210825
DTEND;VALUE=DATE:20210827
DTSTAMP:20260422T072511
CREATED:20210705T230757Z
LAST-MODIFIED:20211204T072950Z
UID:19821-1629849600-1630022399@marketing.com.au
SUMMARY:DigiMarCon Australia 2021
DESCRIPTION:DigiMarCon Australia 2021 is your chance to …\n– Experience a safe and intimate gathering with marketing leaders and professionals in a clean and hygienic environment.\n– Hear from some of the most audacious and thought provoking speakers in the digital marketing\, media and advertising industry.\n– Gain insight into emerging strategies\, the latest innovative technologies\, and best practices to move your business to the next level.\n– Network with thought leaders\, collaborate with your peers and build your professional network. \nThe 4th annual DigiMarCon Australia\, the Premier Digital Marketing\, Media and Advertising Conference & Exhibition in Australia returns August 25th to 26th\, 2021 to the iconic ANZ Stadium in Sydney\, Australia. Join your peers in-person or online for 2-days jam packed with digital marketing best practices\, latest trends\, practical solutions\, strategy and networking\, also check out the next generation of technology & innovation; Internet\, Mobile\, AdTech\, MarTech & SaaS Technology. \nImmerse yourself in topics like digital strategy\, programmatic advertising\, web experience management\, usability / design\, mobile marketing & retargeting\, customer engagement\, user acquisition\, social media marketing\, targeting & optimization\, video marketing\, data science & big data\, web analytics & A/B testing\, email marketing\, content marketing\, conversion rate optimization\, search engine optimization\, paid search marketing\, geo-targeting\, predictive analysis & attribution\, growth hacking\, conversion rate optimization\, growth marketing tools\, marketing & sales automation\, sustainable growth strategies\, product marketing & UX / UI and much\, much more! \nAt DigiMarCon Australia 2021\, you will receive all the elements you need to achieve digital marketing success! Conventional thought will be challenged\, new ways of thinking will emerge\, and you will leave with your head\, notebooks and professional toolkit full of action items and ideas to lead and supercharge your agency / team / account to even greater success. \nBe a part of DigiMarCon Australia 2021 and discover how to thrive and succeed as a marketer in a rapidly evolving digital world. Top keynotes\, case studies\, strategy sessions\, networking and more in a safe and hygienic environment! \nSee why people keep coming back year after year to this must-attend event! Register and secure your seat today.
URL:https://marketing.com.au/event/digimarcon-australia-2021/
LOCATION:ANZ Stadium\, Edwin Flack Avenue\, Sydney\, NSW\, 2000\, Australia
CATEGORIES:All Event Locations,All Event Topics,All Event Types,Digital Marketing,SEO,Social Media,Sydney,Website
END:VEVENT
BEGIN:VEVENT
DTSTART;TZID=Australia/Melbourne:20210826T100000
DTEND;TZID=Australia/Melbourne:20210826T110000
DTSTAMP:20260422T072511
CREATED:20210625T083221Z
LAST-MODIFIED:20211204T072953Z
UID:19710-1629972000-1629975600@marketing.com.au
SUMMARY:Reset. Restart: Digital Marketing and Social Media Webinar
DESCRIPTION:Digital Marketing and Social Media – so much to do\, so little time and knowledge!\n\n\n\n\n\nAbout this event\n\n\nWorking with the British Library and Business & IP Centre Nottingham\, Smorgasbord is excited to be able to offer you a series of webinars as part of the Reset. Restart Business Recovery Programme. \n– Setting the Scene \n\nHow you treat people with your marketing is a reflection of your brand\nMore than ever\, you need to get to know your customer\nGive your customers results-oriented content\nProvide quick insights.\nMake finding you easier\n\n– Email Marketing – Top Tips \n– Social Media Marketing – Top Tips \n– Cost-Effective Tools \n\nCRM\nSocial Media Publishing\nSales & Marketing Automation\nBlog Publishing\nWebsites & eCommerce
URL:https://marketing.com.au/event/reset-restart-digital-marketing-and-social-media-webinar-2/
LOCATION:Online
CATEGORIES:All Event Locations,All Event Topics,All Event Types,Digital Marketing,Email marketing,Social Media,Website
END:VEVENT
BEGIN:VEVENT
DTSTART;TZID=Australia/Melbourne:20210827T100000
DTEND;TZID=Australia/Melbourne:20210827T110000
DTSTAMP:20260422T072511
CREATED:20210625T075545Z
LAST-MODIFIED:20211204T072951Z
UID:19700-1630058400-1630062000@marketing.com.au
SUMMARY:Grow Your Brand By Being Social
DESCRIPTION:Social Media with a difference\, this session does a deep dive into social media\, and provides an overview of a range of strategies that are featured in my upcoming book. (To be launched at DIF21. \nGrow Your Brand By Being Social or ‘GYBBBS’ for short (Post COVID lockdown) is not another ‘how to book’\, it is a guide with an innovative twist. We dive into Podcasts\, where we explore how you can build your brand as a guest speaker and as a host. We also look at how it is easy to publish a book as a self publisher as well as live Twitter ‘Spaces’ and Clubhouse events. \nGYBBBS for short is a do it yourself guide that is written in plain English and demonstrates the range of platforms you can use to enhance your brand. \nWhether you are a small business owner\, unemployed\, an employee\, a student\, author or aspire to be a social media’ influencer’ this book is for you. \nThis is a book that does not require to be read cover to cover; you choose a topic at your pace. It is a great way to learn about social media in this ever-changing digital environment. \nEach section of the book will start off with ‘Takeaways’ that clearly state what we hope you take away from each section. Within those ‘takeaways’ will be key terms to seek out on YouTube and Google for you to reinforce what you have just read.
URL:https://marketing.com.au/event/grow-your-brand-by-being-ocial/
LOCATION:Online
CATEGORIES:All Event Locations,All Event Topics,All Event Types,Social Media
END:VEVENT
END:VCALENDAR