BEGIN:VCALENDAR
VERSION:2.0
PRODID:-//Marketing.com.au - ECPv6.15.20//NONSGML v1.0//EN
CALSCALE:GREGORIAN
METHOD:PUBLISH
X-ORIGINAL-URL:https://marketing.com.au
X-WR-CALDESC:Events for Marketing.com.au
REFRESH-INTERVAL;VALUE=DURATION:PT1H
X-Robots-Tag:noindex
X-PUBLISHED-TTL:PT1H
BEGIN:VTIMEZONE
TZID:Australia/Melbourne
BEGIN:STANDARD
TZOFFSETFROM:+1100
TZOFFSETTO:+1000
TZNAME:AEST
DTSTART:20200404T160000
END:STANDARD
BEGIN:DAYLIGHT
TZOFFSETFROM:+1000
TZOFFSETTO:+1100
TZNAME:AEDT
DTSTART:20201003T160000
END:DAYLIGHT
BEGIN:STANDARD
TZOFFSETFROM:+1100
TZOFFSETTO:+1000
TZNAME:AEST
DTSTART:20210403T160000
END:STANDARD
BEGIN:DAYLIGHT
TZOFFSETFROM:+1000
TZOFFSETTO:+1100
TZNAME:AEDT
DTSTART:20211002T160000
END:DAYLIGHT
BEGIN:STANDARD
TZOFFSETFROM:+1100
TZOFFSETTO:+1000
TZNAME:AEST
DTSTART:20220402T160000
END:STANDARD
BEGIN:DAYLIGHT
TZOFFSETFROM:+1000
TZOFFSETTO:+1100
TZNAME:AEDT
DTSTART:20221001T160000
END:DAYLIGHT
END:VTIMEZONE
BEGIN:VEVENT
DTSTART;VALUE=DATE:20210602
DTEND;VALUE=DATE:20210604
DTSTAMP:20260422T141716
CREATED:20210410T031527Z
LAST-MODIFIED:20210410T092231Z
UID:18997-1622592000-1622764799@marketing.com.au
SUMMARY:#DMWF Digital Marketing World Forum 2021
DESCRIPTION:With a 12+ year history of bringing together the worldwide digital marketing community to tackle the challenges that the digital future presents. Delivering 2 days of online top-level strategic content and digital marketing insights\, networking\, and discussion from leading global brands \nThis fully online event will explore the latest trends & strategies within Digital Marketing and covering Digital Marketing Technologies\, Virtual Reality\, Artificial Intelligence\, Influencer Marketing\, UX\, CX\, eCommerce\, Content Marketing\, Data\, Analytics\, and Mobile\, this conference is not to be missed. \n#DMWF Global prides itself on its global brand speaker line-up and the latest examples & case studies within the dedicated conference tracks. A paid online conference and expo that hosts practical how-to sessions\, live demos and product launches\, and premium online networking.
URL:https://marketing.com.au/event/dmwf-digital-marketing-world-forum-2021/
LOCATION:Online
CATEGORIES:All Event Locations,All Event Topics,All Event Types,Content Marketing,Digital Marketing,Email marketing,Marketing,Online,SEO,Social Media
END:VEVENT
BEGIN:VEVENT
DTSTART;VALUE=DATE:20210608
DTEND;VALUE=DATE:20210611
DTSTAMP:20260422T141716
CREATED:20210410T031847Z
LAST-MODIFIED:20210410T092229Z
UID:18999-1623110400-1623369599@marketing.com.au
SUMMARY:ContentTECH Summit 2021
DESCRIPTION:The effective use of content and technology will help us navigate and bring stability to the chaotic and unpredictable marketing world we’re living in. If we learned anything in the past 12 months\, it’s that we need to be ready for what the world throws at us. \nRobust technology and better processes will help your strategic efforts to create\, manage\, deliver and scale your enterprise content and provide your customers with better digital experiences. \nAnd ContentTECH Summit can help you. \nJoin us to learn how new technologies and innovative processes are fundamentally changing what our work will look like in the next two to five years. Attendees of the 2021 ContentTECH conference will learn from practitioners and experts in content technology and marketing strategy. Speakers and attendees are trailblazing pioneers who have set the bar for epic content marketing through technology. \nWhy ContentTECH Summit?\nIt’s time for an evolution. Senior marketing executives are truly focused on one thing: technology and its effective use to create\, manage\, deliver\, and scale enterprise content and marketing. ContentTECH Summit wants to stay ahead of pace for and with industry leaders in an effort to push our entire community forward. \nWho should register?\nVPs\, senior directors and directors in marketing\, digital marketing\, marketing innovation\, marketing technology\, demand generation\, marketing operations\, customer advocacy\, customer experience\, and ecommerce\, as well as CMOs\, CDOs\, CTOs\, CCOs\, and anyone else working at the convergence point of content\, technology and strategy. \nWhat will be answered?\nThe biggest questions you have: How do we ensure our business is using or preparing for the right content and marketing technology innovations? How do we fill our customers’ needs for epic experiences? How do we use content and technology to help us in the ever-changing marketing landscape? How do we sort through the thousands of opportunities available to us?
URL:https://marketing.com.au/event/contenttech-summit-2021/
LOCATION:Online
CATEGORIES:All Event Locations,All Event Topics,All Event Types,Conference,Content Marketing,Online,Social Media,Website
END:VEVENT
BEGIN:VEVENT
DTSTART;VALUE=DATE:20210608
DTEND;VALUE=DATE:20210612
DTSTAMP:20260422T141716
CREATED:20210410T025258Z
LAST-MODIFIED:20210410T092229Z
UID:18993-1623110400-1623455999@marketing.com.au
SUMMARY:Social Media Strategies Summit Virtual Event 2021
DESCRIPTION:Social Media Strategies Summit Virtual Event 2021\, organized by GSMI\, will take place on 8-11 June. \nSocial Media Strategies Summit Virtual Event 2021 is the premier online event for senior marketers like you – a unique opportunity to engage in 2 days of interactive learning and insightful discussion to find solutions to the social media and digital marketing challenges affecting your bottom line. \nYou will leave with actionable takeaways across content\, storytelling\, paid media\, video\, analytics\, strategy\, customer service and more. Network one-on-one with top organizations and accelerate your brand across social. \nWhy You Should Attend?\n\nShare experiences and learn new social media strategies with your marketing colleagues from around the globe – virtually!\nRevitalize your social strategy framework as brand practitioners walk you step-by-step through successful case studies.\nExperience a unique gathering of senior-level\, cross-industry marketers. See what’s driving success at different types of companies that can inspire innovation at your own.\nCultivate your arsenal of tools\, resources\, and connections to champion a social media marketing transformation back at your company.
URL:https://marketing.com.au/event/social-media-strategies-summit-virtual-event-2021/
LOCATION:Online
CATEGORIES:All Event Locations,All Event Topics,All Event Types,Conference,Social Media
END:VEVENT
BEGIN:VEVENT
DTSTART;VALUE=DATE:20210608
DTEND;VALUE=DATE:20210612
DTSTAMP:20260422T141716
CREATED:20210410T025525Z
LAST-MODIFIED:20210410T092208Z
UID:18995-1623110400-1623455999@marketing.com.au
SUMMARY:Influencer Marketing Strategies Summit 2021
DESCRIPTION:Influencer Marketing Strategies Summit 2021\, the premier influencer marketing conference for solution and service providers\, will be delivered virtually\, live-streamed on 8-11 June. \nThe Influencer Marketing Strategies Summit 2021 is the leading event specifically dedicated to helping marketers launch\, scale\, and measure their influencer programs. It’s the premier influencer marketing conference for solution and service providers to engage directly with a targeted audience of decision-making marketers\, brands\, and agencies. \nThey will bring over 10 years of experience in digital marketing\, social media\, and influencer marketing education. That means you can count on a vetted\, specially curated series of sessions and seasoned\, experienced speakers to tackle topics that have the biggest impact on your brand’s influencer marketing strategy. \nThey bring over 10 years of experience in digital marketing and social media education. That means you can count on a vetted\, specially curated series of sessions and seasoned\, experienced speakers to tackle topics that have the biggest impact on your brand’s influencer marketing strategy. \nWhy You Should Attend?\n\nLeave with real-world\, applicable knowledge and tips to get you thinking out of the box and generating fresh ideas\,\nIncrease your value as an employee and high-performing marketer\,\nBenefit and learn from a rich\, diverse mix of perspectives and marketing knowledge\,\nExperience a 360-degree view of social media marketing.\n\nLearn about best practices in influencer search\, discovery\, outreach and relationship management to position your brand for campaign success.
URL:https://marketing.com.au/event/influencer-marketing-strategies-summit-2021/
LOCATION:Online
CATEGORIES:All Event Locations,All Event Topics,All Event Types,Digital Marketing,Marketing,Online,Social Media
END:VEVENT
BEGIN:VEVENT
DTSTART;TZID=Australia/Melbourne:20210616T080000
DTEND;TZID=Australia/Melbourne:20210618T170000
DTSTAMP:20260422T141716
CREATED:20210501T063944Z
LAST-MODIFIED:20210529T024128Z
UID:19281-1623830400-1624035600@marketing.com.au
SUMMARY:SocialFresh 2021
DESCRIPTION:Social Fresh is for social media marketers and business owners. Attendees return year after year for inspiring and actionable training\, presented by the smartest folks in the industry. The experience is world-class\, the marketing lessons are always FRESH\, and you’ll leave with a path to move your social media to the next level! \nAttendees include B2B and B2C companies\, Fortune 500 brands\, Agencies\, Small Business Owners\, Government\, Finance\, Higher Ed\, Retail\, and Nonprofit\n\n\n\nSocial Fresh is THE event to keep you focused and fueled up on today’s best-in-class marketing strategies. If you want to create better content (faster!)\, increase organic engagement\, and make your business standout in the feed–Social Fresh is where you’ll learn these lessons–and more. We’ve packed 20+ industry experts and brand leaders into 3 days of business building sessions.
URL:https://marketing.com.au/event/socialfresh-2021/
LOCATION:Online
CATEGORIES:All Event Locations,All Event Topics,All Event Types,Social Media
END:VEVENT
BEGIN:VEVENT
DTSTART;VALUE=DATE:20210629
DTEND;VALUE=DATE:20210702
DTSTAMP:20260422T141716
CREATED:20210501T053054Z
LAST-MODIFIED:20210529T024127Z
UID:19263-1624924800-1625183999@marketing.com.au
SUMMARY:Social Media Week Los Angeles
DESCRIPTION:Social Media Week Los Angeles (#SMWLA) is the West Coast’s Premier Event for leaders in digital marketing. This multi-day virtual event will bring together brand and platform leaders\, digital marketers\, and social media practitioners to unpack the 2021 annual theme “Reinvention” through the lens of the business of influencer marketing with actionable insights for leveling up your strategies. \nParticipate in main stage talks\, panel debates\, fireside conversations\, a track of academy classes\, networking events and much more. \nThe team at Social Media Week are not only great collaborators to work with\, they have a deep commitment to the evolution of Marketing & Social Media that continues to be a source of inspiration for me and my team. Having spoken at various Social Media Week conferences and joined for some digital programming on SMW+\, I give my highest recommendation to Social Media Week as an education resource\, networking hub\, and industry mobilizer. \nWill Cady Head of Creative Strategy\, Reddit
URL:https://marketing.com.au/event/social-media-week-los-angeles/
LOCATION:Online
CATEGORIES:All Event Locations,All Event Topics,All Event Types,Social Media
END:VEVENT
BEGIN:VEVENT
DTSTART;VALUE=DATE:20210630
DTEND;VALUE=DATE:20210702
DTSTAMP:20260422T141716
CREATED:20210501T052613Z
LAST-MODIFIED:20210529T024127Z
UID:19260-1625011200-1625183999@marketing.com.au
SUMMARY:Social Media Day Philadelphia 2021
DESCRIPTION:Join thought leaders and influencers for one of the world’s premier conferences for social media and digital marketing professionals — all from the comfort of your own home! \n\nBe inspired as top-notch speakers from local and national brands inform\, educate and share insights!\nNetwork\, connect and engage in meaningful conversations about the latest social media trends!\nOpen to any marketing communications professionals – from entry-level employees to experienced professionals\, to business leaders who want to learn how digital marketing can boost their organizations!\nAttend sessions in any of four styles: plenary sessions\, flash talks\, workshops\, and ask me anything panels!\n\n#SMDAYPHL \nWe look forward to sharing ideas and inspiration at #SMDayPHL. Throughout the day\, please use this hashtag as you post about the conference\, and tag us on Twitter @smdayphl and on Instagram @smdayphl. \nSESSION TYPES \n\nFlash Talks: blocks of 3\, 14-minute sessions focused on specific campaigns and stories\, followed by a few minutes of audience Q&A\n\nFlash Talk Tracks: Apply to speak for one of the following flash talk topics:\n\nInfluencer Marketing\nAnalytics\nPaid Social\nProfessional Development\nDiversity & Inclusion\nCrisis Issues & Management\nAdvocacy & CSR / Mission-Based Marketing\nEmerging Channels (Clubhouse\, TikTok\, etc)\nContent Strategy & Development\n\n\n\n\nGeneral Sessions: 45-minute sessions led by industry thought leaders
URL:https://marketing.com.au/event/social-media-day-philadelphia/
LOCATION:Online
CATEGORIES:All Event Locations,All Event Topics,All Event Types,Conference,Social Media
END:VEVENT
END:VCALENDAR