BEGIN:VCALENDAR
VERSION:2.0
PRODID:-//Marketing.com.au - ECPv6.15.20//NONSGML v1.0//EN
CALSCALE:GREGORIAN
METHOD:PUBLISH
X-ORIGINAL-URL:https://marketing.com.au
X-WR-CALDESC:Events for Marketing.com.au
REFRESH-INTERVAL;VALUE=DURATION:PT1H
X-Robots-Tag:noindex
X-PUBLISHED-TTL:PT1H
BEGIN:VTIMEZONE
TZID:Australia/Melbourne
BEGIN:STANDARD
TZOFFSETFROM:+1100
TZOFFSETTO:+1000
TZNAME:AEST
DTSTART:20190406T160000
END:STANDARD
BEGIN:DAYLIGHT
TZOFFSETFROM:+1000
TZOFFSETTO:+1100
TZNAME:AEDT
DTSTART:20191005T160000
END:DAYLIGHT
BEGIN:STANDARD
TZOFFSETFROM:+1100
TZOFFSETTO:+1000
TZNAME:AEST
DTSTART:20200404T160000
END:STANDARD
BEGIN:DAYLIGHT
TZOFFSETFROM:+1000
TZOFFSETTO:+1100
TZNAME:AEDT
DTSTART:20201003T160000
END:DAYLIGHT
BEGIN:STANDARD
TZOFFSETFROM:+1100
TZOFFSETTO:+1000
TZNAME:AEST
DTSTART:20210403T160000
END:STANDARD
BEGIN:DAYLIGHT
TZOFFSETFROM:+1000
TZOFFSETTO:+1100
TZNAME:AEDT
DTSTART:20211002T160000
END:DAYLIGHT
END:VTIMEZONE
BEGIN:VEVENT
DTSTART;VALUE=DATE:20201013
DTEND;VALUE=DATE:20201017
DTSTAMP:20260423T222538
CREATED:20200712T070155Z
LAST-MODIFIED:20201010T112338Z
UID:15803-1602547200-1602892799@marketing.com.au
SUMMARY:Content Marketing World Conference and Expo
DESCRIPTION:Join us for the one event where you can learn from the best in the content marketing community and spend four days with our #CMWorld community.\nOur speakers will arm you with materials and knowledge you need to take a content marketing strategy back to your team and to implement a content marketing plan that will grow your business and inspire your audience. \n\n\n\nYou will grow:\nYou want to create epic content marketing and network with some of the brightest in the business. You want to build your team\, systems and processes\, and focus on your personal skills. \n\n\nYou will experience:\nOver 100 sessions\, workshops\, and industry forums presented by the leading brand marketers and experts from around the world are customized to you\, our attendees. We have an agenda covering every aspect of content marketing so your experience can be customized to you. \n\n\nYou will be inspired:\nJoin thousands of marketers from all over the world in our 2020 virtual experience. We have networking time and additional opportunities to connect before and after the event\, so we can spend time learning and connecting with each other. \n\n\n\nThe largest content marketing event on the planet – now virtual! \nWe’re looking forward to bringing you a digital event like you’ve never seen! The dates will remain the same: October 13-16\, 2020. Having spent the past year preparing for the event with our speakers\, exhibitors and event partners\, we’re genuinely disappointed not to be able to host you in person\, but the experience and safety of our community and everyone involved in the event continues to be our top priority. We’re looking through our orange-colored glasses at the great opportunities this virtual environment will provide to our amazing community. We’re hard at work on our end creating the epic CMI experience we’ve given our community for the past 10 years\, and this year will be no different. From the best speakers covering every aspect of content marketing\, to opportunities to network with our technology sponsors and event partners who may be the perfect solution for your needs in 2020 and beyond\, we think you’ll love what we’re putting together.
URL:https://marketing.com.au/event/content-marketing-world-conference-and-expo/
LOCATION:Online
CATEGORIES:All Event Locations,All Event Topics,All Event Types,Content Marketing,Copywriting,Digital Marketing,Online,Social Media,Website
END:VEVENT
BEGIN:VEVENT
DTSTART;VALUE=DATE:20201014
DTEND;VALUE=DATE:20201016
DTSTAMP:20260423T222538
CREATED:20200906T055314Z
LAST-MODIFIED:20201010T112337Z
UID:16638-1602633600-1602806399@marketing.com.au
SUMMARY:SocialAtHome
DESCRIPTION:The conference that keeps Canadian digital marketers and communications professionals ahead of the trends and at the top of their game… is moving online.\nAfter an incredibly successful online conference in June\, SocialAtHome returns for our second online event! This will be your opportunity to ensure your company’s digital voice is ready for whatever 2021 might bring. It’s time we look forward. Let’s do it together. Tap into your audiences\, dig into your analytics\, and push beyond your comfort zone to power your strategies\, up your tactical game\, and deliver results. \nFor the past five years\, SocialWest\, SocialEast and SocialCentral have brought thousands of people together\, and with SocialAtHome Summit\, we’ll be continuing to offer unprecedented opportunities for networking and professional development\, just from the safety of your home. \nWhat to Expect \n\nTwo days of 25+ exceptional and tailored speaker sessions and workshops.\nA choice of three different speaker experiences every 45 minutes.\nAdvanced virtual conference experience with online networking and community-building.\nAccess to recorded sessions for 30 days\, so you don’t miss a moment (available as an optional add-on).\n\nDynamic Speakers\, Cutting-Edge Insights\nOur presenters have done the work — the budgeting\, strategizing\, management\, and reporting — so they know what it takes to build a successful social media and digital marketing strategy. Their experience\, enthusiasm\, and commitment to elevating the Canadian digital marketing industry is what sets SocialAtHome speakers apart. \nSocialAtHome will feature 30+ expert speakers. We announced the first 13 speakers below. Watch for more announcements in the coming weeks. \n 
URL:https://marketing.com.au/event/socialathome/
LOCATION:Online
CATEGORIES:All Event Locations,All Event Topics,All Event Types,Content Marketing,Copywriting,Digital Marketing,Social Media
END:VEVENT
BEGIN:VEVENT
DTSTART;VALUE=DATE:20201027
DTEND;VALUE=DATE:20201030
DTSTAMP:20260423T222538
CREATED:20200712T065242Z
LAST-MODIFIED:20201010T112046Z
UID:15797-1603756800-1604015999@marketing.com.au
SUMMARY:Social Media Strategies Summit Higher Education
DESCRIPTION:6 REASONS HIGHER ED MARKETERS CONTINUE TO CHOOSE #SMSSUMMIT YEAR AFTER YEAR\n\n\n\n\n\nLearn the nuts and bolts of a successful social media strategy to position your institution for success – whether you’re in recruitment\, admissions\, student experience\, or alumni relations. \n\n\n\n\n\n\nAssess and audit your current social media initiatives through real-life feedback\, discussions\, and peer-to-peer learning around top social platform best practices and emerging trends. \n\n\n\n\n\n\nRevitalize your strategy framework as brand practitioners walk you step-by-step through successful case studies to help you identify new and creative ideas. \n\n\n\n\n\n\nCultivate your arsenal of tools\, resources\, and connections to champion a social media transformation back at your college or university. You’ll leave feeling refreshed\, inspired\, and reinvigorated. \n\n\n\n\n\n\nExperience a unique online gathering of senior-level\, cross-industry marketers. We’re the only event where attendees benefit from focused higher education sessions\, along with access to consumer brand case studies. \n\n\n\n\n\n\nAccelerate your career and your role within your company by learning to streamline your processes and improving your existing skills set.
URL:https://marketing.com.au/event/social-media-strategies-summit-higher-education/
LOCATION:Online
CATEGORIES:All Event Locations,All Event Topics,All Event Types,Online,Social Media
END:VEVENT
BEGIN:VEVENT
DTSTART;VALUE=DATE:20201027
DTEND;VALUE=DATE:20201030
DTSTAMP:20260423T222538
CREATED:20200906T060737Z
LAST-MODIFIED:20201010T112046Z
UID:16644-1603756800-1604015999@marketing.com.au
SUMMARY:Brand ManageCamp Marketing Conference 2020
DESCRIPTION:Why Brand ManageCamp 2020?\nSure\, we are one of Forbes’ “Must-Attend” Marketing Conferences. But here is why our VIRTUAL conference is going to rock! \nOptimized For Virtual!!!\nThis will NOT just be a live event done virtually. And it will NOT just be a series of webinars or talking heads. We are taking this opportunity to redesign how the content is delivered to ensure you can get the absolute most out of the virtual experience. \n360 Degree View of Brand\nWe understand that Brand Marketing is more than just Advertising and Media. Don’t get us wrong – we cover those. But this marketing conference covers a wide range of topics including Strategy\, Advertising\, Innovation\, Content\, Insights\, Customer Behavior\, Leadership\, Creativity\, and more. Plus all topics will be updated to reflect the realities of this new world in which we live. \nBest Pricing Ever\nWe recognize how tough this year has been and how much budgets have been impacted. As such\, we have developed 3 tiers of registration options to meet a wide range of budgets. It has never been more affordable to attend a Brand ManageCamp marketing conference! \nPost Event Content\nBrand ManageCamp is much more than a 3 day virtual conference – it is a full year of marketing content. PREMIUM and PLUS pass holders will get access to exclusive additional keynotes\, interviews\, live Q&A sessions\, blog posts\, whitepapers\, and more – delivered throughout the year. \nBrightest Minds in Brand\nEvery one of our speakers are best-selling business authors\, world-renowned experts\, or up-and-coming mavericks\, helping us become one of the best marketing conferences of 2020. They are all pushing the boundaries in their respective concentrations and are passionate about delivering their knowledge in an inspiring\, engaging\, and entertaining way. Who’s our keynote? Every single one of them. \nRave Reviews\nThis will mark our 18th annual Brand ManageCamp conference – albeit our first virtual one! We’ve got hundreds and hundreds of fantastic reviews from past attendees and we don’t plan on letting anyone down now! \nPresenters: \n\nJay Baer\, Customer Behavior\nMichael Brenner\, Marketing Trends\nShep Hyken\, Customer Experience\nCarla Johnson\, Innovation\nBrant Pinvidic\, Marketing Communications\nMarcus Sheridan\, Marketing Strategy\nJoe Pulizzi\, Content Marketing\nTodd Henry\, Creativity/Leadership\nJessica Best\, Email Marketing\nDavid Meerman Scott\, Brand Loyalty\nMitch Joel\, Brand Disruption\nAudrey Arbeeny\, Sonic Branding\nLen Herstein\, Leadership/Brand Strategy
URL:https://marketing.com.au/event/brand-managecamp-marketing-conference-2020-3/
LOCATION:Online
CATEGORIES:All Event Locations,All Event Topics,All Event Types,Conference,Content Marketing,Marketing,Online,Social Media,Website
END:VEVENT
BEGIN:VEVENT
DTSTART;VALUE=DATE:20201028
DTEND;VALUE=DATE:20201030
DTSTAMP:20260423T222538
CREATED:20200712T064750Z
LAST-MODIFIED:20201010T112045Z
UID:15795-1603843200-1604015999@marketing.com.au
SUMMARY:Social Media Strategies Summit #SMSSUMMIT
DESCRIPTION:6 REASONS #SMSSUMMIT NEEDS TO BE YOUR SOCIAL MEDIA CONFERENCE OF THE YEAR\n\n\n\n\n\nLearn the nuts and bolts of a successful social media strategy to position your brand for success. \n\n\n\n\n\n\nAssess and audit your current social media initiatives through real-life feedback\, discussions and peer-to-peer learning. \n\n\n\n\n\n\nRevitalize your strategy framework as brand practitioners walk you step-by-step through successful case studies. \n\n\n\n\n\n\nCultivate your arsenal of tools\, resources\, and connections to champion a social media marketing transformation back at your company. \n\n\n\n\n\n\nExperience a unique gathering of senior-level\, cross-industry marketers. See what’s driving success at different types of companies that can inspire innovation at your own. \n\n\n\n\n\n\nAccelerate your career and your role within your company by learning to streamline your processes and improving your existing skills set.
URL:https://marketing.com.au/event/social-media-strategies-summit-smssummit/
LOCATION:Online
CATEGORIES:All Event Locations,All Event Topics,All Event Types,Online,Social Media
END:VEVENT
END:VCALENDAR