BEGIN:VCALENDAR
VERSION:2.0
PRODID:-//Marketing.com.au - ECPv6.15.20//NONSGML v1.0//EN
CALSCALE:GREGORIAN
METHOD:PUBLISH
X-WR-CALNAME:Marketing.com.au
X-ORIGINAL-URL:https://marketing.com.au
X-WR-CALDESC:Events for Marketing.com.au
REFRESH-INTERVAL;VALUE=DURATION:PT1H
X-Robots-Tag:noindex
X-PUBLISHED-TTL:PT1H
BEGIN:VTIMEZONE
TZID:Australia/Melbourne
BEGIN:STANDARD
TZOFFSETFROM:+1100
TZOFFSETTO:+1000
TZNAME:AEST
DTSTART:20190406T160000
END:STANDARD
BEGIN:DAYLIGHT
TZOFFSETFROM:+1000
TZOFFSETTO:+1100
TZNAME:AEDT
DTSTART:20191005T160000
END:DAYLIGHT
BEGIN:STANDARD
TZOFFSETFROM:+1100
TZOFFSETTO:+1000
TZNAME:AEST
DTSTART:20200404T160000
END:STANDARD
BEGIN:DAYLIGHT
TZOFFSETFROM:+1000
TZOFFSETTO:+1100
TZNAME:AEDT
DTSTART:20201003T160000
END:DAYLIGHT
BEGIN:STANDARD
TZOFFSETFROM:+1100
TZOFFSETTO:+1000
TZNAME:AEST
DTSTART:20210403T160000
END:STANDARD
BEGIN:DAYLIGHT
TZOFFSETFROM:+1000
TZOFFSETTO:+1100
TZNAME:AEDT
DTSTART:20211002T160000
END:DAYLIGHT
END:VTIMEZONE
BEGIN:VEVENT
DTSTART;VALUE=DATE:20200506
DTEND;VALUE=DATE:20200508
DTSTAMP:20260424T132646
CREATED:20200422T083350Z
LAST-MODIFIED:20200808T045432Z
UID:15106-1588723200-1588895999@marketing.com.au
SUMMARY:Digital Summit At Home
DESCRIPTION:Why Attend Digital Summit At Home? \n\n25+ business critical digital marketing sessions you can view from anywhere.\nGet your biggest questions answered by our industry-leading speakers.\nFully interactive virtual networking space and vendor gallery.\nAll session recordings delivered to you post-event.\n$100 credit toward a future DS in-person event.\n\n\nAgenda-At-A-Glance \nMore than 25 practical sessions over 2 days! Topics include: \n\n\n\n\n\n\n\n\nThis is Marketing: A Live Q&A with Seth Godin on How We Move Forward\nHow to Be an Agile Digital Marketer in A Time of Crisis\nTips for Mastering Your Value Prop in a Changing Economy\n4 Ways to Measure Your Social Content Better Right Now (w/ Tool Recommendations!)\nHow Voice Tech Can Revolutionize Your Marketing During a Pandemic\nBuilding Trust in the Future: Human-Centric Marketing Strategies\nAnd much more!
URL:https://marketing.com.au/event/digital-summit-at-home/
LOCATION:Online
CATEGORIES:All Event Locations,All Event Topics,All Event Types,Content Marketing,Marketing,Online,SEO,Social Media,Website
END:VEVENT
BEGIN:VEVENT
DTSTART;VALUE=DATE:20200512
DTEND;VALUE=DATE:20200513
DTSTAMP:20260424T132646
CREATED:20200422T084731Z
LAST-MODIFIED:20200808T045324Z
UID:15114-1589241600-1589327999@marketing.com.au
SUMMARY:Connect. Collaborate. Commit. C3 Virtual Keynote
DESCRIPTION:Conductor is breaking down physical barriers to bring our community together virtually for C3\, our annual search and content marketing conference\, on May 12\, 2020. \nJoin our virtual keynote\nWe are excited to bring great content to you as a free\, online experience. Join us to hear from Conductor leaders on the future of search and why organic marketing is a smarter investment than ever. \nSpeakers\nThe C3 Virtual Keynote brings together Conductor and industry leaders who will explain how great content is the solution to the unprecedented marketing challenges in 2020. \nWe are excited to bring great content to you as a free\, online experience. You can expect to come away from C3 2020 with specific ideas and strategies to use now as well as tighter bonds with the greatest search professionals in the world.
URL:https://marketing.com.au/event/connect-collaborate-commit-c3-virtual-keynote/
LOCATION:Online
CATEGORIES:All Event Locations,All Event Topics,All Event Types,Online,SEO,Social Media
END:VEVENT
BEGIN:VEVENT
DTSTART;VALUE=DATE:20200512
DTEND;VALUE=DATE:20200514
DTSTAMP:20260424T132646
CREATED:20200503T012417Z
LAST-MODIFIED:20200808T045324Z
UID:15174-1589241600-1589414399@marketing.com.au
SUMMARY:#OMR20
DESCRIPTION:At OMR20\, we are bringing together international superstars of the digial scene\, hidden industry champions and local heroes for 2 days of action in Hamburg. It’s a solid mix of absolute experts with profound insights and engaging personalities. Here’s a small taste of what’s to come—more details to come! \n#OMR20 TRACKS – THE PROGRAM AT OMR20\nCONFERENCE\ni\nIndustry a-listers\, CEOs\, movers and shakers at the world’s biggest companies deliver exclusive insights to the 7000-person strong audience.\n\n\nExpo Stages – Actionable strategies and relevant business insights you can use\nOMR20 will see three Expo stages for the first time in the history of the OMR Festival. That means\, more content than ever before. Speakers from around the world on both Festival days discussing their tips\, tricks and strategies they’ve employed to solve the challenges facing them in their digital business.\n\n\n\nTHE TOP EXHIBITORS AT #OMR20\n\n\n\n\nAt the Expo\, industry titans like Adobe\, Google\, Facebook & co. rub shoulders with medium-sized companies\, eCommerce enterprises and digital startups. Find out about the latest trends in digital marketing and meet up with business contacts face-to-face.
URL:https://marketing.com.au/event/omr20/
LOCATION:Online
CATEGORIES:Advertising,All Event Locations,All Event Topics,All Event Types,Conference,Content Marketing,Digital Marketing,Online,Social Media
END:VEVENT
BEGIN:VEVENT
DTSTART;VALUE=DATE:20200519
DTEND;VALUE=DATE:20200521
DTSTAMP:20260424T132646
CREATED:20200503T012905Z
LAST-MODIFIED:20200808T045322Z
UID:15177-1589846400-1590019199@marketing.com.au
SUMMARY:SMX London
DESCRIPTION:Join the biggest Search Marketing Conference Series worldwide – Programme by Search Engine Land\, the leading Source of Search Marketing News. \nSearch marketing is by far the biggest area of digital marketing. You can’t afford to waste time or money getting it wrong. Attend SMX\, and you’ll get it right! \nImmerse yourself in three days of SEO\, SEM and Online Marketing sessions and you’re guaranteed to leave with practical tips and techniques to immediately improve your search marketing efforts. SMX also has strategic sessions to help you with what’s coming over the horizon. \nWith sessions designed to serve a diverse search marketing audience\, you’ll discover topics tailored for your needs — whether you’re into SEO or SEM\, whether you’re an advanced search marketing veteran or are a beginner just learning the ropes. \nPlus — if you work at an agency or as part of an in-house team\, SMX team rates let you divide and conquer to attend multiple tracks simultaneously. \nFeatured 2020 SMX London Sessions:\n\nSEO \n\nCreating Blockbuster Content\nKeywords Are Dead — Long Live Concepts\, Entities & Audiences!\nThe Most Common SEO Mistakes\, And How to Fix Them\nMeet The Search Engines\nSEO Success Without Link Building\nPenguin Prevention: Link Acquisition & Audit Techniques You Need To Know\n\n\nSEM/Paid Search \n\nAmazing Paid Search Tactics & Tools\nDeep Dive: Ad Bidding Strategies & Bid Modifiers\nConversion Rate Rockstars\nTaking Retargeting To The Next Level\n\n\n\nSearch & Social \n\nBetter Together: Search and Social\nWinning Strategies With Facebook Ads\nFaceoff: Adwords\, Linkedin & Twitter Compared\nMeasuring Up With Social Analytics\n\n\n\n 
URL:https://marketing.com.au/event/smx-london/
LOCATION:Online
CATEGORIES:Advertising,All Event Locations,All Event Topics,All Event Types,Conference,Content Marketing,Copywriting,Digital Marketing,Email marketing,Graphic Design,Marketing,Online,Public Relations,SEO,Social Media,Video,Website
END:VEVENT
BEGIN:VEVENT
DTSTART;VALUE=DATE:20200520
DTEND;VALUE=DATE:20200521
DTSTAMP:20260424T132646
CREATED:20200503T013212Z
LAST-MODIFIED:20200808T045321Z
UID:15179-1589932800-1590019199@marketing.com.au
SUMMARY:Impact Summit
DESCRIPTION:The UK’s leading purpose-led business event\nImpact Summit is an annual event that brings together some of the brightest minds of our time. We give a platform to the people shaking things up\, changing the status quo\, and using purpose-driven business models as a means of tackling global challenges. \nJoin us online to find inspiration\, discuss ideas and connect with the people who are not only sharing in this vision\, but bringing it to life. \n 
URL:https://marketing.com.au/event/impact-summit/
LOCATION:Online
CATEGORIES:All Event Locations,All Event Topics,All Event Types,Conference,Content Marketing,Digital Marketing,Market Research,Marketing,Online,Public Relations,Social Media
END:VEVENT
END:VCALENDAR