BEGIN:VCALENDAR
VERSION:2.0
PRODID:-//Marketing.com.au - ECPv6.15.20//NONSGML v1.0//EN
CALSCALE:GREGORIAN
METHOD:PUBLISH
X-WR-CALNAME:Marketing.com.au
X-ORIGINAL-URL:https://marketing.com.au
X-WR-CALDESC:Events for Marketing.com.au
REFRESH-INTERVAL;VALUE=DURATION:PT1H
X-Robots-Tag:noindex
X-PUBLISHED-TTL:PT1H
BEGIN:VTIMEZONE
TZID:Australia/Melbourne
BEGIN:STANDARD
TZOFFSETFROM:+1100
TZOFFSETTO:+1000
TZNAME:AEST
DTSTART:20170401T160000
END:STANDARD
BEGIN:DAYLIGHT
TZOFFSETFROM:+1000
TZOFFSETTO:+1100
TZNAME:AEDT
DTSTART:20170930T160000
END:DAYLIGHT
BEGIN:STANDARD
TZOFFSETFROM:+1100
TZOFFSETTO:+1000
TZNAME:AEST
DTSTART:20180331T160000
END:STANDARD
BEGIN:DAYLIGHT
TZOFFSETFROM:+1000
TZOFFSETTO:+1100
TZNAME:AEDT
DTSTART:20181006T160000
END:DAYLIGHT
BEGIN:STANDARD
TZOFFSETFROM:+1100
TZOFFSETTO:+1000
TZNAME:AEST
DTSTART:20190406T160000
END:STANDARD
BEGIN:DAYLIGHT
TZOFFSETFROM:+1000
TZOFFSETTO:+1100
TZNAME:AEDT
DTSTART:20191005T160000
END:DAYLIGHT
END:VTIMEZONE
BEGIN:VEVENT
DTSTART;VALUE=DATE:20180907
DTEND;VALUE=DATE:20180908
DTSTAMP:20260426T011033
CREATED:20180803T142143Z
LAST-MODIFIED:20201002T042710Z
UID:12060-1536278400-1536364799@marketing.com.au
SUMMARY:Social Media Course - Sydney
DESCRIPTION:This one-day course has been designed to give you a clearer understanding of using social media for marketing. It will help give you direction\, tools and the confidence so you can be more focused and effective. The focus at the course is Facebook and Instagram\, as these are 2 of the most popular social media platforms. You will be taught about how they work\, how to use them for marketing\, key strategies for success\, what content to post\, plus more! \nThey will also introduce you to social media planning: \n\nProvide a strategic approach\nconsider which platforms to choose\nbrainstorm content ideas\nhelp you start your own plan
URL:https://marketing.com.au/event/social-media-course-sydney-sept-18/
LOCATION:Media School Studio – Sydney\, 335 Clovelly Road\, Clovelly\, NSW\, 2031\, Australia
CATEGORIES:All Event Locations,All Event Topics,All Event Types,Content Marketing,Digital Marketing,Marketing,Social Media,Sydney,Workshop
END:VEVENT
BEGIN:VEVENT
DTSTART;TZID=Australia/Melbourne:20180912T080000
DTEND;TZID=Australia/Melbourne:20180912T103000
DTSTAMP:20260426T011033
CREATED:20180827T091943Z
LAST-MODIFIED:20180827T091943Z
UID:12202-1536739200-1536748200@marketing.com.au
SUMMARY:Behind The Scenes: Digital Media Outcomes
DESCRIPTION:As there are so many different opportunities on where and how to place your media and what to spend\, it can get hard to ensure your media spend stays fresh\, engages your audience and also generates the best ROI. At this event you will examine the most effective ways that marketers are finding their audience\, selecting channels and measuring media success. This can be advertising across different platforms\, such as Facebook\, Google\, Spotify\, YouTube or something else. You will explore how to re-invigorate your media activity to ensure your messages are fresh and attract attention.
URL:https://marketing.com.au/event/behind-the-scenes-digital-media-outcomes/
LOCATION:The Angliss Conference Centre\, Level 5\, 555 La Trobe Street\, Melbourne\, VIC\, 3000\, Australia
CATEGORIES:All Event Locations,All Event Topics,All Event Types,Digital Marketing,Marketing,Melbourne,Social Media,Workshop
ORGANIZER;CN="Interactive Minds":MAILTO:louisa(at)interactiveminds.com.au
END:VEVENT
BEGIN:VEVENT
DTSTART;TZID=Australia/Melbourne:20180914T080000
DTEND;TZID=Australia/Melbourne:20180914T170000
DTSTAMP:20260426T011033
CREATED:20180803T144806Z
LAST-MODIFIED:20180803T144806Z
UID:12062-1536912000-1536944400@marketing.com.au
SUMMARY:Social Media Course (Brisbane)
DESCRIPTION:This one-day social media course\, will give you an understanding about social media marketing and also give you the tools and ideas to help to get it started. As Facebook and Instagram are the most popular social media platforms\,  event will focus on those 2 platforms.  \nYou will learn: \n\nHow the platform can be used for marketing\nStrategies for long-term success\nPractical tips for quick gains\nThe kinds of content that works
URL:https://marketing.com.au/event/social-media-course-brisbane/
LOCATION:Media School Studio – Brisbane\, Fishburners\, 155 Queen Street\, Brisbane\, QLD\, 7000\, Australia
CATEGORIES:All Event Locations,All Event Topics,All Event Types,Brisbane,Content Marketing,Digital Marketing,Marketing,Social Media,Workshop
END:VEVENT
BEGIN:VEVENT
DTSTART;TZID=Australia/Melbourne:20180927T090000
DTEND;TZID=Australia/Melbourne:20180927T120000
DTSTAMP:20260426T011033
CREATED:20180816T072003Z
LAST-MODIFIED:20201002T045900Z
UID:12132-1538038800-1538049600@marketing.com.au
SUMMARY:Content Marketing – Creation\, Curation & Strategies
DESCRIPTION:This half day masterclass has been put together to teach you how to utilise social media for your business both efficiently and strategically. \nThe Masterclass will teach you: \n\ncreate v curate: what does it all mean\nthe apps and tools we use and love\nhow to create a content calendar\ntime-saving tips & tricks for content creation\, plu more!
URL:https://marketing.com.au/event/content-marketing-creation-curation-strategies-2/
LOCATION:InterContinental Perth\, 815 Hay Street\, Perth\, WA\, 6000\, Australia
CATEGORIES:All Event Locations,All Event Topics,All Event Types,Marketing,Perth,Social Media,Workshop
ORGANIZER;CN="Social Media Perth":MAILTO:info@smperth.com
END:VEVENT
END:VCALENDAR