BEGIN:VCALENDAR
VERSION:2.0
PRODID:-//Marketing.com.au - ECPv6.15.20//NONSGML v1.0//EN
CALSCALE:GREGORIAN
METHOD:PUBLISH
X-ORIGINAL-URL:https://marketing.com.au
X-WR-CALDESC:Events for Marketing.com.au
REFRESH-INTERVAL;VALUE=DURATION:PT1H
X-Robots-Tag:noindex
X-PUBLISHED-TTL:PT1H
BEGIN:VTIMEZONE
TZID:Australia/Melbourne
BEGIN:STANDARD
TZOFFSETFROM:+1100
TZOFFSETTO:+1000
TZNAME:AEST
DTSTART:20130406T160000
END:STANDARD
BEGIN:DAYLIGHT
TZOFFSETFROM:+1000
TZOFFSETTO:+1100
TZNAME:AEDT
DTSTART:20131005T160000
END:DAYLIGHT
BEGIN:STANDARD
TZOFFSETFROM:+1100
TZOFFSETTO:+1000
TZNAME:AEST
DTSTART:20140405T160000
END:STANDARD
BEGIN:DAYLIGHT
TZOFFSETFROM:+1000
TZOFFSETTO:+1100
TZNAME:AEDT
DTSTART:20141004T160000
END:DAYLIGHT
BEGIN:STANDARD
TZOFFSETFROM:+1100
TZOFFSETTO:+1000
TZNAME:AEST
DTSTART:20150404T160000
END:STANDARD
BEGIN:DAYLIGHT
TZOFFSETFROM:+1000
TZOFFSETTO:+1100
TZNAME:AEDT
DTSTART:20151003T160000
END:DAYLIGHT
BEGIN:STANDARD
TZOFFSETFROM:+1100
TZOFFSETTO:+1000
TZNAME:AEST
DTSTART:20160402T160000
END:STANDARD
BEGIN:DAYLIGHT
TZOFFSETFROM:+1000
TZOFFSETTO:+1100
TZNAME:AEDT
DTSTART:20161001T160000
END:DAYLIGHT
END:VTIMEZONE
BEGIN:VEVENT
DTSTART;VALUE=DATE:20150527
DTEND;VALUE=DATE:20150529
DTSTAMP:20260421T191554
CREATED:20141230T133711Z
LAST-MODIFIED:20210304T065830Z
UID:6303-1432684800-1432857599@marketing.com.au
SUMMARY:Search Marketing Expo 2015
DESCRIPTION:At this conference both online marketers\, SEO & PPC gurus can grow and learn from each other and global search engine marketing experts. Whether you’re new to the world of search marketing or deep into implementation\, tactics and campaigns this is one conference you don’t want to miss that will help you boost your search marketing results and skills.
URL:https://marketing.com.au/event/search-marketing-expo-2015/
LOCATION:Crystal Palace Ballroom\, 1 Olympic Dr\, Milson Point\, NSW\, 2061\, Australia
CATEGORIES:All Event Locations,All Event Topics,All Event Types,Conference,Digital Marketing,SEO,Sydney,Workshop
END:VEVENT
BEGIN:VEVENT
DTSTART;TZID=Australia/Melbourne:20150429T063000
DTEND;TZID=Australia/Melbourne:20150429T170000
DTSTAMP:20260421T191554
CREATED:20150304T042034Z
LAST-MODIFIED:20150304T042034Z
UID:6470-1430289000-1430326800@marketing.com.au
SUMMARY:Online Marketing Sydney: Advanced Content Marketing Event - News Corp Australia & Prosperity Media
DESCRIPTION:At this month’s meetup\, Brad Forster from News Corp Australia will discuss how News Corp Australia optimizes their Content Marketing assets for news portals like News.com.au. \nAlso\, a presentation from James Norquay who is the Director at Prosperity Media that works with well known startups & ASX listed companies to expand SEO and Content Marketing efforts in the Australian market.
URL:https://marketing.com.au/event/online-marketing-sydney-advanced-content-marketing-event-news-corp-australia-prosperity-media/
LOCATION:Saxons Training Centre\, Level 6\, 10 Barrack Street\, Sydney\, NSW\, 2000\, Australia
CATEGORIES:All Event Locations,All Event Topics,All Event Types,Content Marketing,Digital Marketing,Marketing,Meetup,SEO,Sydney
END:VEVENT
BEGIN:VEVENT
DTSTART;VALUE=DATE:20150416
DTEND;VALUE=DATE:20150417
DTSTAMP:20260421T191554
CREATED:20150324T024544Z
LAST-MODIFIED:20150324T024544Z
UID:6549-1429142400-1429228799@marketing.com.au
SUMMARY:The Australian Government: Social Media Best Practice Toolkit 2015
DESCRIPTION:Australian Government: Social Media Best Practice Toolkit 2015 is a case study and strategy driven event that aims to address the continuously evolving world of online interaction and social media networking and marketing. The Australian government along with other public sector organizations\, need to hear and share up to date strategies\, case studies and best practices that have been successful with social media interactions.
URL:https://marketing.com.au/event/the-australian-government-social-media-best-practice-toolkit-2015/
LOCATION:Rydges Melbourne\, 186 Exhibition Street\, Melbourne\, VIC\, 3000\, Australia
CATEGORIES:All Event Topics,All Event Types,Conference,Melbourne,SEO,Social Media
END:VEVENT
BEGIN:VEVENT
DTSTART;TZID=Australia/Melbourne:20150325T183000
DTEND;TZID=Australia/Melbourne:20150325T210000
DTSTAMP:20260421T191554
CREATED:20150304T041359Z
LAST-MODIFIED:20150304T041359Z
UID:6467-1427308200-1427317200@marketing.com.au
SUMMARY:Online Marketing Sydney: Advanced Growth Hacking Strategies
DESCRIPTION:Brian Ritchie who is a Growth Hacker at Ex-GoCatch (a taxi booking app) will be talking about advanced growth hacking strategies for mobile apps and also the fierce fight against the market dominating Uber by a local\, home grown competitor. Brian will share his secrets and tactics that insure continued growth of GoCatch’s user base and also repeat usage of the taxi booking app.
URL:https://marketing.com.au/event/online-marketing-sydney-advanced-growth-hacking-strategies/
LOCATION:Saxons Training Centre\, Level 6\, 10 Barrack Street\, Sydney\, NSW\, 2000\, Australia
CATEGORIES:All Event Locations,All Event Topics,All Event Types,Digital Marketing,Meetup,SEO,Sydney
END:VEVENT
BEGIN:VEVENT
DTSTART;VALUE=DATE:20150317
DTEND;VALUE=DATE:20150319
DTSTAMP:20260421T191554
CREATED:20150116T045909Z
LAST-MODIFIED:20201002T060013Z
UID:6360-1426550400-1426723199@marketing.com.au
SUMMARY:Google Analytics Training
DESCRIPTION:Learn how to measure and improve your online channels with Google certified experts from Loves Data. \nWhether you’re new to online marketing and measurement\, studying to take your individual qualification exams\, in need of a refresher or wanting to boost your skills\, these classroom-style courses will help take your knowledge to the next level. Loves Data provides comprehensive education programs which cover the latest features\, present real world solutions and are Google approved. \nWhy should I attend? \n\nYou will learn essential skills and techniques in a small classroom setting. Get answers to your questions from Google certified experts and network with peers during breaks.\nGoogle selects Loves Data to train their clients – so should you!\nAccurate\, up-to-date and comprehensive product training\nReal world solutions presented by Google certified experts\nLearn Google’s own best practices from setup to advanced features\n\nThis event will be held over two days. Participants can choose to attend on both days\, or one or the other.
URL:https://marketing.com.au/event/google-analytics-training-2/
LOCATION:Central Plaza One\, Level 19\, 345 Queen Street\, Brisbane\, Queensland\, 4000\, Australia
CATEGORIES:All Event Locations,All Event Topics,All Event Types,Brisbane,Digital Marketing,SEO,Workshop
ORGANIZER;CN="Loves Data":MAILTO:info(at)lovesdata.com
END:VEVENT
BEGIN:VEVENT
DTSTART;VALUE=DATE:20150305
DTEND;VALUE=DATE:20150307
DTSTAMP:20260421T191554
CREATED:20150116T052022Z
LAST-MODIFIED:20201002T055811Z
UID:6366-1425513600-1425686399@marketing.com.au
SUMMARY:Google Analytics Training
DESCRIPTION:Learn how to measure and improve your online channels with Google certified experts from Loves Data. \nWhether you’re new to online marketing and measurement\, studying to take your individual qualification exams\, in need of a refresher or wanting to boost your skills\, these classroom-style courses will help take your knowledge to the next level. Loves Data provides comprehensive education programs which cover the latest features\, present real world solutions and are Google approved. \nWhy should I attend? \n\nYou will learn essential skills and techniques in a small classroom setting. Get answers to your questions from Google certified experts and network with peers during breaks.\nGoogle selects Loves Data to train their clients – so should you!\nAccurate\, up-to-date and comprehensive product training\nReal world solutions presented by Google certified experts\nLearn Google’s own best practices from setup to advanced features\n\nThis event runs over two days. Participants can choose to attend both\, or just the one.
URL:https://marketing.com.au/event/google-analytics-training-3/
LOCATION:Gastronomy @ CBD Campus\, Level 6\, 1 O'Connell\, Sydney\, New South Wales\, 2000\, Australia
CATEGORIES:All Event Locations,All Event Topics,All Event Types,Digital Marketing,SEO,Sydney,Workshop
ORGANIZER;CN="Loves Data":MAILTO:info(at)lovesdata.com
END:VEVENT
BEGIN:VEVENT
DTSTART;VALUE=DATE:20150303
DTEND;VALUE=DATE:20150305
DTSTAMP:20260421T191554
CREATED:20150116T051538Z
LAST-MODIFIED:20150116T051538Z
UID:6363-1425340800-1425513599@marketing.com.au
SUMMARY:Google Adwords Training
DESCRIPTION:Learn how to setup\, manage and optimise your Google AdWords campaigns with Google certified experts from Loves Data. \nLoves Data’s training is designed to help you navigate this landscape. We focus on Google AdWords strategies\, features and best practices that will make a difference to your business’ bottom line. Whether you’re a beginner or have years of AdWords experience\, our expert trainers will provide actionable training to create and improve your campaigns. \nWhy should I attend? \n\nYou will learn essential skills and techniques in a small classroom setting. Get answers to your questions from Google certified experts and network with peers during breaks.\nLoves Data has been presenting Australia’s leading Google AdWords training since 2009\nLoves Data is the only Google-Certified AdWords trainer in Australia\nLoves Data’s training is rated 5 out of 5\, based on 183 testimonials\nLoves Data prides their training on being accurate\, accessible and actionable\n\nThis even runs over two days. Participants may choose to attend on both days\, or just the one.
URL:https://marketing.com.au/event/google-adwords-training-2/
LOCATION:Gastronomy @ CBD Campus\, Level 6\, 1 O'Connell\, Sydney\, New South Wales\, 2000\, Australia
CATEGORIES:All Event Locations,All Event Topics,All Event Types,Digital Marketing,SEO,Sydney,Workshop
ORGANIZER;CN="Loves Data":MAILTO:info(at)lovesdata.com
END:VEVENT
BEGIN:VEVENT
DTSTART;VALUE=DATE:20150226
DTEND;VALUE=DATE:20150228
DTSTAMP:20260421T191554
CREATED:20150116T043830Z
LAST-MODIFIED:20201002T055921Z
UID:6358-1424908800-1425081599@marketing.com.au
SUMMARY:Google Analytics Training
DESCRIPTION:Learn how to measure and improve your online channels with Google Analytics certified experts from Loves Data. \nWhether you’re new to online marketing and measurement\, studying to take your individual qualification exams\, in need of a refresher or wanting to boost your skills\, these classroom-style courses will help take your knowledge to the next level. Loves Data provides comprehensive education programs which cover the latest features\, present real world solutions and are Google approved. \nWhy should I attend? \n\nYou will learn essential skills and techniques in a small classroom setting. Get answers to your questions from Google certified experts and network with peers during breaks.\nGoogle selects Loves Data to train their clients – so should you!\nAccurate\, up-to-date and comprehensive product training\nReal world solutions presented by Google certified experts\nLearn Google’s own best practices from setup to advanced features\n\nThe course runs over two days\, Thursday 26 February and Friday 27 February. Participants can opt to attend both days\, or just one of the two.
URL:https://marketing.com.au/event/google-analytics-training/
LOCATION:Melbourne Business School\, 200 Leicester Street\, Melbourne\, Victoria\, 3053\, Australia
CATEGORIES:All Event Locations,All Event Topics,All Event Types,Digital Marketing,Melbourne,SEO,Workshop
ORGANIZER;CN="Loves Data":MAILTO:info(at)lovesdata.com
END:VEVENT
BEGIN:VEVENT
DTSTART;TZID=Australia/Melbourne:20141111T180000
DTEND;TZID=Australia/Melbourne:20141111T210000
DTSTAMP:20260421T191554
CREATED:20141030T033820Z
LAST-MODIFIED:20141030T033820Z
UID:6067-1415728800-1415739600@marketing.com.au
SUMMARY:EMV Event - Get Ahead in Your Career
DESCRIPTION:If you are looking to get ahead in your career\, this event will help you to improve your study and career prospects to stand out from the crowd. You will learn some tools to help you shape your career and have the opportunity to network with new and experienced marketers from a range of different industries. \nSpeakers: John Hall – Professor of Marketing\, and Wayne Binney – Course Director Master of Marketing & Associate Professor of Marketing Shelia Allen\, Principal Consultant Gregory Allen\, Founder of NotedCareers Amie Wood\, Senior Brand Manager – Shelf Sauces\, Simplot
URL:https://marketing.com.au/event/emv-event-get-ahead-career/
LOCATION:Deakin Prime\, Level 3\, 550 Bourke Street\, Melbourne\, Victoria\, 3000\, Australia
CATEGORIES:All Event Locations,All Event Topics,All Event Types,Content Marketing,Digital Marketing,Graphic Design,Market Research,Marketing,Melbourne,Presentation,Public Relations,SEO,Social Media,Workshop
END:VEVENT
BEGIN:VEVENT
DTSTART;TZID=Australia/Melbourne:20141105T171500
DTEND;TZID=Australia/Melbourne:20141105T210000
DTSTAMP:20260421T191554
CREATED:20141002T050521Z
LAST-MODIFIED:20141002T050521Z
UID:6010-1415207700-1415221200@marketing.com.au
SUMMARY:Melbourne SEO Meetup November 2014
DESCRIPTION:The Melbourne SEO meetup was founded in 2011 and is a great way to meet up with other like minded individuals in the industry\, in a relaxed and informal session on digital and web marketing. The group share tips and advice on becoming a better web marketer or developer (whether you’re a sole trader or part of large agency). \nIt’s also about asking those tough questions and getting group consensus on what is the possible implications or complications on a particular method or technique. The group meet on the second Wednesday of the month\, it’s free to join.
URL:https://marketing.com.au/event/melbourne-seo-meetup-november-2014/
LOCATION:The Limerick Arms\, 364 Clarendon St\, South Melbourne\, VIC\, 3205\, Australia
CATEGORIES:All Event Locations,All Event Topics,All Event Types,Meetup,Melbourne,SEO
ATTACH;FMTTYPE=image/jpeg:https://marketing.com.au/wp-content/uploads/2014/10/Melbourne-SEO-Meetup-Logo.jpg
END:VEVENT
BEGIN:VEVENT
DTSTART;TZID=Australia/Melbourne:20141001T180000
DTEND;TZID=Australia/Melbourne:20141001T220000
DTSTAMP:20260421T191554
CREATED:20140923T020331Z
LAST-MODIFIED:20140923T020331Z
UID:5769-1412186400-1412200800@marketing.com.au
SUMMARY:Melbourne SEO Meetup - October
DESCRIPTION:The Melbourne SEO meetup was founded in 2011 and is a great way to meet up with other like minded individuals in the industry\, in a relaxed and informal session on digital and web marketing. The group share tips and advice on becoming a better web marketer or developer (whether you’re a sole trader or part of large agency). \nIt’s also about asking those tough questions and getting group consensus on what is the possible implications or complications on a particular method or technique. The group meet on the second Wednesday of the month\, it’s free to join.
URL:https://marketing.com.au/event/melbourne-seo-meetup-october/
LOCATION:The Limerick Arms\, 364 Clarendon St\, South Melbourne\, VIC\, 3205\, Australia
CATEGORIES:All Event Locations,All Event Topics,All Event Types,Meetup,Melbourne,SEO
END:VEVENT
END:VCALENDAR