BEGIN:VCALENDAR
VERSION:2.0
PRODID:-//Marketing.com.au - ECPv6.15.20//NONSGML v1.0//EN
CALSCALE:GREGORIAN
METHOD:PUBLISH
X-ORIGINAL-URL:https://marketing.com.au
X-WR-CALDESC:Events for Marketing.com.au
REFRESH-INTERVAL;VALUE=DURATION:PT1H
X-Robots-Tag:noindex
X-PUBLISHED-TTL:PT1H
BEGIN:VTIMEZONE
TZID:Australia/Melbourne
BEGIN:STANDARD
TZOFFSETFROM:+1100
TZOFFSETTO:+1000
TZNAME:AEST
DTSTART:20150404T160000
END:STANDARD
BEGIN:DAYLIGHT
TZOFFSETFROM:+1000
TZOFFSETTO:+1100
TZNAME:AEDT
DTSTART:20151003T160000
END:DAYLIGHT
BEGIN:STANDARD
TZOFFSETFROM:+1100
TZOFFSETTO:+1000
TZNAME:AEST
DTSTART:20160402T160000
END:STANDARD
BEGIN:DAYLIGHT
TZOFFSETFROM:+1000
TZOFFSETTO:+1100
TZNAME:AEDT
DTSTART:20161001T160000
END:DAYLIGHT
BEGIN:STANDARD
TZOFFSETFROM:+1100
TZOFFSETTO:+1000
TZNAME:AEST
DTSTART:20170401T160000
END:STANDARD
BEGIN:DAYLIGHT
TZOFFSETFROM:+1000
TZOFFSETTO:+1100
TZNAME:AEDT
DTSTART:20170930T160000
END:DAYLIGHT
END:VTIMEZONE
BEGIN:VEVENT
DTSTART;TZID=Australia/Melbourne:20160902T090000
DTEND;TZID=Australia/Melbourne:20160904T163000
DTSTAMP:20260424T210809
CREATED:20160822T071435Z
LAST-MODIFIED:20160822T071435Z
UID:7926-1472806800-1473006600@marketing.com.au
SUMMARY:Sydney Hackastars
DESCRIPTION:Sydney Hackastars is Australia’s premier hackathon hosted by Tech Pilot Fund. The event will feature presentations from leaders from the Tech industry\, there will also be roaming mentors and pitch workshops. All food\, drinks\, and accommodation will be provided\, along with some other surprises. \nTwo major prizes to be won: \n1. Open category – $15\,000 will be given to the best startup pitch.\n2. batyr prize – $15\,000 development budget with Tech Pilot Fund for the startup that best solves a problem provided by batyr \nDaily supplementary prizes will be awarded throughout the Hackathon as well. \nApplications will stop at 9AM on the 22nd of August.
URL:https://marketing.com.au/event/sydney-hackastars/
LOCATION:Rydges Camperdown\, 9 Missenden Road\, Camperdown\, NSW\, 2050\, Australia
CATEGORIES:All Event Locations,All Event Topics,All Event Types,Conference,Digital Marketing,Marketing,SEO,Sydney,Workshop
END:VEVENT
END:VCALENDAR