BEGIN:VCALENDAR
VERSION:2.0
PRODID:-//Marketing.com.au - ECPv6.15.20//NONSGML v1.0//EN
CALSCALE:GREGORIAN
METHOD:PUBLISH
X-ORIGINAL-URL:https://marketing.com.au
X-WR-CALDESC:Events for Marketing.com.au
REFRESH-INTERVAL;VALUE=DURATION:PT1H
X-Robots-Tag:noindex
X-PUBLISHED-TTL:PT1H
BEGIN:VTIMEZONE
TZID:Australia/Melbourne
BEGIN:STANDARD
TZOFFSETFROM:+1100
TZOFFSETTO:+1000
TZNAME:AEST
DTSTART:20160402T160000
END:STANDARD
BEGIN:DAYLIGHT
TZOFFSETFROM:+1000
TZOFFSETTO:+1100
TZNAME:AEDT
DTSTART:20161001T160000
END:DAYLIGHT
BEGIN:STANDARD
TZOFFSETFROM:+1100
TZOFFSETTO:+1000
TZNAME:AEST
DTSTART:20170401T160000
END:STANDARD
BEGIN:DAYLIGHT
TZOFFSETFROM:+1000
TZOFFSETTO:+1100
TZNAME:AEDT
DTSTART:20170930T160000
END:DAYLIGHT
BEGIN:STANDARD
TZOFFSETFROM:+1100
TZOFFSETTO:+1000
TZNAME:AEST
DTSTART:20180331T160000
END:STANDARD
BEGIN:DAYLIGHT
TZOFFSETFROM:+1000
TZOFFSETTO:+1100
TZNAME:AEDT
DTSTART:20181006T160000
END:DAYLIGHT
END:VTIMEZONE
BEGIN:VEVENT
DTSTART;TZID=Australia/Melbourne:20171206T173000
DTEND;TZID=Australia/Melbourne:20171206T203000
DTSTAMP:20260422T212635
CREATED:20171123T063956Z
LAST-MODIFIED:20171123T063956Z
UID:10823-1512581400-1512592200@marketing.com.au
SUMMARY:SEO Masterclass
DESCRIPTION:With SEO changing it can be hard to keep up\, this event has been designed to teach you how to learn how to conduct a technical SEO audit on your own website. Rankings are about on-page and off-page factors. \nAt this event you will be taught how to: \n\nCrawl your own website like a search engine\nReproduce your website in the crawlers eyes\nIdentify and fix 300\, 400\, 500 errors\nRender your content correctly\nPlus more!
URL:https://marketing.com.au/event/seo-masterclass/
LOCATION:Academy Xi\, 66-68 Devonshire Street\, Surry Hills\, NSW\, 2010\, Australia
CATEGORIES:All Event Locations,All Event Topics,All Event Types,Marketing,SEO,Sydney,Workshop
END:VEVENT
END:VCALENDAR