BEGIN:VCALENDAR
VERSION:2.0
PRODID:-//Marketing.com.au - ECPv6.15.20//NONSGML v1.0//EN
CALSCALE:GREGORIAN
METHOD:PUBLISH
X-WR-CALNAME:Marketing.com.au
X-ORIGINAL-URL:https://marketing.com.au
X-WR-CALDESC:Events for Marketing.com.au
REFRESH-INTERVAL;VALUE=DURATION:PT1H
X-Robots-Tag:noindex
X-PUBLISHED-TTL:PT1H
BEGIN:VTIMEZONE
TZID:Australia/Melbourne
BEGIN:STANDARD
TZOFFSETFROM:+1100
TZOFFSETTO:+1000
TZNAME:AEST
DTSTART:20150404T160000
END:STANDARD
BEGIN:DAYLIGHT
TZOFFSETFROM:+1000
TZOFFSETTO:+1100
TZNAME:AEDT
DTSTART:20151003T160000
END:DAYLIGHT
BEGIN:STANDARD
TZOFFSETFROM:+1100
TZOFFSETTO:+1000
TZNAME:AEST
DTSTART:20160402T160000
END:STANDARD
BEGIN:DAYLIGHT
TZOFFSETFROM:+1000
TZOFFSETTO:+1100
TZNAME:AEDT
DTSTART:20161001T160000
END:DAYLIGHT
BEGIN:STANDARD
TZOFFSETFROM:+1100
TZOFFSETTO:+1000
TZNAME:AEST
DTSTART:20170401T160000
END:STANDARD
BEGIN:DAYLIGHT
TZOFFSETFROM:+1000
TZOFFSETTO:+1100
TZNAME:AEDT
DTSTART:20170930T160000
END:DAYLIGHT
END:VTIMEZONE
BEGIN:VEVENT
DTSTART;VALUE=DATE:20160901
DTEND;VALUE=DATE:20160903
DTSTAMP:20260424T160955
CREATED:20160624T024917Z
LAST-MODIFIED:20160624T024917Z
UID:7776-1472688000-1472860799@marketing.com.au
SUMMARY:Google Analytics Classroom Courses by Loves Data
DESCRIPTION:Love your data! Our two day course will show you how. Learn Google’s own best practices for using Analytics from our friendly Google certified experts. Attend either or both days. Places are limited.
URL:https://marketing.com.au/event/google-analytics-classroom-courses-loves-data/
LOCATION:Melbourne Business School\, 200 Leicester Street\, Melbourne\, Victoria\, 3053\, Australia
CATEGORIES:All Event Locations,All Event Topics,All Event Types,Market Research,Marketing,Melbourne,Presentation,SEO,Workshop
ORGANIZER;CN="Loves Data":MAILTO:info(at)lovesdata.com
END:VEVENT
BEGIN:VEVENT
DTSTART;TZID=Australia/Melbourne:20160902T090000
DTEND;TZID=Australia/Melbourne:20160904T163000
DTSTAMP:20260424T160955
CREATED:20160822T071435Z
LAST-MODIFIED:20160822T071435Z
UID:7926-1472806800-1473006600@marketing.com.au
SUMMARY:Sydney Hackastars
DESCRIPTION:Sydney Hackastars is Australia’s premier hackathon hosted by Tech Pilot Fund. The event will feature presentations from leaders from the Tech industry\, there will also be roaming mentors and pitch workshops. All food\, drinks\, and accommodation will be provided\, along with some other surprises. \nTwo major prizes to be won: \n1. Open category – $15\,000 will be given to the best startup pitch.\n2. batyr prize – $15\,000 development budget with Tech Pilot Fund for the startup that best solves a problem provided by batyr \nDaily supplementary prizes will be awarded throughout the Hackathon as well. \nApplications will stop at 9AM on the 22nd of August.
URL:https://marketing.com.au/event/sydney-hackastars/
LOCATION:Rydges Camperdown\, 9 Missenden Road\, Camperdown\, NSW\, 2050\, Australia
CATEGORIES:All Event Locations,All Event Topics,All Event Types,Conference,Digital Marketing,Marketing,SEO,Sydney,Workshop
END:VEVENT
BEGIN:VEVENT
DTSTART;VALUE=DATE:20160908
DTEND;VALUE=DATE:20160910
DTSTAMP:20260424T160955
CREATED:20160624T025300Z
LAST-MODIFIED:20160624T025300Z
UID:7777-1473292800-1473465599@marketing.com.au
SUMMARY:Google Analytics Classroom Courses by Loves Data - Sydney
DESCRIPTION:Love your data! Our two day course will show you how. Learn Google’s own best practices for Analytics from our friendly Google certified experts. Attend one or both days. Book now!
URL:https://marketing.com.au/event/google-analytics-classroom-courses-loves-data-sydney/
LOCATION:UNSW CBD Campus\, Level 6\, 1 O'Connell Street\, Sydney\, NSW\, 2000\, Australia
CATEGORIES:All Event Locations,All Event Topics,All Event Types,Market Research,Marketing,Presentation,SEO,Sydney,Workshop
ORGANIZER;CN="Loves Data":MAILTO:info(at)lovesdata.com
END:VEVENT
END:VCALENDAR