BEGIN:VCALENDAR
VERSION:2.0
PRODID:-//Marketing.com.au - ECPv6.15.20//NONSGML v1.0//EN
CALSCALE:GREGORIAN
METHOD:PUBLISH
X-WR-CALNAME:Marketing.com.au
X-ORIGINAL-URL:https://marketing.com.au
X-WR-CALDESC:Events for Marketing.com.au
REFRESH-INTERVAL;VALUE=DURATION:PT1H
X-Robots-Tag:noindex
X-PUBLISHED-TTL:PT1H
BEGIN:VTIMEZONE
TZID:Australia/Melbourne
BEGIN:STANDARD
TZOFFSETFROM:+1100
TZOFFSETTO:+1000
TZNAME:AEST
DTSTART:20150404T160000
END:STANDARD
BEGIN:DAYLIGHT
TZOFFSETFROM:+1000
TZOFFSETTO:+1100
TZNAME:AEDT
DTSTART:20151003T160000
END:DAYLIGHT
BEGIN:STANDARD
TZOFFSETFROM:+1100
TZOFFSETTO:+1000
TZNAME:AEST
DTSTART:20160402T160000
END:STANDARD
BEGIN:DAYLIGHT
TZOFFSETFROM:+1000
TZOFFSETTO:+1100
TZNAME:AEDT
DTSTART:20161001T160000
END:DAYLIGHT
BEGIN:STANDARD
TZOFFSETFROM:+1100
TZOFFSETTO:+1000
TZNAME:AEST
DTSTART:20170401T160000
END:STANDARD
BEGIN:DAYLIGHT
TZOFFSETFROM:+1000
TZOFFSETTO:+1100
TZNAME:AEDT
DTSTART:20170930T160000
END:DAYLIGHT
END:VTIMEZONE
BEGIN:VEVENT
DTSTART;VALUE=DATE:20160531
DTEND;VALUE=DATE:20160604
DTSTAMP:20260424T193848
CREATED:20160512T062624Z
LAST-MODIFIED:20160512T062624Z
UID:7676-1464652800-1464998399@marketing.com.au
SUMMARY:Search Marketing Summit 2016
DESCRIPTION:Search Marketing Summit 2016 is a collective of events run over the course of 4 days specializing on the topic of search and marketing for various levels of education. Search Marketing Summit will comprise of Entry Level Education\, Intermediate Level Education and Advanced Level Education in various topics and subjects of search marketing. Pick and choose the right event for you and your level of learning\, from half day events\, to one-day workshops all the way through to the full 4 day experience package\, this Summit will have something for everyone at all levels of skill to learn. \nSome of the events that will be held at the Search Marketing Summit 2016 are: \n\nSearch Engine Boot-Camp\nEmail Marketing Workshop\nSearch Marketing Summit\nMobile Marketer Workshop\nAdvanced PPC Workshop\nAdvanced SEO Workshop\nAdvanced Conversion & Landing Page Optimisation Workshop
URL:https://marketing.com.au/event/search-marketing-summit-2016/
LOCATION:SMC Conference & Function Centre\, 66 Goulburn St\, Sydney\, NSW\, 2000\, Australia
CATEGORIES:Advertising,All Event Locations,All Event Topics,All Event Types,Conference,Content Marketing,Digital Marketing,Market Research,Marketing,SEO,Social Media,Sydney
END:VEVENT
BEGIN:VEVENT
DTSTART;VALUE=DATE:20160602
DTEND;VALUE=DATE:20160603
DTSTAMP:20260424T193848
CREATED:20160510T071200Z
LAST-MODIFIED:20160510T071200Z
UID:7668-1464825600-1464911999@marketing.com.au
SUMMARY:AMI Innovation Summit 2016
DESCRIPTION:Having a large budget no longer guarantees marketing success in this new digital world we live in. Innovating new marketing ideas and methods is the new key to digital marketing success. AMI Innovation Summit 2016 is Australia’s leading marketing event\, and this year innovation will be the main focus. Come and be inspired by marketing experts that understand how to harness ideas and innovation to capitalize on existing markets\, creating loyal customers and drive business growth. Visit this years event to learn secrets and receive practical advice on how to go above and beyond with marketing innovation to create the next big hit\, find out what is working right now\, and what’s next. \nThis event will showcase a panel of keynote speakers such as: \n\nMark Jones\, Chief Storyteller and CEO of Filtered Media\nCat Matson\, Chief Digital Officer of Brisbane Marketing\nDr Linden Brown from Market Culture\nJock Fairweather\, Director at Little Tokyo Two\nJordan Duffy\, Founder of Buckham & Duffy\nPaul Hawkins\, Managing Director of Crazy Might Work
URL:https://marketing.com.au/event/ami-innovation-summit-2016/
LOCATION:Rydges Southbank\, 9 Glenelg Street\, South Brisbane\, QLD\, 4101\, Australia
CATEGORIES:All Event Locations,All Event Topics,All Event Types,Brisbane,Conference,Content Marketing,Digital Marketing,Market Research,Marketing,SEO,Social Media
END:VEVENT
BEGIN:VEVENT
DTSTART;TZID=Australia/Melbourne:20160602T173000
DTEND;TZID=Australia/Melbourne:20160602T220000
DTSTAMP:20260424T193848
CREATED:20160511T112934Z
LAST-MODIFIED:20160511T112934Z
UID:7670-1464888600-1464904800@marketing.com.au
SUMMARY:MediaSocial 08 Vivid
DESCRIPTION:MediaSocial 08 Vivid is an exclusive event for executives and business owners working in media\, marketing\, digital agencies\, PR\, advertising\, media and technologies industries to help network\, grow and learn the latest advancements in digital media and technology today. \nThis event will be showcasing a series of presentations by industry thought leaders\, giving valuable insights into various technologies and media channels \nMediaSocial: media should be social
URL:https://marketing.com.au/event/mediasocial-08-vivid/
LOCATION:Cell Block Theatre\, National Art School\, Forbes Street\, Darlinghurst\, NSW\, 2010\, Australia
CATEGORIES:Advertising,All Event Locations,All Event Topics,All Event Types,Conference,Content Marketing,Digital Marketing,Graphic Design,Market Research,Marketing,SEO,Social Media,Sydney
ORGANIZER;CN="MediaSocial":MAILTO:info@mediasocial.net.au
END:VEVENT
BEGIN:VEVENT
DTSTART;VALUE=DATE:20160606
DTEND;VALUE=DATE:20160608
DTSTAMP:20260424T193848
CREATED:20160512T060558Z
LAST-MODIFIED:20201002T050230Z
UID:7673-1465171200-1465343999@marketing.com.au
SUMMARY:Big Digital Adelaide
DESCRIPTION:Big Digital Adelaide is a digital marketing event with world class features\, held in Adelaide and showcasing experts on various different topics of digital marketing. Big Digital Adelaide is going to provide attendees with a one-off networking environment opportunity and a wealth of knowledge in the many aspects of digital marketing to take home. \nThis event will provide two days of learning opportunities for everyone on the many aspects of search engine optimization (SEO)\, paid search tactics and tools\, social media marketing\, blogging and content development and marketing. Learn from a panel of experts who will provide their experiences and knowledge to help you grow as a marketer\, from WordPress security to understanding keyword research\, Big Digital Adelaide will educate you on any and in everything digital marketing and SEO.
URL:https://marketing.com.au/event/big-digital-adelaide/
LOCATION:The Science Exchange\, 55 Exchange Place\, Adelaide\, SA\, 5000\, Australia
CATEGORIES:Adelaide,All Event Locations,All Event Topics,All Event Types,Conference,Content Marketing,Market Research,Marketing,SEO,Social Media
END:VEVENT
BEGIN:VEVENT
DTSTART;VALUE=DATE:20160607
DTEND;VALUE=DATE:20160610
DTSTAMP:20260424T193848
CREATED:20160517T071254Z
LAST-MODIFIED:20160517T071254Z
UID:7683-1465257600-1465516799@marketing.com.au
SUMMARY:Mumbrella360
DESCRIPTION:Mumbrella360 is a national conference forum discussion of everything under Australia’s marketing and media umbrella. The conference is designed for individuals working in the areas of media\, marketing and entertainment\, providing learning opportunities and understandings of today’s media.  \nMumbrella360 will take place over 3 days at the Hilton Hotel in Sydney\, including keynote speakers from Australia’s most influential media and marketing companies and curated sessions created by various Mumbrella readers. \nAlongside the conference\, Mumbrella360 will run a exciting exhibition area and Masterclass zone for participants to explore as well as creating networking opportunities during the breaks.
URL:https://marketing.com.au/event/mumbrella360/
LOCATION:Hilton Sydney\, 488 Georges Street\, Sydney\, New South Wales\, 2000\, Australia
CATEGORIES:Advertising,All Event Locations,All Event Topics,All Event Types,Conference,Content Marketing,Digital Marketing,Marketing,SEO,Social Media,Sydney
END:VEVENT
END:VCALENDAR