BEGIN:VCALENDAR
VERSION:2.0
PRODID:-//Marketing.com.au - ECPv6.15.20//NONSGML v1.0//EN
CALSCALE:GREGORIAN
METHOD:PUBLISH
X-WR-CALNAME:Marketing.com.au
X-ORIGINAL-URL:https://marketing.com.au
X-WR-CALDESC:Events for Marketing.com.au
REFRESH-INTERVAL;VALUE=DURATION:PT1H
X-Robots-Tag:noindex
X-PUBLISHED-TTL:PT1H
BEGIN:VTIMEZONE
TZID:Australia/Melbourne
BEGIN:STANDARD
TZOFFSETFROM:+1100
TZOFFSETTO:+1000
TZNAME:AEST
DTSTART:20130406T160000
END:STANDARD
BEGIN:DAYLIGHT
TZOFFSETFROM:+1000
TZOFFSETTO:+1100
TZNAME:AEDT
DTSTART:20131005T160000
END:DAYLIGHT
BEGIN:STANDARD
TZOFFSETFROM:+1100
TZOFFSETTO:+1000
TZNAME:AEST
DTSTART:20140405T160000
END:STANDARD
BEGIN:DAYLIGHT
TZOFFSETFROM:+1000
TZOFFSETTO:+1100
TZNAME:AEDT
DTSTART:20141004T160000
END:DAYLIGHT
BEGIN:STANDARD
TZOFFSETFROM:+1100
TZOFFSETTO:+1000
TZNAME:AEST
DTSTART:20150404T160000
END:STANDARD
BEGIN:DAYLIGHT
TZOFFSETFROM:+1000
TZOFFSETTO:+1100
TZNAME:AEDT
DTSTART:20151003T160000
END:DAYLIGHT
BEGIN:STANDARD
TZOFFSETFROM:+1100
TZOFFSETTO:+1000
TZNAME:AEST
DTSTART:20160402T160000
END:STANDARD
BEGIN:DAYLIGHT
TZOFFSETFROM:+1000
TZOFFSETTO:+1100
TZNAME:AEDT
DTSTART:20161001T160000
END:DAYLIGHT
END:VTIMEZONE
BEGIN:VEVENT
DTSTART;TZID=Australia/Melbourne:20150902T170000
DTEND;TZID=Australia/Melbourne:20150902T203000
DTSTAMP:20260420T042742
CREATED:20150827T060750Z
LAST-MODIFIED:20150827T060750Z
UID:7031-1441213200-1441225800@marketing.com.au
SUMMARY:Future of Digital Performance
DESCRIPTION:The speed of change within digital marketing has continued to grow and evolve over the last few years dramatically\, mobile and digital marketing has never been so important\, making a marketer’s job more complex than ever. The Future of Digital Performance event will bring together marketing experts to debate the latest trends and challenges in the digital marketing world and how brands are using technology to boost their performance and consumer loyalty.
URL:https://marketing.com.au/event/future-of-digital-performance/
LOCATION:Waterfront\, 27 Circular Quay W\, The Rocks\, Sydney\, NSW\, 2000\, Australia
CATEGORIES:Advertising,All Event Locations,All Event Topics,All Event Types,Content Marketing,Digital Marketing,Market Research,Marketing,Meetup,Public Relations,Sydney,Workshop
ORGANIZER;CN="Kenshoo":MAILTO:lauren.evans(at)kenshoo.com
END:VEVENT
BEGIN:VEVENT
DTSTART;VALUE=DATE:20150902
DTEND;VALUE=DATE:20150904
DTSTAMP:20260420T042742
CREATED:20150827T064321Z
LAST-MODIFIED:20150827T064321Z
UID:7035-1441152000-1441324799@marketing.com.au
SUMMARY:Swarm 2015
DESCRIPTION:Swarm 2015 is Australia’s only online community management conference that will connect established experts and new talent together over two days. This event will be a collaboration of ideas\, keynote speakers\, open discussion forums\, networking\, best practices and inspiration packed into two days at the University of Sydney. Swarm brings together professionals from various walks of life\, with a focus on improving business community management and customer loyalty.
URL:https://marketing.com.au/event/swarm-2015/
LOCATION:The University of Sydney\, Law Foyer\, Level 2\, New Law Building F10   Eastern Avenue\, Camperdown Campus\, NSW\, 2006\, Australia
CATEGORIES:Advertising,All Event Locations,All Event Topics,All Event Types,Conference,Digital Marketing,Market Research,Marketing,Public Relations,Social Media,Sydney
ORGANIZER;CN="Media@Sydney":MAILTO:benedetta.brevini(at)sydney.edu.au
END:VEVENT
BEGIN:VEVENT
DTSTART;TZID=Australia/Melbourne:20150901T180000
DTEND;TZID=Australia/Melbourne:20150901T200000
DTSTAMP:20260420T042742
CREATED:20150825T053528Z
LAST-MODIFIED:20150825T053528Z
UID:7020-1441130400-1441137600@marketing.com.au
SUMMARY:Events - From Glam to Zen
DESCRIPTION:In this Networx we’ll be discussing the topic of events – looking specifically at events as a prominent part of the marketing mix. Discussion areas will include the current increase and popularity of events (particularly in the corporate sector)\, tips on securing an audience for an event\, and what makes an event a success. \nWe’ll explore: \n\nThe logistics of creating and delivering a standout event\nROI and what you should expect events to deliver for your brand • Sponsorships and partnering with events\nObtaining media coverage and social buzz\nWorking with talent\nEmerging trends in the event arena\n\nSpeakers include: \nJackie Frank\nPublisher of Fashion and Health\, Pacific Magazines \nKate Russell\nRegional Community Manager NSW and ACT\, of lululemon athletica \nKaterina Pitsikas\nDirector and Producer of Kat & Co
URL:https://marketing.com.au/event/events-from-glam-to-zen/
LOCATION:York Keller\, Bavarian Bier Cafe\, 24 York Street\, Sydney\, NSW\, 2000\, Australia
CATEGORIES:Advertising,All Event Locations,All Event Topics,All Event Types,Content Marketing,Market Research,Marketing,Meetup,Public Relations,Sydney,Workshop
ORGANIZER;CN="Double Edge PR":MAILTO:simone(at)doubleedge.com.au
END:VEVENT
BEGIN:VEVENT
DTSTART;VALUE=DATE:20150828
DTEND;VALUE=DATE:20150829
DTSTAMP:20260420T042742
CREATED:20150813T001117Z
LAST-MODIFIED:20150813T001117Z
UID:6985-1440720000-1440806399@marketing.com.au
SUMMARY:Marketo 2015 Marketing Nation Roadshow Sydney
DESCRIPTION:Marketo 2015 Marketing Nation Roadshow Sydney will assemble a team of bright minds in the industry to bring you a full day event of cutting-edge ideas\, thought leadership and innovative marketing technologies. This day will give participants the opportunity to network with industry leaders\, marketing experts and other local marketers as well as everything the Marketing Nation has to offer.
URL:https://marketing.com.au/event/marketo-2015-marketing-nation-roadshow-sydney/
LOCATION:The Westin Sydney\, 1 Martin Place\, Sydney\, NSW\, 2000\, Australia
CATEGORIES:Advertising,All Event Locations,All Event Types,Conference,Content Marketing,Digital Marketing,Market Research,Marketing,Public Relations,Social Media,Sydney
ORGANIZER;CN="Marketo":MAILTO:support(at)marketo.com
END:VEVENT
BEGIN:VEVENT
DTSTART;VALUE=DATE:20150819
DTEND;VALUE=DATE:20150821
DTSTAMP:20260420T042742
CREATED:20150323T120106Z
LAST-MODIFIED:20150323T120106Z
UID:6546-1439942400-1440115199@marketing.com.au
SUMMARY:CXO Leaders Summit
DESCRIPTION:The CXO Leaders Summit Australia 2015 is a invitation only event intended for senior marketing leaders to meet and collaborate in an exchange of knowledge and strategies over a wide range of issues in the industry. This two day event will bring together Australia’s most respected marketing leaders and leading supplier companies to offer opportunities for all attending delegates\, while providing informal networking sessions to create an interactive forum
URL:https://marketing.com.au/event/cxo-leaders-summit/
LOCATION:Sheraton On The Park\, 161 Elizabeth Street\, Sydney\, NSW\, 2000\, Australia
CATEGORIES:Advertising,All Event Topics,All Event Types,Conference,Marketing,Public Relations,Social Media,Sydney,Workshop
ORGANIZER;CN="Media Corp International":MAILTO:jennifer(at)mediacorpinternational.com.au
END:VEVENT
BEGIN:VEVENT
DTSTART;VALUE=DATE:20150804
DTEND;VALUE=DATE:20150805
DTSTAMP:20260420T042742
CREATED:20150701T092726Z
LAST-MODIFIED:20201002T045428Z
UID:6872-1438646400-1438732799@marketing.com.au
SUMMARY:Advancing Analytics
DESCRIPTION:The Advancing Analytic 2015 conference will answer questions raised on how to analyze and assess tremendous amounts of data that teach you about your customers\, and how will machine learning impact the analytics industry. \n“Analytics is the way to transform and cultivate a smarter business and to stay ahead of one’s competition. Advancing Analytics will give the local industry in Australia the chance to hear inspirational stories from some of world’s leading data scientists about how they are transforming their organisations using analytics\,” said Jodie Sangster\, IAPA/ ADMA CEO. \nThis event will showcase global analytics leaders from world leading organizations\, people such as: \n\nBob Jones\, Project Leader\, CERN (Switzerland)\nUsama Fayyad\, Chief Data Scientist\, Barclays (UK)\nClaudia Perlich\, Chief Scientist\, Dstillery (USA)\nStephen Pulman\, Professor of Computational Linguistics\, Oxford University (UK)\nIgor Elbert\, Principal Data Scientist\, gilt.com (USA)\n\n…and more!
URL:https://marketing.com.au/event/advancing-analytics/
LOCATION:Hilton Sydney\, 488 Georges Street\, Sydney\, New South Wales\, 2000\, Australia
CATEGORIES:Advertising,All Event Locations,All Event Topics,All Event Types,Conference,Content Marketing,Digital Marketing,Market Research,Marketing,Public Relations,SEO,Social Media,Sydney
ORGANIZER;CN="IAPA":MAILTO:christine.thomson(at)iapa.org.au 
END:VEVENT
BEGIN:VEVENT
DTSTART;VALUE=DATE:20150730
DTEND;VALUE=DATE:20150801
DTSTAMP:20260420T042742
CREATED:20150701T084258Z
LAST-MODIFIED:20150701T084258Z
UID:6870-1438214400-1438387199@marketing.com.au
SUMMARY:Customer Experience Tech Fest
DESCRIPTION:Customer Experience Tech Fest is a conference designed to help discover how to get your customers experience strategy right\, utilize commercial value of your customers data and help engage with your customers across all channels\, placing your customers as the heart of your business. Find out how some of the worlds leading brands are using CRM and other digital technologies to create\, engage and maintain customers.
URL:https://marketing.com.au/event/customer-experience-tech-fest/
LOCATION:Crown Plaza Melbourne\, 1-5 Spencer St\, Docklands\, VIC\, 3008
CATEGORIES:Advertising,All Event Locations,All Event Topics,All Event Types,Conference,Content Marketing,Market Research,Marketing,Melbourne,Public Relations
ORGANIZER;CN="The Eventful Group":MAILTO:claire.jones(at)theeventfulgroup.com
END:VEVENT
BEGIN:VEVENT
DTSTART;TZID=Australia/Melbourne:20150729T073000
DTEND;TZID=Australia/Melbourne:20150729T083000
DTSTAMP:20260420T042742
CREATED:20150624T112554Z
LAST-MODIFIED:20150624T112554Z
UID:6841-1438155000-1438158600@marketing.com.au
SUMMARY:Taking Control of the Online Narrative: Blogging 101
DESCRIPTION:Blogger outreach is now a mainstay in the life of PR professionals and is increasingly valued as an important area of influence for brands. So\, what are the insights of bloggers regarding working with PRs and how can we create a sustainable working relationship for the future? \nJoin us at an exclusive PRIA breakfast to hear from Felicity Grey\, Managing Director of Australia’s largest blogging community\, Nuffnang with veteran vintage blogger Candice Deville. Discuss the differences between journalists and bloggers\, balancing editorial and advertorial and how to create authentic narrative through shared experiences.
URL:https://marketing.com.au/event/taking-control-of-the-online-narrative-blogging-101/
LOCATION:Professional Public Relations\, Level 3\, 162 Collins Street\, Melbourne\, Victoria\, 3000\, Australia
CATEGORIES:All Event Locations,All Event Topics,All Event Types,Melbourne,Presentation,Public Relations
END:VEVENT
BEGIN:VEVENT
DTSTART;TZID=Australia/Melbourne:20150723T083000
DTEND;TZID=Australia/Melbourne:20150723T170000
DTSTAMP:20260420T042742
CREATED:20150624T112213Z
LAST-MODIFIED:20150624T112213Z
UID:6838-1437640200-1437670800@marketing.com.au
SUMMARY:PRIA Emerging Leader Forum
DESCRIPTION:You are invited to join The PRIA WA as we launch the Emerging Leaders Forum. The first of its kind for PRIA\, this one-day event is designed for budding public relations\, marketing and communications leaders looking to develop in their workplace by improving their leadership skills\, diversifying their communication skills and learning how to take control of their careers. \nThe Forum will address what it takes to be an ethical\, effective and influential leader\, and identify some practical self-management tools to empower and activate you to achieve your professional and personal potential. \nYou will learn from and be inspired by several highly successful and respected professionals from a variety of backgrounds and take part in a career-building workshop. \nIf you or your employees are dealing with greater responsibilities and working in more challenging workplace scenarios\, then this Forum aims to support success.
URL:https://marketing.com.au/event/pria-emerging-leader-forum/
LOCATION:UWA Watersports and Leadership Centre\, Cnr Stirling Highway and Mounts Bay Rd\, Perth\, Western Australia\, 6009\, Australia
CATEGORIES:All Event Locations,All Event Topics,All Event Types,Conference,Perth,Public Relations
END:VEVENT
BEGIN:VEVENT
DTSTART;VALUE=DATE:20150722
DTEND;VALUE=DATE:20150723
DTSTAMP:20260420T042742
CREATED:20150714T064945Z
LAST-MODIFIED:20150714T064945Z
UID:6935-1437523200-1437609599@marketing.com.au
SUMMARY:Effective Media Release Writing Course
DESCRIPTION:This course will teach you how to create attention-grabbing releases and engage your audiences with AAP Medianet’s Effective Media Release Writing Course. Taught by an ex-journalist with corporate media relations experience\, this course will give you the skills to write perfect headlines and understand how you should engage with other journalists.
URL:https://marketing.com.au/event/effective-media-release-writing-course/
LOCATION:AAP News Centre\, 3 Rider Boulevard\, Rhodes\, NSW\, 2138\, Australia
CATEGORIES:All Event Locations,All Event Topics,All Event Types,Content Marketing,Public Relations,Sydney,Workshop
ORGANIZER;CN="AAP Medianet":MAILTO:medianet(at)aap.com.au
END:VEVENT
BEGIN:VEVENT
DTSTART;TZID=Australia/Melbourne:20150717T173000
DTEND;TZID=Australia/Melbourne:20150717T203000
DTSTAMP:20260420T042742
CREATED:20150624T111918Z
LAST-MODIFIED:20150624T111918Z
UID:6836-1437154200-1437165000@marketing.com.au
SUMMARY:PRINKS Melbourne at Bond
DESCRIPTION:The next PRINKS Melbourne event will be on Friday 17 July\, and we would love to see some new and familiar faces joining us for a drink and a chat\, to talk shop (or not) at beautiful Bond Melbourne\, just off Flinders Street. Kick off your weekend with a complimentary drink and canapés on arrival\, courtesy of Bond Melbourne via Soda Communications\, exclusively for PRINKS. \nFor those newly initiated\, PRINKS is an industry networking group for communications professionals (whether you’re in PR\, advertising\, media\, marketing\, social\, or digital) and graduates\, designed to build connections and opportunities over a drink or two. All are welcome – feel free to come on your own or invite a friend/colleague. Supported by the PRIA.
URL:https://marketing.com.au/event/prinks-melbourne-at-bond/
LOCATION:Bond\, 24 Bond Street\, Melbourne\, VIC\, 3000\, Australia
CATEGORIES:All Event Locations,All Event Topics,All Event Types,Meetup,Melbourne,Public Relations
END:VEVENT
BEGIN:VEVENT
DTSTART;TZID=Australia/Melbourne:20150616T180000
DTEND;TZID=Australia/Melbourne:20150616T203000
DTSTAMP:20260420T042742
CREATED:20150611T054156Z
LAST-MODIFIED:20150611T054156Z
UID:6811-1434477600-1434486600@marketing.com.au
SUMMARY:Joining Forces
DESCRIPTION:From celebrity ambassadors and sponsorship\, to product placement and events\, Networx looks at brand partnerships. Join us on 16 June to make ‘Joining Forces’ a winning strategy for your brand.
URL:https://marketing.com.au/event/joining-forces/
LOCATION:New Hampton Hotel\, 9-15 Bayswater Road\, Potts Point\, NSW\, 2011\, Australia
CATEGORIES:Advertising,All Event Locations,All Event Topics,All Event Types,Content Marketing,Digital Marketing,Marketing,Presentation,Public Relations,Social Media,Sydney
ORGANIZER;CN="Double Edge PR":MAILTO:simone(at)doubleedge.com.au
END:VEVENT
BEGIN:VEVENT
DTSTART;VALUE=DATE:20150604
DTEND;VALUE=DATE:20150605
DTSTAMP:20260420T042742
CREATED:20150401T092028Z
LAST-MODIFIED:20150401T092028Z
UID:6602-1433376000-1433462399@marketing.com.au
SUMMARY:2015 AMI Marketing Summit
DESCRIPTION:Now in its 13th successive year\, this event is set to deliver a line up of speakers including Gruen Transfer veteran Dan Gregory\, along with some of Australia’s leading and most loved brands. \nJoin us at this event to get exclusive information and insight from some of Australia’s top brands including Woolworths\, Youngcare\, Publicis Worldwide Australia\, SEMA\, Bendigo Bank and more. This even will help expand your professional development and allow you to network with Australia’s top marketers.
URL:https://marketing.com.au/event/2015-ami-marketing-summit/
LOCATION:Rydges Southbank\, 9 Glenelg Street\, South Brisbane\, QLD\, 4101\, Australia
CATEGORIES:Advertising,All Event Locations,All Event Topics,All Event Types,Brisbane,Conference,Content Marketing,Digital Marketing,Market Research,Marketing,Presentation,Public Relations,Social Media
END:VEVENT
BEGIN:VEVENT
DTSTART;VALUE=DATE:20150520
DTEND;VALUE=DATE:20150521
DTSTAMP:20260420T042742
CREATED:20150420T072526Z
LAST-MODIFIED:20150420T072526Z
UID:6647-1432080000-1432166399@marketing.com.au
SUMMARY:Multi-Screen Engagement: The Secrets Behind the New Golden Age of Hollywood
DESCRIPTION:Everything you need to know to create effective media content and distribution strategies presented by leading Hollywood media advisor and “The Emmys” television academy “Interactive Media” governor Seth Shapiro. \nThis Masterclass will give executives\, creators and producers the strategies and techniques used by the new generation of media leaders in Hollywood in four key areas: \n– Cross-platform Development\n– Original Online Programming\n– Social Media and Screen Content\n– Distribution and Marketing \nThe Masterclass will be followed by a Networking Reception. \n  \n 
URL:https://marketing.com.au/event/multi-screen-engagement-the-secrets-behind-the-new-golden-age-of-hollywood/
LOCATION:TBA
CATEGORIES:Advertising,All Event Locations,All Event Topics,All Event Types,Conference,Content Marketing,Digital Marketing,Marketing,Melbourne,Presentation,Public Relations,Social Media,Workshop
ORGANIZER;CN="X MEDIA LAB":MAILTO:megan(at)xmedialab.com
END:VEVENT
BEGIN:VEVENT
DTSTART;TZID=Australia/Melbourne:20150518T083000
DTEND;TZID=Australia/Melbourne:20150519T153000
DTSTAMP:20260420T042742
CREATED:20150323T063646Z
LAST-MODIFIED:20150323T063646Z
UID:6542-1431937800-1432049400@marketing.com.au
SUMMARY:DAZE of Disruption
DESCRIPTION:A forum that will address the issues that arise for most start-ups and incumbents in their journey to grow their businesses in this digital age and the disruption they will face.\n 
URL:https://marketing.com.au/event/daze-of-disruption/
LOCATION:Belvior St Theatre\, 25 Belvoir Street\, Surry Hills\, NSW\, 2010\, Australia
CATEGORIES:All Event Topics,All Event Types,Conference,Marketing,Presentation,Public Relations,Sydney
ORGANIZER;CN="B&T":MAILTO:emma(at)bandt.com.au
END:VEVENT
BEGIN:VEVENT
DTSTART;TZID=Australia/Melbourne:20150224T073000
DTEND;TZID=Australia/Melbourne:20150224T210000
DTSTAMP:20260420T042742
CREATED:20150116T062602Z
LAST-MODIFIED:20150116T062602Z
UID:6381-1424763000-1424811600@marketing.com.au
SUMMARY:Great Expectations - What CEO's want from their PR investment
DESCRIPTION:While few CEO’s directly manage communications\, PR is one of the most scrutinised budget lines in Australian businesses. In the age of global brands\, the proliferation of media channels and shifting goal posts of modern business communications have elevated PR to a boardroom concern. \nCEO’s today demand greater transparency\, accountability and return on investment on their PR investment than ever before. \nFormer Age business journalist and founder of icon.pr\, Joanne Painter\, shares her insights and strategies for engaging c-suite executives in the PR journey – and offers some tactics for building engagement in PR from the top down. \nIn this interactive workshop we will also explore: \n\nWhat CEO’s really think about PR (and why are so many afraid of it)\nWhy PR should matter to CEO’s\nHow to convince your CEO to invest in PR\nWhen to engage your c-suite in the PR journey
URL:https://marketing.com.au/event/great-expectations-ceos-want-pr-investment/
LOCATION:Icon PR\, 132a Gwynne St\, Cremorne\, Melbourne\, Victoria\, 3121\, Australia
CATEGORIES:All Event Locations,All Event Topics,All Event Types,Melbourne,Presentation,Public Relations
END:VEVENT
BEGIN:VEVENT
DTSTART;VALUE=DATE:20150209
DTEND;VALUE=DATE:20150312
DTSTAMP:20260420T042742
CREATED:20150116T062244Z
LAST-MODIFIED:20150116T062244Z
UID:6380-1423440000-1426118399@marketing.com.au
SUMMARY:PRIA Summer Master Class
DESCRIPTION:The Public Relations Institute of Australia (PRIA) is proud to offer this 3 day intensive PRIA Summer Master Class to guide the PR leaders of the future. \nWhy? \n\nGain a competitive edge over others in the industry\nLearn from industry leaders\nBecome the next industry leader\nUpgrade your status\, and move up in the PR world. 24 CPD points are on offer.\n\nUpon completion\, graduates will also receive a certificate. \nWho? Whether you are an emerging practitioner and PR professional\, you will get fast insights\, strategies and tools to jump to the next level. \nHow? Prices from $1\,399 will give you a three-day investment which includes: \n\n7 facilitators\nAll work materials;\nThree full days of refreshments; and\nA chance to mingle with PR professionals.\n\nNumbers are limited to 25\, so you will have the opportunity to ask questions and explore issues of particular interest to your career and organisation.
URL:https://marketing.com.au/event/pria-summer-master-class/
LOCATION:Rydges Hotel Sydney\, 28 Albion Street\, Sydney\, New South Wales\, 2010\, Australia
CATEGORIES:All Event Locations,All Event Topics,All Event Types,Conference,Public Relations,Sydney
END:VEVENT
BEGIN:VEVENT
DTSTART;TZID=Australia/Melbourne:20141111T180000
DTEND;TZID=Australia/Melbourne:20141111T210000
DTSTAMP:20260420T042742
CREATED:20141030T033820Z
LAST-MODIFIED:20141030T033820Z
UID:6067-1415728800-1415739600@marketing.com.au
SUMMARY:EMV Event - Get Ahead in Your Career
DESCRIPTION:If you are looking to get ahead in your career\, this event will help you to improve your study and career prospects to stand out from the crowd. You will learn some tools to help you shape your career and have the opportunity to network with new and experienced marketers from a range of different industries. \nSpeakers: John Hall – Professor of Marketing\, and Wayne Binney – Course Director Master of Marketing & Associate Professor of Marketing Shelia Allen\, Principal Consultant Gregory Allen\, Founder of NotedCareers Amie Wood\, Senior Brand Manager – Shelf Sauces\, Simplot
URL:https://marketing.com.au/event/emv-event-get-ahead-career/
LOCATION:Deakin Prime\, Level 3\, 550 Bourke Street\, Melbourne\, Victoria\, 3000\, Australia
CATEGORIES:All Event Locations,All Event Topics,All Event Types,Content Marketing,Digital Marketing,Graphic Design,Market Research,Marketing,Melbourne,Presentation,Public Relations,SEO,Social Media,Workshop
END:VEVENT
END:VCALENDAR