BEGIN:VCALENDAR
VERSION:2.0
PRODID:-//Marketing.com.au - ECPv6.15.20//NONSGML v1.0//EN
CALSCALE:GREGORIAN
METHOD:PUBLISH
X-ORIGINAL-URL:https://marketing.com.au
X-WR-CALDESC:Events for Marketing.com.au
REFRESH-INTERVAL;VALUE=DURATION:PT1H
X-Robots-Tag:noindex
X-PUBLISHED-TTL:PT1H
BEGIN:VTIMEZONE
TZID:Australia/Melbourne
BEGIN:STANDARD
TZOFFSETFROM:+1100
TZOFFSETTO:+1000
TZNAME:AEST
DTSTART:20170401T160000
END:STANDARD
BEGIN:DAYLIGHT
TZOFFSETFROM:+1000
TZOFFSETTO:+1100
TZNAME:AEDT
DTSTART:20170930T160000
END:DAYLIGHT
BEGIN:STANDARD
TZOFFSETFROM:+1100
TZOFFSETTO:+1000
TZNAME:AEST
DTSTART:20180331T160000
END:STANDARD
BEGIN:DAYLIGHT
TZOFFSETFROM:+1000
TZOFFSETTO:+1100
TZNAME:AEDT
DTSTART:20181006T160000
END:DAYLIGHT
BEGIN:STANDARD
TZOFFSETFROM:+1100
TZOFFSETTO:+1000
TZNAME:AEST
DTSTART:20190406T160000
END:STANDARD
BEGIN:DAYLIGHT
TZOFFSETFROM:+1000
TZOFFSETTO:+1100
TZNAME:AEDT
DTSTART:20191005T160000
END:DAYLIGHT
END:VTIMEZONE
BEGIN:VEVENT
DTSTART;VALUE=DATE:20180627
DTEND;VALUE=DATE:20180630
DTSTAMP:20260422T082640
CREATED:20180501T143246Z
LAST-MODIFIED:20180501T143246Z
UID:11550-1530057600-1530316799@marketing.com.au
SUMMARY:Corporate Communications Leadership Forum
DESCRIPTION:It is known that corporate communications has a role to play in managing internal and external communications\, it is a big part in driving company reputation objectives and ensuring a cohesive strategy to engage stakeholders. As a result\, Corporate Communications teams continue to evolve. \nThis is a unique event that will explore some of the most exciting case studies and innovative strategies to strengthen leadership skills in engagement and communication. This event will address the challenges being faced today and uncover the knowledge\, strategies and technology to improve the impact and value of corporate communications efforts. \nAttend this practical forum and learn how to: \n\nAdapt current corporate communications strategies to the changing social media landscape\nMake a case for corporate communications in the C-suite\nMeasure external communication outcomes\nDevelop new systematic corporate communication approaches to help manage crisis situations. Plus more…
URL:https://marketing.com.au/event/corporate-communications-leadership-forum/
LOCATION:Novotel on Collins\, 270 Collins Street\, Melbourne\, VIC\, 3000\, Australia
CATEGORIES:All Event Locations,All Event Topics,All Event Types,Conference,Content Marketing,Market Research,Marketing,Public Relations
END:VEVENT
END:VCALENDAR